Workbook

Sheet ítem a ítem inicial CP 010-26
F2: UNIVERSIDAD DISTRITAL FRANCISCO JOSE DE CALDAS
F3: CONVOCATORIA PÚBLICA No. 010 DE 2026
F4: CONTRATAR LA ADQUISICIÓN, INSTALACIÓN Y CONFIGURACIÓN DE EQUIPOS ROBUSTOS Y MENORES, DESTINADOS A LAS UNIDADES ACADÉMICAS DE LABORATORIOS DE LAS FACULTADES DE INGENIERÍA, TECNOLÓGICA, CIENCIAS Y EDUCACIÓN, ARTES –ASAB Y CIENCIAS DE LA SALUD, DE LA UNIVERSIDAD DISTRITAL FRANCISCO JOSÉ DE CALDAS, DE ACUERDO CON LAS CONDICIONES Y ESPECIFICACIONES TÉCNICAS ESTABLECIDAS.
F5: EVALUACIÓN TÉCNICA ÍTEM A ÍTEM
B6: ITEM | C6: FACULTAD | D6: LABORATORIO DE DESTINO | E6: UBICACIÓN DEL LABORATORIO | F6: NOMBRE EQUIPO | G6: CANTIDAD | H6: =VALORES!H6 -> 1. SUCONEL NIT: 890.943.055-0 | I6: =VALORES!I6 -> 2. C.I. GLOBAL SCIENTIFIC S.A.S NIT.: 830.067.880 - 4 | J6: =VALORES!J6 -> 3. GALILEO INSTRUMENTS S.A.S NIT : 900393949-4 | K6: =VALORES!K6 -> 4. CASA HERMES LTDA NIT: 890.204.286-5 | L6: =VALORES!L6 -> 5. GEOINSTRUMENTOS TOPOGRAFICOS SAS NIT: 900.410.611-4 | M6: =VALORES!M6 -> 6.DIDACTICOS Y LIBROS DIDACLIBROS LTDA NIT: 800.036.678-0 | N6: =VALORES!N6 -> 7. INSTRUMENTACIÓN Y SERVICIOS S.A.S. - NIT.: 830505910-7 | U6: PRESENTA O DESIERTO | V6: VALORES DESIERTOS | W6: CANTIDAD OFERTAS
B7: 1 | C7: TECNOLÓGICA | D7: LABORATORIO DE ELECTRÓNICA | E7: EDIFICIO TECHNÉ, PISO 6 | F7: CALIBRADOR DE PROCESOS PORTATIL | G7: 2 | H7: CUMPLE | K7: CUMPLE | N7: CUMPLE | U7: =IF(COUNTIF(A7:T7, "presenta")>0, "PRESENTA", "DESIERTO") -> DESIERTO | W7: =COUNTIF(A7:T7, "PRESENTA") -> 0
B8: 2 | C8: TECNOLÓGICA | D8: LABORATORIO DE ELECTRÓNICA | E8: EDIFICIO TECHNÉ, PISO 6 | F8: EMPALMADORA POR FUSIÓN DE NÚCLEO PARA FIBRA ÓPTICA | G8: 1 | K8: CUMPLE | U8: =IF(COUNTIF(A8:T8, "presenta")>0, "PRESENTA", "DESIERTO") -> DESIERTO | W8: =COUNTIF(A8:T8, "PRESENTA") -> 0
B9: 3 | C9: TECNOLÓGICA | D9: LABORATORIO GESTIÓN DE LA PRODUCCIÓN INDUSTRIAL | E9: EDIFICIO TECHNE 3ER PISO, Diseño de Producto | F9: IMPRESORA 3D FILAMENTO | G9: 2 | N9: CUMPLE | U9: =IF(COUNTIF(A9:T9, "presenta")>0, "PRESENTA", "DESIERTO") -> DESIERTO | W9: =COUNTIF(A9:T9, "PRESENTA") -> 0
B10: 4 | C10: TECNOLÓGICA | D10: LABORATORIOS DE ELÉCTRICA - LABORATORIO APLICADO DE MÁQUINAS ELÉCTRICAS LABORATORIOS DE ELÉCTRICA - LABORATORIO APLICADO DE CIRCUITOS, ELECTRÓNICA Y CONTROL LABORATORIOS DE ELÉCTRICA - LABORATORIO ESPECIALIZADO DE SISTEMAS ELÉCTRICOS | E10: EDIFICIO TECHNÉ, PISO 3 | F10: SONDAS DE OSCILOSCOPIO | G10: 12 | U10: =IF(COUNTIF(A10:T10, "presenta")>0, "PRESENTA", "DESIERTO") -> DESIERTO | W10: =COUNTIF(A10:T10, "PRESENTA") -> 0
B11: 5 | C11: TECNOLÓGICA | D11: LABORATORIOS DE ELÉCTRICA - LABORATORIO ESPECIALIZADO DE SISTEMAS ELÉCTRICOS LABORATORIOS DE ELÉCTRICA - LABORATORIO ESPECIALIZADO DE SISTEMAS DE POTENCIA Y SMART GRID | E11: EDIFICIO TECHNÉ, PISO 3 | F11: MULTÍMETRO DIGITAL TRUE RMS | G11: 10 | H11: CUMPLE | K11: CUMPLE | N11: CUMPLE | U11: =IF(COUNTIF(A11:T11, "presenta")>0, "PRESENTA", "DESIERTO") -> DESIERTO | W11: =COUNTIF(A11:T11, "PRESENTA") -> 0
B12: 6 | C12: CIENCIA Y EDUCACION | D12: FOTOGRAFÍA Y VIDEO | E12: SEDE PORVENIR | F12: KIT CÁMARA FOTOGRÁFICA Y LENTE | G12: 7 | N12: CUMPLE | U12: =IF(COUNTIF(A12:T12, "presenta")>0, "PRESENTA", "DESIERTO") -> DESIERTO | W12: =COUNTIF(A12:T12, "PRESENTA") -> 0
B13: 7 | C13: CIENCIA Y EDUCACION | D13: COMUNICACIÓN SOCIAL Y PERIODISMO | E13: SEDE PORVENIR | F13: KIT CÁMARA FOTOGRÁFICA Y LENTE | G13: 4 | N13: CUMPLE | U13: =IF(COUNTIF(A13:T13, "presenta")>0, "PRESENTA", "DESIERTO") -> DESIERTO | W13: =COUNTIF(A13:T13, "PRESENTA") -> 0
B14: 8 | C14: CIENCIA Y EDUCACION | D14: COMUNICACIÓN SOCIAL Y PERIODISMO | E14: SEDE PORVENIR | F14: TARJETA DE MEMORIA SD | G14: 6 | U14: =IF(COUNTIF(A14:T14, "presenta")>0, "PRESENTA", "DESIERTO") -> DESIERTO | W14: =COUNTIF(A14:T14, "PRESENTA") -> 0
B15: 9 | C15: CIENCIA Y EDUCACION | D15: AULA 3EXPERIMETAL ASISTDA | E15: SALÓN 606 | F15: TRIPODE | G15: 1 | U15: =IF(COUNTIF(A15:T15, "presenta")>0, "PRESENTA", "DESIERTO") -> DESIERTO | W15: =COUNTIF(A15:T15, "PRESENTA") -> 0
B16: 10 | C16: CIENCIA Y EDUCACION | D16: LICENCIATURA EN EDUACIÓN ARTÍSTICA | E16: MACARENA A 705 - 706 | F16: PRENSA MANUAL PARA LITOGRAFÍA Y GRABADO DE FORMATO PEQUEÑO | G16: 1 | N16: CUMPLE | U16: =IF(COUNTIF(A16:T16, "presenta")>0, "PRESENTA", "DESIERTO") -> DESIERTO | W16: =COUNTIF(A16:T16, "PRESENTA") -> 0
B17: 11 | C17: CIENCIA Y EDUCACION | D17: LICENCIATURA EN EDUACIÓN ARTÍSTICA | E17: MACARENA A 705 - 706 | F17: PRENSA MANUAL DE SERIGRAFÍA DE MESA CON BISAGRAS | G17: 1 | U17: =IF(COUNTIF(A17:T17, "presenta")>0, "PRESENTA", "DESIERTO") -> DESIERTO | V17: 24039996 | W17: =COUNTIF(A17:T17, "PRESENTA") -> 0
B18: 12 | C18: CIENCIA Y EDUCACION | D18: LICENCIATURA EN EDUACIÓN ARTÍSTICA | E18: MACARENA A 705 - 706 | F18: PLANCHA TÉRMICA PARA SUBLIMACIÓN Y TRANSFERENCIA | G18: 1 | U18: =IF(COUNTIF(A18:T18, "presenta")>0, "PRESENTA", "DESIERTO") -> DESIERTO | W18: =COUNTIF(A18:T18, "PRESENTA") -> 0
B19: 13 | C19: aunq | D19: LICENCIATURA EN EDUACIÓN ARTÍSTICA | E19: MACARENA A 705 - 706 | F19: BASTIDORES DE SERIGRAFÍA CON MALLA PARA REVELADO Y ESTAMPACIÓN | G19: 5 | U19: =IF(COUNTIF(A19:T19, "presenta")>0, "PRESENTA", "DESIERTO") -> DESIERTO | W19: =COUNTIF(A19:T19, "PRESENTA") -> 0
B20: 14 | C20: CIENCIA Y EDUCACION | D20: LICENCIATURA EN EDUACIÓN ARTÍSTICA | E20: MACARENA A 705 - 706 | F20: KIT EDUCATIVO COMPLETO PARA PROCESOS DE SERIGRAFÍA ARTÍSTICA | G20: 14 | U20: =IF(COUNTIF(A20:T20, "presenta")>0, "PRESENTA", "DESIERTO") -> DESIERTO | W20: =COUNTIF(A20:T20, "PRESENTA") -> 0
B21: 15 | C21: CIENCIA Y EDUCACION | D21: LABORATORIO DE ARCHIVISTICA Y HUMANIDADES DIGITALES | E21: BOSA PORVENIR | F21: SCANNER DEPARTAMENTAL | G21: 2 | U21: =IF(COUNTIF(A21:T21, "presenta")>0, "PRESENTA", "DESIERTO") -> DESIERTO | W21: =COUNTIF(A21:T21, "PRESENTA") -> 0
B22: 16 | C22: CIENCIA Y EDUCACION | D22: LABORATORIO DE ARCHIVISTICA Y HUMANIDADES DIGITALES | E22: BOSA PORVENIR | F22: SCANNER DE LIBROS | G22: 2 | U22: =IF(COUNTIF(A22:T22, "presenta")>0, "PRESENTA", "DESIERTO") -> DESIERTO | W22: =COUNTIF(A22:T22, "PRESENTA") -> 0
B23: 17 | C23: CIENCIA Y EDUCACION | D23: LABORATORIO DE ARCHIVISTICA Y HUMANIDADES DIGITALES | E23: BOSA PORVENIR | F23: LECTORES DE CD Y DVD | G23: 10 | U23: =IF(COUNTIF(A23:T23, "presenta")>0, "PRESENTA", "DESIERTO") -> DESIERTO | W23: =COUNTIF(A23:T23, "PRESENTA") -> 0
B24: 18 | C24: CIENCIA Y EDUCACION | D24: LABORATORIO DE ARCHIVISTICA Y HUMANIDADES DIGITALES | E24: BOSA PORVENIR | F24: DESHUMIDIFICADOR | G24: 1 | U24: =IF(COUNTIF(A24:T24, "presenta")>0, "PRESENTA", "DESIERTO") -> DESIERTO | W24: =COUNTIF(A24:T24, "PRESENTA") -> 0
B25: 19 | C25: CIENCIA Y EDUCACION | D25: CENTRO AUDIOVISUALES Y AUDITORIOS | E25: MACARENA A OFICIAN 340 | F25: DMX INALÁMBRICO DE 8 PIEZAS | G25: 2 | U25: =IF(COUNTIF(A25:T25, "presenta")>0, "PRESENTA", "DESIERTO") -> DESIERTO | W25: =COUNTIF(A25:T25, "PRESENTA") -> 0
B26: 20 | C26: CIENCIA Y EDUCACION | D26: CENTRO AUDIOVISUALES Y AUDITORIOS | E26: MACARENA A OFICIAN 340 | F26: INTERFAZ SISTEMA DE CONTROLADOR DMX | G26: 1 | U26: =IF(COUNTIF(A26:T26, "presenta")>0, "PRESENTA", "DESIERTO") -> DESIERTO | W26: =COUNTIF(A26:T26, "PRESENTA") -> 0
B27: 21 | C27: CIENCIA Y EDUCACION | D27: CENTRO AUDIOVISUALES Y AUDITORIOS | E27: MACARENA A OFICIAN 340 | F27: PAR LED PROFESIONAL | G27: 3 | U27: =IF(COUNTIF(A27:T27, "presenta")>0, "PRESENTA", "DESIERTO") -> DESIERTO | V27: 67830000 | W27: =COUNTIF(A27:T27, "PRESENTA") -> 0
B28: 22 | C28: CIENCIA Y EDUCACION | D28: CENTRO AUDIOVISUALES Y AUDITORIOS | E28: MACARENA A OFICIAN 340 | F28: BARRA LED PROFESIONAL HEX (RGBWA+UV) | G28: 2 | U28: =IF(COUNTIF(A28:T28, "presenta")>0, "PRESENTA", "DESIERTO") -> DESIERTO | V28: 0 | W28: =COUNTIF(A28:T28, "PRESENTA") -> 0
B29: 23 | C29: CIENCIA Y EDUCACION | D29: CENTRO AUDIOVISUALES Y AUDITORIOS | E29: MACARENA A OFICIAN 340 | F29: MOVING HEAD PROFESIONAL LED 200W CON ZOOM MOTORIZADO | G29: 2 | U29: =IF(COUNTIF(A29:T29, "presenta")>0, "PRESENTA", "DESIERTO") -> DESIERTO | V29: 0 | W29: =COUNTIF(A29:T29, "PRESENTA") -> 0
B30: 24 | C30: CIENCIA Y EDUCACION | D30: CENTRO AUDIOVISUALES Y AUDITORIOS | E30: MACARENA A OFICIAN 340 | F30: INTIMIDATOR SPOT 160 ILS – MOVING HEAD LED PROFESIONAL 160W | G30: 2 | U30: =IF(COUNTIF(A30:T30, "presenta")>0, "PRESENTA", "DESIERTO") -> DESIERTO | W30: =COUNTIF(A30:T30, "PRESENTA") -> 0
B31: 25 | C31: CIENCIA Y EDUCACION | D31: CENTRO AUDIOVISUALES Y AUDITORIOS | E31: MACARENA A OFICIAN 340 | F31: CONTROLADOR DE ACCIONES PROGRAMABLES | G31: 1 | U31: =IF(COUNTIF(A31:T31, "presenta")>0, "PRESENTA", "DESIERTO") -> DESIERTO | V31: 22529477 | W31: =COUNTIF(A31:T31, "PRESENTA") -> 0
B32: 26 | C32: CIENCIA Y EDUCACION | D32: CENTRO AUDIOVISUALES Y AUDITORIOS | E32: MACARENA A OFICIAN 340 | F32: ESCÁNER DIGITAL MULTIFORMATO PARA LECTURA DE CÓDIGOS DE BARRAS, QR Y DOCUMENTOS DE IDENTIFICACIÓN INALAMBRICO | G32: 3 | U32: =IF(COUNTIF(A32:T32, "presenta")>0, "PRESENTA", "DESIERTO") -> DESIERTO | W32: =COUNTIF(A32:T32, "PRESENTA") -> 0
B33: 27 | C33: FACULTAD DE CIENCIAS DE LA SALUD | D33: LABORATORIO DE SIMULACION | E33: CALLE 52 SUR # 93D - 97 (BOSA EL PORVENIR, BOGOTÁ). 4TO PISO - BLOQUE 3 | F33: BRAZO PARA VENOPULSION (BRAZO ADULTO) | G33: 10 | M33: CUMPLE | U33: =IF(COUNTIF(A33:T33, "presenta")>0, "PRESENTA", "DESIERTO") -> DESIERTO | W33: =COUNTIF(A33:T33, "PRESENTA") -> 0
B34: 28 | C34: FACULTAD DE CIENCIAS DE LA SALUD | D34: LABORATORIO DE SIMULACION | E34: CALLE 52 SUR # 93D - 97 (BOSA EL PORVENIR, BOGOTÁ). 4TO PISO - BLOQUE 3 | F34: BRAZO DE ENTRENAMIENTO PEDIÁTRICO | G34: 10 | M34: CUMPLE | U34: =IF(COUNTIF(A34:T34, "presenta")>0, "PRESENTA", "DESIERTO") -> DESIERTO | W34: =COUNTIF(A34:T34, "PRESENTA") -> 0
B35: 29 | C35: FACULTAD DE CIENCIAS DE LA SALUD | D35: LABORATORIO DE SIMULACION | E35: CALLE 52 SUR # 93D - 97 (BOSA EL PORVENIR, BOGOTÁ). 4TO PISO - BLOQUE 3 | F35: MONITOR DE PACIENTE SIMULADO | G35: 1 | M35: CUMPLE | U35: =IF(COUNTIF(A35:T35, "presenta")>0, "PRESENTA", "DESIERTO") -> DESIERTO | W35: =COUNTIF(A35:T35, "PRESENTA") -> 0
B36: 30 | C36: FACULTAD DE CIENCIAS DE LA SALUD | D36: LABORATORIO DE SIMULACION | E36: CALLE 52 SUR # 93D - 97 (BOSA EL PORVENIR, BOGOTÁ). 4TO PISO - BLOQUE 3 | F36: CARRO DE PARO Y EMERGENCIAS | G36: 1 | M36: CUMPLE | U36: =IF(COUNTIF(A36:T36, "presenta")>0, "PRESENTA", "DESIERTO") -> DESIERTO | W36: =COUNTIF(A36:T36, "PRESENTA") -> 0
B37: 31 | C37: FACULTAD DE CIENCIAS DE LA SALUD | D37: LABORATORIO DE SIMULACION | E37: CALLE 52 SUR # 93D - 97 (BOSA EL PORVENIR, BOGOTÁ). 4TO PISO - BLOQUE 3 | F37: BOMBA DE INFUSIÓN | G37: 3 | M37: CUMPLE | U37: =IF(COUNTIF(A37:T37, "presenta")>0, "PRESENTA", "DESIERTO") -> DESIERTO | V37: 157859254 | W37: =COUNTIF(A37:T37, "PRESENTA") -> 0
B38: 32 | C38: FACULTAD DE CIENCIAS DE LA SALUD | D38: LABORATORIO DE SIMULACION | E38: CALLE 52 SUR # 93D - 97 (BOSA EL PORVENIR, BOGOTÁ). 4TO PISO - BLOQUE 3 | F38: SUCCIONADOR PORTÁTIL | G38: 3 | M38: CUMPLE | U38: =IF(COUNTIF(A38:T38, "presenta")>0, "PRESENTA", "DESIERTO") -> DESIERTO | V38: 6680517 | W38: =COUNTIF(A38:T38, "PRESENTA") -> 0
B39: 33 | C39: FACULTAD DE CIENCIAS DE LA SALUD | D39: LABORATORIO DE SIMULACION | E39: CALLE 52 SUR # 93D - 97 (BOSA EL PORVENIR, BOGOTÁ). 4TO PISO - BLOQUE 3 | F39: KIT DE SIMULACIÓN DE HERIDAS | G39: 3 | M39: CUMPLE | U39: =IF(COUNTIF(A39:T39, "presenta")>0, "PRESENTA", "DESIERTO") -> DESIERTO | W39: =COUNTIF(A39:T39, "PRESENTA") -> 0
B40: 34 | C40: FACULTAD DE CIENCIAS DE LA SALUD | D40: LABORATORIO DE SIMULACION | E40: CALLE 52 SUR # 93D - 97 (BOSA EL PORVENIR, BOGOTÁ). 4TO PISO - BLOQUE 3 | F40: ELECTROCARDIÓGRAFO | G40: 1 | M40: CUMPLE | U40: =IF(COUNTIF(A40:T40, "presenta")>0, "PRESENTA", "DESIERTO") -> DESIERTO | W40: =COUNTIF(A40:T40, "PRESENTA") -> 0
B41: 35 | C41: FACULTAD DE CIENCIAS DE LA SALUD | D41: LABORATORIO DE SIMULACION | E41: CALLE 52 SUR # 93D - 97 (BOSA EL PORVENIR, BOGOTÁ). 4TO PISO - BLOQUE 3 | F41: RESUCITADOR MANUAL (BVM) PEDIATRICO | G41: 2 | M41: CUMPLE | U41: =IF(COUNTIF(A41:T41, "presenta")>0, "PRESENTA", "DESIERTO") -> DESIERTO | W41: =COUNTIF(A41:T41, "PRESENTA") -> 0
...

Sheet VALORES
F2: UNIVERSIDAD DISTRITAL FRANCISCO JOSE DE CALDAS
F3: CONVOCATORIA PÚBLICA No. 010 DE 2025
F4: CONTRATAR LA ADQUISICIÓN, INSTALACIÓN DE EQUIPOS ROBUSTOS Y MENORES, DESTINADOS A LAS UNIDADES ACADÉMICAS DE LABORATORIOS DE LAS DIFERENTES FACULTADES DE LA UNIVERSIDAD DISTRITAL FRANCISCO JOSÉ DE CALDAS, DE ACUERDO CON LAS CONDICIONES Y ESPECIFICACIONES TÉCNICAS ESTABLECIDAS
B6: ITEM | C6: FACULTAD | D6: LABORATORIO DE DESTINO | E6: UBICACIÓN DEL LABORATORIO | F6: NOMBRE EQUIPO | G6: CANTIDAD | H6: =EQUIPO!A2 -> 1. SUCONEL NIT: 890.943.055-0 | I6: =EQUIPO!A3 -> 2. C.I. GLOBAL SCIENTIFIC S.A.S NIT.: 830.067.880 - 4 | J6: =EQUIPO!A4 -> 3. GALILEO INSTRUMENTS S.A.S NIT : 900393949-4 | K6: =EQUIPO!A5 -> 4. CASA HERMES LTDA NIT: 890.204.286-5 | L6: =EQUIPO!A6 -> 5. GEOINSTRUMENTOS TOPOGRAFICOS SAS NIT: 900.410.611-4 | M6: =EQUIPO!A7 -> 6.DIDACTICOS Y LIBROS DIDACLIBROS LTDA NIT: 800.036.678-0 | N6: =EQUIPO!A8 -> 7. INSTRUMENTACIÓN Y SERVICIOS S.A.S. - NIT.: 830505910-7 | O6: PRESENTA O DESIERTA | P6: VALORES DESIERTOS | Q6: CANTIDAD OFERTAS
B7: 1 | C7: TECNOLÓGICA | D7: LABORATORIO DE ELECTRÓNICA | E7: EDIFICIO TECHNÉ, PISO 6 | F7: CALIBRADOR DE PROCESOS PORTATIL | G7: 2 | H7: 12556404 | K7: 8636544 | N7: 12605430 | O7: =IF(OR(COUNTIF(H7:N7, "presenta")>0, COUNT(H7:N7)>0), "PRESENTA", "DESIERTO") -> PRESENTA | Q7: =COUNTA(H7:N7) -> 3
B8: 2 | C8: TECNOLÓGICA | D8: LABORATORIO DE ELECTRÓNICA | E8: EDIFICIO TECHNÉ, PISO 6 | F8: EMPALMADORA POR FUSIÓN DE NÚCLEO PARA FIBRA ÓPTICA | G8: 1 | K8: 34422892 | O8: =IF(OR(COUNTIF(H8:N8, "presenta")>0, COUNT(H8:N8)>0), "PRESENTA", "DESIERTO") -> PRESENTA | Q8: =COUNTA(H8:N8) -> 1
B9: 3 | C9: TECNOLÓGICA | D9: LABORATORIO GESTIÓN DE LA PRODUCCIÓN INDUSTRIAL | E9: EDIFICIO TECHNE 3ER PISO, Diseño de Producto | F9: IMPRESORA 3D FILAMENTO | G9: 2 | N9: 12131236 | O9: =IF(OR(COUNTIF(H9:N9, "presenta")>0, COUNT(H9:N9)>0), "PRESENTA", "DESIERTO") -> PRESENTA | Q9: =COUNTA(H9:N9) -> 1
B10: 4 | C10: TECNOLÓGICA | D10: LABORATORIOS DE ELÉCTRICA - LABORATORIO APLICADO DE MÁQUINAS ELÉCTRICAS LABORATORIOS DE ELÉCTRICA - LABORATORIO APLICADO DE CIRCUITOS, ELECTRÓNICA Y CONTROL LABORATORIOS DE ELÉCTRICA - LABORATORIO ESPECIALIZADO DE SISTEMAS ELÉCTRICOS | E10: EDIFICIO TECHNÉ, PISO 3 | F10: SONDAS DE OSCILOSCOPIO | G10: 12 | O10: =IF(OR(COUNTIF(H10:N10, "presenta")>0, COUNT(H10:N10)>0), "PRESENTA", "DESIERTO") -> DESIERTO | Q10: =COUNTA(H10:N10) -> 0
B11: 5 | C11: TECNOLÓGICA | D11: LABORATORIOS DE ELÉCTRICA - LABORATORIO ESPECIALIZADO DE SISTEMAS ELÉCTRICOS LABORATORIOS DE ELÉCTRICA - LABORATORIO ESPECIALIZADO DE SISTEMAS DE POTENCIA Y SMART GRID | E11: EDIFICIO TECHNÉ, PISO 3 | F11: MULTÍMETRO DIGITAL TRUE RMS | G11: 10 | H11: 32115720 | K11: 33377120 | N11: 39584220 | O11: =IF(OR(COUNTIF(H11:N11, "presenta")>0, COUNT(H11:N11)>0), "PRESENTA", "DESIERTO") -> PRESENTA | Q11: =COUNTA(H11:N11) -> 3
B12: 6 | C12: CIENCIA Y EDUCACION | D12: FOTOGRAFÍA Y VIDEO | E12: SEDE PORVENIR | F12: KIT CÁMARA FOTOGRÁFICA Y LENTE | G12: 7 | N12: 102462207 | O12: =IF(OR(COUNTIF(H12:N12, "presenta")>0, COUNT(H12:N12)>0), "PRESENTA", "DESIERTO") -> PRESENTA | Q12: =COUNTA(H12:N12) -> 1
B13: 7 | C13: CIENCIA Y EDUCACION | D13: COMUNICACIÓN SOCIAL Y PERIODISMO | E13: SEDE PORVENIR | F13: KIT CÁMARA FOTOGRÁFICA Y LENTE | G13: 4 | N13: 53045264 | O13: =IF(OR(COUNTIF(H13:N13, "presenta")>0, COUNT(H13:N13)>0), "PRESENTA", "DESIERTO") -> PRESENTA | Q13: =COUNTA(H13:N13) -> 1
B14: 8 | C14: CIENCIA Y EDUCACION | D14: COMUNICACIÓN SOCIAL Y PERIODISMO | E14: SEDE PORVENIR | F14: TARJETA DE MEMORIA SD | G14: 6 | O14: =IF(OR(COUNTIF(H14:N14, "presenta")>0, COUNT(H14:N14)>0), "PRESENTA", "DESIERTO") -> DESIERTO | Q14: =COUNTA(H14:N14) -> 0
B15: 9 | C15: CIENCIA Y EDUCACION | D15: AULA 3EXPERIMETAL ASISTDA | E15: SALÓN 606 | F15: TRIPODE | G15: 1 | O15: =IF(OR(COUNTIF(H15:N15, "presenta")>0, COUNT(H15:N15)>0), "PRESENTA", "DESIERTO") -> DESIERTO | Q15: =COUNTA(H15:N15) -> 0
B16: 10 | C16: CIENCIA Y EDUCACION | D16: LICENCIATURA EN EDUACIÓN ARTÍSTICA | E16: MACARENA A 705 - 706 | F16: PRENSA MANUAL PARA LITOGRAFÍA Y GRABADO DE FORMATO PEQUEÑO | G16: 1 | N16: 13489783 | O16: =IF(OR(COUNTIF(H16:N16, "presenta")>0, COUNT(H16:N16)>0), "PRESENTA", "DESIERTO") -> PRESENTA | Q16: =COUNTA(H16:N16) -> 1
B17: 11 | C17: CIENCIA Y EDUCACION | D17: LICENCIATURA EN EDUACIÓN ARTÍSTICA | E17: MACARENA A 705 - 706 | F17: PRENSA MANUAL DE SERIGRAFÍA DE MESA CON BISAGRAS | G17: 1 | O17: =IF(OR(COUNTIF(H17:N17, "presenta")>0, COUNT(H17:N17)>0), "PRESENTA", "DESIERTO") -> DESIERTO | Q17: =COUNTA(H17:N17) -> 0
B18: 12 | C18: CIENCIA Y EDUCACION | D18: LICENCIATURA EN EDUACIÓN ARTÍSTICA | E18: MACARENA A 705 - 706 | F18: PLANCHA TÉRMICA PARA SUBLIMACIÓN Y TRANSFERENCIA | G18: 1 | O18: =IF(OR(COUNTIF(H18:N18, "presenta")>0, COUNT(H18:N18)>0), "PRESENTA", "DESIERTO") -> DESIERTO | Q18: =COUNTA(H18:N18) -> 0
B19: 13 | C19: CIENCIA Y EDUCACION | D19: LICENCIATURA EN EDUACIÓN ARTÍSTICA | E19: MACARENA A 705 - 706 | F19: BASTIDORES DE SERIGRAFÍA CON MALLA PARA REVELADO Y ESTAMPACIÓN | G19: 5 | O19: =IF(OR(COUNTIF(H19:N19, "presenta")>0, COUNT(H19:N19)>0), "PRESENTA", "DESIERTO") -> DESIERTO | Q19: =COUNTA(H19:N19) -> 0
B20: 14 | C20: CIENCIA Y EDUCACION | D20: LICENCIATURA EN EDUACIÓN ARTÍSTICA | E20: MACARENA A 705 - 706 | F20: KIT EDUCATIVO COMPLETO PARA PROCESOS DE SERIGRAFÍA ARTÍSTICA | G20: 14 | O20: =IF(OR(COUNTIF(H20:N20, "presenta")>0, COUNT(H20:N20)>0), "PRESENTA", "DESIERTO") -> DESIERTO | Q20: =COUNTA(H20:N20) -> 0
B21: 15 | C21: CIENCIA Y EDUCACION | D21: LABORATORIO DE ARCHIVISTICA Y HUMANIDADES DIGITALES | E21: BOSA PORVENIR | F21: SCANNER DEPARTAMENTAL | G21: 2 | O21: =IF(OR(COUNTIF(H21:N21, "presenta")>0, COUNT(H21:N21)>0), "PRESENTA", "DESIERTO") -> DESIERTO | Q21: =COUNTA(H21:N21) -> 0
B22: 16 | C22: CIENCIA Y EDUCACION | D22: LABORATORIO DE ARCHIVISTICA Y HUMANIDADES DIGITALES | E22: BOSA PORVENIR | F22: SCANNER DE LIBROS | G22: 2 | O22: =IF(OR(COUNTIF(H22:N22, "presenta")>0, COUNT(H22:N22)>0), "PRESENTA", "DESIERTO") -> DESIERTO | Q22: =COUNTA(H22:N22) -> 0
B23: 17 | C23: CIENCIA Y EDUCACION | D23: LABORATORIO DE ARCHIVISTICA Y HUMANIDADES DIGITALES | E23: BOSA PORVENIR | F23: LECTORES DE CD Y DVD | G23: 10 | O23: =IF(OR(COUNTIF(H23:N23, "presenta")>0, COUNT(H23:N23)>0), "PRESENTA", "DESIERTO") -> DESIERTO | Q23: =COUNTA(H23:N23) -> 0
B24: 18 | C24: CIENCIA Y EDUCACION | D24: LABORATORIO DE ARCHIVISTICA Y HUMANIDADES DIGITALES | E24: BOSA PORVENIR | F24: DESHUMIDIFICADOR | G24: 1 | O24: =IF(OR(COUNTIF(H24:N24, "presenta")>0, COUNT(H24:N24)>0), "PRESENTA", "DESIERTO") -> DESIERTO | Q24: =COUNTA(H24:N24) -> 0
B25: 19 | C25: CIENCIA Y EDUCACION | D25: CENTRO AUDIOVISUALES Y AUDITORIOS | E25: MACARENA A OFICIAN 340 | F25: DMX INALÁMBRICO DE 8 PIEZAS | G25: 2 | O25: =IF(OR(COUNTIF(H25:N25, "presenta")>0, COUNT(H25:N25)>0), "PRESENTA", "DESIERTO") -> DESIERTO | Q25: =COUNTA(H25:N25) -> 0
B26: 20 | C26: CIENCIA Y EDUCACION | D26: CENTRO AUDIOVISUALES Y AUDITORIOS | E26: MACARENA A OFICIAN 340 | F26: INTERFAZ SISTEMA DE CONTROLADOR DMX | G26: 1 | O26: =IF(OR(COUNTIF(H26:N26, "presenta")>0, COUNT(H26:N26)>0), "PRESENTA", "DESIERTO") -> DESIERTO | Q26: =COUNTA(H26:N26) -> 0
B27: 21 | C27: CIENCIA Y EDUCACION | D27: CENTRO AUDIOVISUALES Y AUDITORIOS | E27: MACARENA A OFICIAN 340 | F27: PAR LED PROFESIONAL | G27: 3 | O27: =IF(OR(COUNTIF(H27:N27, "presenta")>0, COUNT(H27:N27)>0), "PRESENTA", "DESIERTO") -> DESIERTO | Q27: =COUNTA(H27:N27) -> 0
B28: 22 | C28: CIENCIA Y EDUCACION | D28: CENTRO AUDIOVISUALES Y AUDITORIOS | E28: MACARENA A OFICIAN 340 | F28: BARRA LED PROFESIONAL HEX (RGBWA+UV) | G28: 2 | O28: =IF(OR(COUNTIF(H28:N28, "presenta")>0, COUNT(H28:N28)>0), "PRESENTA", "DESIERTO") -> DESIERTO | Q28: =COUNTA(H28:N28) -> 0
... B32: 26 | C32: CIENCIA Y EDUCACION | D32: CENTRO AUDIOVISUALES Y AUDITORIOS | E32: MACARENA A OFICIAN 340 | F32: ESCÁNER DIGITAL MULTIFORMATO PARA LECTURA DE CÓDIGOS DE BARRAS, QR Y DOCUMENTOS DE IDENTIFICACIÓN INALAMBRICO | G32: 3 | O32: =IF(OR(COUNTIF(H32:N32, "presenta")>0, COUNT(H32:N32)>0), "PRESENTA", "DESIERTO") -> DESIERTO | Q32: =COUNTA(H32:N32) -> 0
B33: 27 | C33: FACULTAD DE CIENCIAS DE LA SALUD | D33: LABORATORIO DE SIMULACION | E33: CALLE 52 SUR # 93D - 97 (BOSA EL PORVENIR, BOGOTÁ). 4TO PISO - BLOQUE 3 | F33: BRAZO PARA VENOPULSION (BRAZO ADULTO) | G33: 10 | M33: 78540000 | O33: =IF(OR(COUNTIF(H33:N33, "presenta")>0, COUNT(H33:N33)>0), "PRESENTA", "DESIERTO") -> PRESENTA | Q33: =COUNTA(H33:N33) -> 1
B34: 28 | C34: FACULTAD DE CIENCIAS DE LA SALUD | D34: LABORATORIO DE SIMULACION | E34: CALLE 52 SUR # 93D - 97 (BOSA EL PORVENIR, BOGOTÁ). 4TO PISO - BLOQUE 3 | F34: BRAZO DE ENTRENAMIENTO PEDIÁTRICO | G34: 10 | M34: 50099000 | O34: =IF(OR(COUNTIF(H34:N34, "presenta")>0, COUNT(H34:N34)>0), "PRESENTA", "DESIERTO") -> PRESENTA | Q34: =COUNTA(H34:N34) -> 1
B35: 29 | C35: FACULTAD DE CIENCIAS DE LA SALUD | D35: LABORATORIO DE SIMULACION | E35: CALLE 52 SUR # 93D - 97 (BOSA EL PORVENIR, BOGOTÁ). 4TO PISO - BLOQUE 3 | F35: MONITOR DE PACIENTE SIMULADO | G35: 1 | M35: 98175000 | O35: =IF(OR(COUNTIF(H35:N35, "presenta")>0, COUNT(H35:N35)>0), "PRESENTA", "DESIERTO") -> PRESENTA | Q35: =COUNTA(H35:N35) -> 1
B36: 30 | C36: FACULTAD DE CIENCIAS DE LA SALUD | D36: LABORATORIO DE SIMULACION | E36: CALLE 52 SUR # 93D - 97 (BOSA EL PORVENIR, BOGOTÁ). 4TO PISO - BLOQUE 3 | F36: CARRO DE PARO Y EMERGENCIAS | G36: 1 | M36: 3819900 | O36: =IF(OR(COUNTIF(H36:N36, "presenta")>0, COUNT(H36:N36)>0), "PRESENTA", "DESIERTO") -> PRESENTA | Q36: =COUNTA(H36:N36) -> 1
B37: 31 | C37: FACULTAD DE CIENCIAS DE LA SALUD | D37: LABORATORIO DE SIMULACION | E37: CALLE 52 SUR # 93D - 97 (BOSA EL PORVENIR, BOGOTÁ). 4TO PISO - BLOQUE 3 | F37: BOMBA DE INFUSIÓN | G37: 3 | M37: 14994000 | O37: =IF(OR(COUNTIF(H37:N37, "presenta")>0, COUNT(H37:N37)>0), "PRESENTA", "DESIERTO") -> PRESENTA | Q37: =COUNTA(H37:N37) -> 1
B38: 32 | C38: FACULTAD DE CIENCIAS DE LA SALUD | D38: LABORATORIO DE SIMULACION | E38: CALLE 52 SUR # 93D - 97 (BOSA EL PORVENIR, BOGOTÁ). 4TO PISO - BLOQUE 3 | F38: SUCCIONADOR PORTÁTIL | G38: 3 | M38: 13958700 | O38: =IF(OR(COUNTIF(H38:N38, "presenta")>0, COUNT(H38:N38)>0), "PRESENTA", "DESIERTO") -> PRESENTA | Q38: =COUNTA(H38:N38) -> 1
B39: 33 | C39: FACULTAD DE CIENCIAS DE LA SALUD | D39: LABORATORIO DE SIMULACION | E39: CALLE 52 SUR # 93D - 97 (BOSA EL PORVENIR, BOGOTÁ). 4TO PISO - BLOQUE 3 | F39: KIT DE SIMULACIÓN DE HERIDAS | G39: 3 | M39: 25525500 | O39: =IF(OR(COUNTIF(H39:N39, "presenta")>0, COUNT(H39:N39)>0), "PRESENTA", "DESIERTO") -> PRESENTA | Q39: =COUNTA(H39:N39) -> 1
B40: 34 | C40: FACULTAD DE CIENCIAS DE LA SALUD | D40: LABORATORIO DE SIMULACION | E40: CALLE 52 SUR # 93D - 97 (BOSA EL PORVENIR, BOGOTÁ). 4TO PISO - BLOQUE 3 | F40: ELECTROCARDIÓGRAFO | G40: 1 | M40: 7913500 | O40: =IF(OR(COUNTIF(H40:N40, "presenta")>0, COUNT(H40:N40)>0), "PRESENTA", "DESIERTO") -> PRESENTA | Q40: =COUNTA(H40:N40) -> 1
B41: 35 | C41: FACULTAD DE CIENCIAS DE LA SALUD | D41: LABORATORIO DE SIMULACION | E41: CALLE 52 SUR # 93D - 97 (BOSA EL PORVENIR, BOGOTÁ). 4TO PISO - BLOQUE 3 | F41: RESUCITADOR MANUAL (BVM) PEDIATRICO | G41: 2 | M41: 2570400 | O41: =IF(OR(COUNTIF(H41:N41, "presenta")>0, COUNT(H41:N41)>0), "PRESENTA", "DESIERTO") -> PRESENTA | Q41: =COUNTA(H41:N41) -> 1
B42: 36 | C42: FACULTAD DE CIENCIAS DE LA SALUD | D42: LABORATORIO DE SIMULACION | E42: CALLE 52 SUR # 93D - 97 (BOSA EL PORVENIR, BOGOTÁ). 4TO PISO - BLOQUE 3 | F42: RESUCITADOR MANUAL (BVM) | G42: 2 | M42: 2570400 | O42: =IF(OR(COUNTIF(H42:N42, "presenta")>0, COUNT(H42:N42)>0), "PRESENTA", "DESIERTO") -> PRESENTA | Q42: =COUNTA(H42:N42) -> 1
B43: 37 | C43: FACULTAD DE CIENCIAS DE LA SALUD | D43: LABORATORIO DE SIMULACION | E43: CALLE 52 SUR # 93D - 97 (BOSA EL PORVENIR, BOGOTÁ). 4TO PISO - BLOQUE 3 | F43: ENTRENADOR DE VÍA AÉREA | G43: 1 | M43: 17969000 | O43: =IF(OR(COUNTIF(H43:N43, "presenta")>0, COUNT(H43:N43)>0), "PRESENTA", "DESIERTO") -> PRESENTA | Q43: =COUNTA(H43:N43) -> 1
B44: 38 | C44: FACULTAD DE CIENCIAS DE LA SALUD | D44: LABORATORIO DE SIMULACION | E44: CALLE 52 SUR # 93D - 97 (BOSA EL PORVENIR, BOGOTÁ). 4TO PISO - BLOQUE 3 | F44: SIMULADOR SONDA NG Y TRAQUEOSTOMÍA | G44: 3 | M44: 23383500 | O44: =IF(OR(COUNTIF(H44:N44, "presenta")>0, COUNT(H44:N44)>0), "PRESENTA", "DESIERTO") -> PRESENTA | Q44: =COUNTA(H44:N44) -> 1
... B46: 40 | C46: FACULTAD DE CIENCIAS DE LA SALUD | D46: LABORATORIO DE SIMULACION | E46: CALLE 52 SUR # 93D - 97 (BOSA EL PORVENIR, BOGOTÁ). 4TO PISO - BLOQUE 3 | F46: SIMULADOR CATETERISMO | G46: 1 | M46: 19516000 | O46: =IF(OR(COUNTIF(H46:N46, "presenta")>0, COUNT(H46:N46)>0), "PRESENTA", "DESIERTO") -> PRESENTA | Q46: =COUNTA(H46:N46) -> 1
...

Sheet EQUIPO
A1: PROPONENTE | B1: EQUIPO EVALUADOR
A2: 1. SUCONEL NIT: 890.943.055-0
A3: 2. C.I. GLOBAL SCIENTIFIC S.A.S NIT.: 830.067.880 - 4
A4: 3. GALILEO INSTRUMENTS S.A.S NIT : 900393949-4
A5: 4. CASA HERMES LTDA NIT: 890.204.286-5
A6: 5. GEOINSTRUMENTOS TOPOGRAFICOS SAS NIT: 900.410.611-4
A7: 6.DIDACTICOS Y LIBROS DIDACLIBROS LTDA NIT: 800.036.678-0
A8: 7. INSTRUMENTACIÓN Y SERVICIOS S.A.S. - NIT.: 830505910-7

Sheet Hoja1
A2: ROBUSTOS
A3: AUDIOVISUALES
A4: MÚSICA Y SONIDO
A5: COMPUTADORES
A6: SOFTWARE
