Workbook
Name fk: 'ASIGNACION DE PUNTAJE OPCION 2'!$R$8

Sheet ASIGNACION DE PUNTAJE OPCION 2
A2: UNIVERSIDAD DISTRITAL FRANCISCO JOSE DE CALDAS
A3: CONVOCATORIA PÚBLICA No. 006 DE 2021
A4: CONVOCATORIA PÚBLICA No. 010 DE 2025 CONTRATAR LA ADQUISICIÓN, INSTALACIÓN DE EQUIPOS ROBUSTOS Y MENORES, DESTINADOS A LAS UNIDADES ACADÉMICAS DE LABORATORIOS DE LAS DIFERENTES FACULTADES DE LA UNIVERSIDAD DISTRITAL FRANCISCO JOSÉ DE CALDAS, DE ACUERDO CON LAS CONDICIONES Y ESPECIFICACIONES TÉCNICAS ESTABLECIDAS.
I7: OFERTA ECONOMICA | Q7: OFERTA ECONOMICA HABILITADA PRECIO BASE | Y7: REQUISITOS HABILITANTES | AG7: EVALUACION JURIDICA | AO7: EVALUACION FINANCIERA | AW7: CONSOLIDADO EVALUACION HABILITANTE FINACIERA, JURIDICA Y TECNICA | BE7: EVALUACION MARCAS | BM7: EVALUACION ITEM A ITEM | BU7: OFERTAS HABILITADAS | CK7: PUNTAJE DE LA OFERTA ECONÓMICA | CS7: PORCENTAJE DE LA MEDIANA | DA7: DESVIACIÓN DE LA MEDIANA | DI7: CUADRO DE DESVIACIÓN | DR7: PUNTAJE PARCIAL | DZ7: GARANTIA EN MESES | EH7: PUNTAJE GARANTIA | EP7: PUNTAJE OFERTA ECONÓMICA | EW7: PUNTAJE MAXIMO | EX7: PRE1 | EY7: PRE2 | EZ7: PRE3 | FA7: PRE4 | FB7: OFERENTE CON MAYOR PUNTAJE 1 | FC7: OFERENTE CON MAYOR PUNTAJE | FD7: PRE1 | FE7: PRE2 | FF7: PRE3 | FG7: PRE4 | FH7: VALOR ADJUDICADO 1 | FI7: VALOR ADJUDICADO
A8: ITEM | B8: FACULTAD Y/O DEPENDENCIA | C8: LABORATORIO Y/O DEPENDENCIA DESTINO | D8: UBICACIÓN | E8: NOMBRE EQUIPO | F8: CANTIDAD | G8: PRECIO BASE | H8: ITEM | I8: 1. SUCONEL NIT: 890.943.055-0 | J8: 2. C.I. GLOBAL SCIENTIFIC S.A.S NIT.: 830.067.880 - 4 | K8: 3. GALILEO INSTRUMENTS S.A.S NIT : 900393949-4 | L8: 4. CASA HERMES LTDA NIT: 890.204.286-5 | M8: 5. GEOINSTRUMENTOS TOPOGRAFICOS SAS NIT: 900.410.611-4 | N8: 6.DIDACTICOS Y LIBROS DIDACLIBROS LTDA NIT: 800.036.678-0 | O8: 7. INSTRUMENTACIÓN Y SERVICIOS S.A.S. - NIT.: 830505910-7 | P8: ITEM | Q8: 1. SUCONEL NIT: 890.943.055-0 | R8: 2. C.I. GLOBAL SCIENTIFIC S.A.S NIT.: 830.067.880 - 4 | S8: 3. GALILEO INSTRUMENTS S.A.S NIT : 900393949-4 | T8: 4. CASA HERMES LTDA NIT: 890.204.286-5 | U8: 5. GEOINSTRUMENTOS TOPOGRAFICOS SAS NIT: 900.410.611-4 | V8: 6.DIDACTICOS Y LIBROS DIDACLIBROS LTDA NIT: 800.036.678-0 | W8: 7. INSTRUMENTACIÓN Y SERVICIOS S.A.S. - NIT.: 830505910-7 | X8: ITEM | Y8: 1. SUCONEL NIT: 890.943.055-0 | Z8: 2. C.I. GLOBAL SCIENTIFIC S.A.S NIT.: 830.067.880 - 4 | AA8: 3. GALILEO INSTRUMENTS S.A.S NIT : 900393949-4 | AB8: 4. CASA HERMES LTDA NIT: 890.204.286-5 | AC8: 5. GEOINSTRUMENTOS TOPOGRAFICOS SAS NIT: 900.410.611-4 | AD8: 6.DIDACTICOS Y LIBROS DIDACLIBROS LTDA NIT: 800.036.678-0 | AE8: 7. INSTRUMENTACIÓN Y SERVICIOS S.A.S. - NIT.: 830505910-7 | AF8: ITEM | AG8: 1. SUCONEL NIT: 890.943.055-0 | AH8: 2. C.I. GLOBAL SCIENTIFIC S.A.S NIT.: 830.067.880 - 4 | AI8: 3. GALILEO INSTRUMENTS S.A.S NIT : 900393949-4 | AJ8: 4. CASA HERMES LTDA NIT: 890.204.286-5 | AK8: 5. GEOINSTRUMENTOS TOPOGRAFICOS SAS NIT: 900.410.611-4 | AL8: 6.DIDACTICOS Y LIBROS DIDACLIBROS LTDA NIT: 800.036.678-0 | AM8: 7. INSTRUMENTACIÓN Y SERVICIOS S.A.S. - NIT.: 830505910-7 | AN8: ITEM | AO8: 1. SUCONEL NIT: 890.943.055-0 | AP8: 2. C.I. GLOBAL SCIENTIFIC S.A.S NIT.: 830.067.880 - 4 | AQ8: 3. GALILEO INSTRUMENTS S.A.S NIT : 900393949-4 | AR8: 4. CASA HERMES LTDA NIT: 890.204.286-5 | AS8: 5. GEOINSTRUMENTOS TOPOGRAFICOS SAS NIT: 900.410.611-4 | AT8: 6.DIDACTICOS Y LIBROS DIDACLIBROS LTDA NIT: 800.036.678-0 | AU8: 7. INSTRUMENTACIÓN Y SERVICIOS S.A.S. - NIT.: 830505910-7 | AV8: ITEM | AW8: 1. SUCONEL NIT: 890.943.055-0 | AX8: 2. C.I. GLOBAL SCIENTIFIC S.A.S NIT.: 830.067.880 - 4 | AY8: 3. GALILEO INSTRUMENTS S.A.S NIT : 900393949-4 | AZ8: 4. CASA HERMES LTDA NIT: 890.204.286-5 | BA8: 5. GEOINSTRUMENTOS TOPOGRAFICOS SAS NIT: 900.410.611-4 | BB8: 6.DIDACTICOS Y LIBROS DIDACLIBROS LTDA NIT: 800.036.678-0 | BC8: 7. INSTRUMENTACIÓN Y SERVICIOS S.A.S. - NIT.: 830505910-7 | BD8: ITEM | BE8: 1. SUCONEL NIT: 890.943.055-0 | BF8: 2. C.I. GLOBAL SCIENTIFIC S.A.S NIT.: 830.067.880 - 4 | BG8: 3. GALILEO INSTRUMENTS S.A.S NIT : 900393949-4 | BH8: 4. CASA HERMES LTDA NIT: 890.204.286-5 | BI8: 5. GEOINSTRUMENTOS TOPOGRAFICOS SAS NIT: 900.410.611-4 | BJ8: 6.DIDACTICOS Y LIBROS DIDACLIBROS LTDA NIT: 800.036.678-0 | BK8: 7. INSTRUMENTACIÓN Y SERVICIOS S.A.S. - NIT.: 830505910-7 | BL8: ITEM | BM8: 1. SUCONEL NIT: 890.943.055-0 | BN8: 2. C.I. GLOBAL SCIENTIFIC S.A.S NIT.: 830.067.880 - 4 | BO8: 3. GALILEO INSTRUMENTS S.A.S NIT : 900393949-4 | BP8: 4. CASA HERMES LTDA NIT: 890.204.286-5 | BQ8: 5. GEOINSTRUMENTOS TOPOGRAFICOS SAS NIT: 900.410.611-4 | BR8: 6.DIDACTICOS Y LIBROS DIDACLIBROS LTDA NIT: 800.036.678-0 | BS8: 7. INSTRUMENTACIÓN Y SERVICIOS S.A.S. - NIT.: 830505910-7 | BT8: ITEM | BU8: 1. SUCONEL NIT: 890.943.055-0 | BV8: 2. C.I. GLOBAL SCIENTIFIC S.A.S NIT.: 830.067.880 - 4 | BW8: 3. GALILEO INSTRUMENTS S.A.S NIT : 900393949-4 | BX8: 4. CASA HERMES LTDA NIT: 890.204.286-5 | BY8: 5. GEOINSTRUMENTOS TOPOGRAFICOS SAS NIT: 900.410.611-4 | BZ8: 6.DIDACTICOS Y LIBROS DIDACLIBROS LTDA NIT: 800.036.678-0 | CA8: 7. INSTRUMENTACIÓN Y SERVICIOS S.A.S. - NIT.: 830505910-7 | CB8: VB | CC8: VB | CD8: NUMERO DE PROPUESTAS HABILITADAS | CE8: NUMERO DE VECES EN QUE INTERVIENE EL PPTO | CF8: MEDIANA OFERTAS HABILITADAS | CG8: CANTIDAD PAR O IMPAR | CH8: VALOR INFERIOR A LA MEDIANA (SI PAR) | CI8: VALOR DE REFERENCIA (EL QUE RECIBE PUNTAJE MÁXIMO) | CJ8: ITEM | CK8: 1. SUCONEL NIT: 890.943.055-0 | CL8: 2. C.I. GLOBAL SCIENTIFIC S.A.S NIT.: 830.067.880 - 4 | CM8: 3. GALILEO INSTRUMENTS S.A.S NIT : 900393949-4 | CN8: 4. CASA HERMES LTDA NIT: 890.204.286-5 | CO8: 5. GEOINSTRUMENTOS TOPOGRAFICOS SAS NIT: 900.410.611-4 | CP8: 6.DIDACTICOS Y LIBROS DIDACLIBROS LTDA NIT: 800.036.678-0 | CQ8: 7. INSTRUMENTACIÓN Y SERVICIOS S.A.S. - NIT.: 830505910-7 | CR8: ITEM | CS8: 1. SUCONEL NIT: 890.943.055-0 | CT8: 2. C.I. GLOBAL SCIENTIFIC S.A.S NIT.: 830.067.880 - 4 | CU8: 3. GALILEO INSTRUMENTS S.A.S NIT : 900393949-4 | CV8: 4. CASA HERMES LTDA NIT: 890.204.286-5 | CW8: 5. GEOINSTRUMENTOS TOPOGRAFICOS SAS NIT: 900.410.611-4 | CX8: 6.DIDACTICOS Y LIBROS DIDACLIBROS LTDA NIT: 800.036.678-0 | CY8: 7. INSTRUMENTACIÓN Y SERVICIOS S.A.S. - NIT.: 830505910-7 | CZ8: ITEM | DA8: 1. SUCONEL NIT: 890.943.055-0 | DB8: 2. C.I. GLOBAL SCIENTIFIC S.A.S NIT.: 830.067.880 - 4 | DC8: 3. GALILEO INSTRUMENTS S.A.S NIT : 900393949-4 | DD8: 4. CASA HERMES LTDA NIT: 890.204.286-5 | DE8: 5. GEOINSTRUMENTOS TOPOGRAFICOS SAS NIT: 900.410.611-4 | DF8: 6.DIDACTICOS Y LIBROS DIDACLIBROS LTDA NIT: 800.036.678-0 | DG8: 7. INSTRUMENTACIÓN Y SERVICIOS S.A.S. - NIT.: 830505910-7 | DH8: ITEM | DI8: 1. SUCONEL NIT: 890.943.055-0 | DJ8: 2. C.I. GLOBAL SCIENTIFIC S.A.S NIT.: 830.067.880 - 4 | DK8: 3. GALILEO INSTRUMENTS S.A.S NIT : 900393949-4 | DL8: 4. CASA HERMES LTDA NIT: 890.204.286-5 | DM8: 5. GEOINSTRUMENTOS TOPOGRAFICOS SAS NIT: 900.410.611-4 | DN8: 6.DIDACTICOS Y LIBROS DIDACLIBROS LTDA NIT: 800.036.678-0 | DO8: 7. INSTRUMENTACIÓN Y SERVICIOS S.A.S. - NIT.: 830505910-7 | DP8: MINIMA DESVIACIÓN | DQ8: ITEM | DR8: 1. SUCONEL NIT: 890.943.055-0 | DS8: 2. C.I. GLOBAL SCIENTIFIC S.A.S NIT.: 830.067.880 - 4 | DT8: 3. GALILEO INSTRUMENTS S.A.S NIT : 900393949-4 | DU8: 4. CASA HERMES LTDA NIT: 890.204.286-5 | DV8: 5. GEOINSTRUMENTOS TOPOGRAFICOS SAS NIT: 900.410.611-4 | DW8: 6.DIDACTICOS Y LIBROS DIDACLIBROS LTDA NIT: 800.036.678-0 | DX8: 7. INSTRUMENTACIÓN Y SERVICIOS S.A.S. - NIT.: 830505910-7 | DY8: ITEM | DZ8: 1. SUCONEL NIT: 890.943.055-0 | EA8: 2. C.I. GLOBAL SCIENTIFIC S.A.S NIT.: 830.067.880 - 4 | EB8: 3. GALILEO INSTRUMENTS S.A.S NIT : 900393949-4 | EC8: 4. CASA HERMES LTDA NIT: 890.204.286-5 | ED8: 5. GEOINSTRUMENTOS TOPOGRAFICOS SAS NIT: 900.410.611-4 | EE8: 6.DIDACTICOS Y LIBROS DIDACLIBROS LTDA NIT: 800.036.678-0 | EF8: 7. INSTRUMENTACIÓN Y SERVICIOS S.A.S. - NIT.: 830505910-7 | EG8: ITEM | EH8: 1. SUCONEL NIT: 890.943.055-0 | EI8: 2. C.I. GLOBAL SCIENTIFIC S.A.S NIT.: 830.067.880 - 4 | EJ8: 3. GALILEO INSTRUMENTS S.A.S NIT : 900393949-4 | EK8: 4. CASA HERMES LTDA NIT: 890.204.286-5 | EL8: 5. GEOINSTRUMENTOS TOPOGRAFICOS SAS NIT: 900.410.611-4 | EM8: 6.DIDACTICOS Y LIBROS DIDACLIBROS LTDA NIT: 800.036.678-0 | EN8: 7. INSTRUMENTACIÓN Y SERVICIOS S.A.S. - NIT.: 830505910-7 | EO8: ITEM | EP8: 1. SUCONEL NIT: 890.943.055-0 | EQ8: 2. C.I. GLOBAL SCIENTIFIC S.A.S NIT.: 830.067.880 - 4 | ER8: 3. GALILEO INSTRUMENTS S.A.S NIT : 900393949-4 | ES8: 4. CASA HERMES LTDA NIT: 890.204.286-5 | ET8: 5. GEOINSTRUMENTOS TOPOGRAFICOS SAS NIT: 900.410.611-4 | EU8: 6.DIDACTICOS Y LIBROS DIDACLIBROS LTDA NIT: 800.036.678-0 | EV8: 7. INSTRUMENTACIÓN Y SERVICIOS S.A.S. - NIT.: 830505910-7 | FJ8: ITEM | FK8: Ahorro | FL8: DESIERTO
B9: TECNOLÓGICA | C9: LABORATORIO DE ELECTRÓNICA | D9: EDIFICIO TECHNÉ, PISO 6 | E9: CALIBRADOR DE PROCESOS PORTATIL | F9: 2 | G9: 12810395 | H9: 1 | I9: 12556404 | L9: 8636544 | O9: 12605430 | P9: 1 | Q9: =IF(I9="NC","NC",IF(I9<=$G9,I9,"")) -> 12556404 | R9: =IF(J9="NC","NC",IF(J9<=$G9,J9,"")) -> 0 | S9: =IF(K9="NC","NC",IF(K9<=$G9,K9,"")) -> 0 | T9: =IF(L9="NC","NC",IF(L9<=$G9,L9,"")) -> 8636544 | U9: =IF(M9="NC","NC",IF(M9<=$G9,M9,"")) -> 0 | V9: =IF(N9="NC","NC",IF(N9<=$G9,N9,"")) -> 0 | W9: =IF(O9="NC","NC",IF(O9<=$G9,O9,"")) -> 12605430 | X9: 1 | Y9: CUMPLE | Z9: NO CUMPLE | AA9: NO CUMPLE | AB9: CUMPLE | AC9: NO CUMPLE | AD9: NO CUMPLE | AE9: CUMPLE | AF9: 1 | AG9: CUMPLE | AH9: CUMPLE | AI9: CUMPLE | AJ9: CUMPLE | AK9: CUMPLE | AL9: CUMPLE | AM9: CUMPLE | AN9: 1 | AO9: CUMPLE | AP9: CUMPLE | AQ9: CUMPLE | AR9: CUMPLE | AS9: CUMPLE | AT9: CUMPLE | AU9: CUMPLE | AV9: 1 | AW9: =IF(Y9="NO CUMPLE","NO CUMPLE",IF(AG9="NO CUMPLE","NO CUMPLE",IF(AO9="NO CUMPLE","NO CUMPLE",IF(AO9="CUMPLE","CUMPLE")))) -> CUMPLE | AX9: =IF(Z9="NO CUMPLE","NO CUMPLE",IF(AH9="NO CUMPLE","NO CUMPLE",IF(AP9="NO CUMPLE","NO CUMPLE",IF(AP9="CUMPLE","CUMPLE")))) -> NO CUMPLE | AY9: =IF(AA9="NO CUMPLE","NO CUMPLE",IF(AI9="NO CUMPLE","NO CUMPLE",IF(AQ9="NO CUMPLE","NO CUMPLE",IF(AQ9="CUMPLE","CUMPLE")))) -> NO CUMPLE | AZ9: =IF(AB9="NO CUMPLE","NO CUMPLE",IF(AJ9="NO CUMPLE","NO CUMPLE",IF(AR9="NO CUMPLE","NO CUMPLE",IF(AR9="CUMPLE","CUMPLE")))) -> CUMPLE | BA9: =IF(AC9="NO CUMPLE","NO CUMPLE",IF(AK9="NO CUMPLE","NO CUMPLE",IF(AS9="NO CUMPLE","NO CUMPLE",IF(AS9="CUMPLE","CUMPLE")))) -> NO CUMPLE | BB9: =IF(AD9="NO CUMPLE","NO CUMPLE",IF(AL9="NO CUMPLE","NO CUMPLE",IF(AT9="NO CUMPLE","NO CUMPLE",IF(AT9="CUMPLE","CUMPLE")))) -> NO CUMPLE | BC9: =IF(AE9="NO CUMPLE","NO CUMPLE",IF(AM9="NO CUMPLE","NO CUMPLE",IF(AU9="NO CUMPLE","NO CUMPLE",IF(AU9="CUMPLE","CUMPLE")))) -> CUMPLE | BD9: 1 | BE9: CUMPLE | BF9: NC | BG9: NC | BH9: CUMPLE | BI9: NC | BJ9: NC | BK9: CUMPLE | BL9: 1 | BM9: CUMPLE | BN9: NC | BO9: NC | BP9: CUMPLE | BQ9: NC | BR9: NC | BS9: CUMPLE | BT9: 1 | BU9: =IF(AW9="NO CUMPLE","",IF(BE9="NO CUMPLE","",IF(BM9="NO CUMPLE","",IF(BE9="NC","",IF(BM9="CUMPLE",I9))))) -> 12556404 | BV9: =IF(AX9="NO CUMPLE","",IF(BF9="NO CUMPLE","",IF(BN9="NO CUMPLE","",IF(BF9="NC","",IF(BN9="CUMPLE",J9))))) | BW9: =IF(AY9="NO CUMPLE","",IF(BG9="NO CUMPLE","",IF(BO9="NO CUMPLE","",IF(BG9="NC","",IF(BO9="CUMPLE",K9))))) | BX9: =IF(AZ9="NO CUMPLE","",IF(BH9="NO CUMPLE","",IF(BP9="NO CUMPLE","",IF(BH9="NC","",IF(BP9="CUMPLE",L9))))) -> 8636544 | BY9: =IF(BA9="NO CUMPLE","",IF(BI9="NO CUMPLE","",IF(BQ9="NO CUMPLE","",IF(BI9="NC","",IF(BQ9="CUMPLE",M9))))) | BZ9: =IF(BB9="NO CUMPLE","",IF(BJ9="NO CUMPLE","",IF(BR9="NO CUMPLE","",IF(BJ9="NC","",IF(BR9="CUMPLE",N9))))) | CA9: =IF(BC9="NO CUMPLE","",IF(BK9="NO CUMPLE","",IF(BS9="NO CUMPLE","",IF(BK9="NC","",IF(BS9="CUMPLE",O9))))) -> 12605430 | CB9: 12810395 | CC9: 12810395 | CD9: =COUNT(BU9:CA9) -> 3 | CE9: =IF(CD9=2,1,IF(CD9=3,2,IF(CD9=4,3,IF(CD9>5,5,)))) -> 2 | CF9: =IFERROR(MEDIAN(BU9:CA9),"") -> 12556404 | CG9: =IF(COUNT(BU9:CA9)=0,"",MOD(COUNT(BU9:CA9),2)) -> 1 | CH9: =IF(COUNT(BU9:CA9)<2,"", IF(MOD(COUNT(BU9:CA9),2)=1,"", SMALL(BU9:CA9, COUNT(BU9:CA9)/2 ) )) | CI9: =IF(CG9=1, CF9, CH9) -> 12556404 | CJ9: 1 | CK9: =IF(BU9="","", (1 - ABS((BU9 - $CI9)/$CI9)) * 40) -> 40 | CL9: =IF(BV9="","", (1 - ABS((BV9 - $CI9)/$CI9)) * 40) | CM9: =IF(BW9="","", (1 - ABS((BW9 - $CI9)/$CI9)) * 40) | CN9: =IF(BX9="","", (1 - ABS((BX9 - $CI9)/$CI9)) * 40) -> 27.512794 | CO9: =IF(BY9="","", (1 - ABS((BY9 - $CI9)/$CI9)) * 40) | CP9: =IF(BZ9="","", (1 - ABS((BZ9 - $CI9)/$CI9)) * 40) | CQ9: =IF(CA9="","", (1 - ABS((CA9 - $CI9)/$CI9)) * 40) -> 39.843822 | CR9: 1 | CS9: =IF(BU9="","",ABS((BU9 - $CI9)/$CI9)) -> 0 | CT9: =IF(BV9="","",ABS((BV9 - $CI9)/$CI9)) | CU9: =IF(BW9="","",ABS((BW9 - $CI9)/$CI9)) | CV9: =IF(BX9="","",ABS((BX9 - $CI9)/$CI9)) -> 0.31218014 | CW9: =IF(BY9="","",ABS((BY9 - $CI9)/$CI9)) | CX9: =IF(BZ9="","",ABS((BZ9 - $CI9)/$CI9)) | CY9: =IF(CA9="","",ABS((CA9 - $CI9)/$CI9)) -> 0.0039044618 | CZ9: 1 | DA9: =IF(CK9="","",ABS(BU9-$CF9)) -> 0 | DB9: =IF(CL9="","",ABS(BV9-$CF9)) | DC9: =IF(CM9="","",ABS(BW9-$CF9)) | DD9: =IF(CN9="","",ABS(BX9-$CF9)) -> 3919860 | DE9: =IF(CO9="","",ABS(BY9-$CF9)) | DF9: =IF(CP9="","",ABS(BZ9-$CF9)) | DG9: =IF(CQ9="","",ABS(CA9-$CF9)) -> 49026 | DH9: 1 | DI9: =IF(BU9="","",(BU9-$CI9)^2) -> 0 | DJ9: =IF(BV9="","",(BV9-$CI9)^2) | DK9: =IF(BW9="","",(BW9-$CI9)^2) | DL9: =IF(BX9="","",(BX9-$CI9)^2) -> 15365302419600 | DM9: =IF(BY9="","",(BY9-$CI9)^2) | DN9: =IF(BZ9="","",(BZ9-$CI9)^2) | DO9: =IF(CA9="","",(CA9-$CI9)^2) -> 2403548676 | DP9: =MIN(DI9:DO9) -> 0 | DQ9: 1 | DR9: =IF(BU9="","", (1 - ABS((BU9-$CI9)/$CI9))*40) -> 40 | DS9: =IF(BV9="","", (1 - ABS((BV9-$CI9)/$CI9))*40) | DT9: =IF(BW9="","", (1 - ABS((BW9-$CI9)/$CI9))*40) | DU9: =IF(BX9="","", (1 - ABS((BX9-$CI9)/$CI9))*40) -> 27.512794 | DV9: =IF(BY9="","", (1 - ABS((BY9-$CI9)/$CI9))*40) | DW9: =IF(BZ9="","", (1 - ABS((BZ9-$CI9)/$CI9))*40) | DX9: =IF(CA9="","", (1 - ABS((CA9-$CI9)/$CI9))*40) -> 39.843822 | DY9: 1 | DZ9: 24 | EC9: =3*12 -> 36 | EF9: =4*12 -> 48 | EG9: 1 | EH9: =IF(DZ9<36,0,IF(DZ9>=72,60,IF(DZ9>=66,40,IF(DZ9>=60,30,IF(DZ9>=48,20,IF(DZ9>=36,10,0)))))) -> 0 | EI9: =IF(EA9<36,0,IF(EA9>=72,60,IF(EA9>=66,40,IF(EA9>=60,30,IF(EA9>=48,20,IF(EA9>=36,10,0)))))) -> 0 | EJ9: =IF(EB9<36,0,IF(EB9>=72,60,IF(EB9>=66,40,IF(EB9>=60,30,IF(EB9>=48,20,IF(EB9>=36,10,0)))))) -> 0 | EK9: =IF(EC9<36,0,IF(EC9>=72,60,IF(EC9>=66,40,IF(EC9>=60,30,IF(EC9>=48,20,IF(EC9>=36,10,0)))))) -> 10 | EL9: =IF(ED9<36,0,IF(ED9>=72,60,IF(ED9>=66,40,IF(ED9>=60,30,IF(ED9>=48,20,IF(ED9>=36,10,0)))))) -> 0 | EM9: =IF(EE9<36,0,IF(EE9>=72,60,IF(EE9>=66,40,IF(EE9>=60,30,IF(EE9>=48,20,IF(EE9>=36,10,0)))))) -> 0 | EN9: =IF(EF9<36,0,IF(EF9>=72,60,IF(EF9>=66,40,IF(EF9>=60,30,IF(EF9>=48,20,IF(EF9>=36,10,0)))))) -> 20 | EO9: 1 | EP9: =IF(DR9="","",(EH9+DR9)) -> 40 | EQ9: =IF(DS9="","",(EI9+DS9)) | ER9: =IF(DT9="","",(EJ9+DT9)) | ES9: =IF(DU9="","",(EK9+DU9)) -> 37.512794 | ET9: =IF(DV9="","",(EL9+DV9)) | EU9: =IF(DW9="","",(EM9+DW9)) | EV9: =IF(DX9="","",(EN9+DX9)) -> 59.843822 | EW9: =MAX(EP9:EV9) -> 59.843822 | EX9: =IF($EW9=EP9,EP$8,IF($EW9=EQ9,EQ$8,IF($EW9=ER9,ER$8,IF($EW9=ES9,ES$8,IF($EW9=ET9,ET$8,IF($EW9=EU9,EU$8,IF($EW9=EV9,EV$8,""))))))) -> 7. INSTRUMENTACIÓN Y SERVICIOS S.A.S. - NIT.: 830505910-7 | EY9: =IF($EW9=#REF!,#REF!,IF($EW9=#REF!,#REF!,IF($EW9=#REF!,#REF!,IF($EW9=#REF!,#REF!,IF($EW9=#REF!,#REF!,IF($EW9=#REF!,#REF!,IF($EW9=#REF!,#REF!,""))))))) -> #REF! | EZ9: =IF($EW9=#REF!,#REF!,IF($EW9=#REF!,#REF!,IF($EW9=#REF!,#REF!,IF($EW9=#REF!,#REF!,IF($EW9=#REF!,#REF!,IF($EW9=#REF!,#REF!,IF($EW9=#REF!,#REF!,""))))))) -> #REF! | FA9: =IF($EW9=#REF!,#REF!,IF($EW9=#REF!,#REF!,IF($EW9=#REF!,#REF!,IF($EW9=#REF!,#REF!,IF($EW9=#REF!,#REF!,IF($EW9=#REF!,#REF!,IF($EW9=#REF!,#REF!,""))))))) -> #REF! | FB9: =IFERROR(INDEX($EP$8:$EV$8,MATCH(EW9,EP9:EV9,0)), "DESIERTO") -> 7. INSTRUMENTACIÓN Y SERVICIOS S.A.S. - NIT.: 830505910-7 | FC9: =IF($EW9=EP9,EP$8,IF($EW9=EQ9,EQ$8,IF($EW9=ER9,ER$8,IF($EW9=ES9,ES$8,IF($EW9=ET9,ET$8,IF($EW9=EU9,EU$8,IF($EW9=EV9,EV$8,IF($EW9=#REF!,#REF!,IF($EW9=#REF!,#REF!,IF($EW9=#REF!,#REF!,IF($EW9=#REF!,#REF!,IF($EW9=#REF!,#REF!,IF($EW9=#REF!,#REF!,IF($EW9=#REF!,#REF!,IF($EW9=#REF!,#REF!,IF($EW9=#REF!,#REF!,IF($EW9=#REF!,#REF!,IF($EW9=#REF!,#REF!,IF($EW9=#REF!,#REF!,IF($EW9=#REF!,#REF!,IF($EW9=#REF!,#REF!,IF($EW9=#REF!,#REF!,IF($EW9=#REF!,#REF!,IF($EW9=#REF!,#REF!,IF($EW9=#REF!,#REF!,IF($EW9=#REF!,#REF!,IF($EW9=#REF!,#REF!,IF($EW9=#REF!,#REF!,"")))))))))))))))))))))))))))) -> 7. INSTRUMENTACIÓN Y SERVICIOS S.A.S. - NIT.: 830505910-7 | FD9: =IF($FC9=$I$8,$I9,IF($FC9=$J$8,$J9,IF($FC9=$K$8,$K9,IF($FC9=$L$8,$L9,IF($FC9=$M$8,$M9,IF($FC9=$N$8,$N9,IF($FC9=$O$8,$O9,""))))))) -> 12605430 | FE9: =IF($FC9=#REF!,#REF!,IF($FC9=#REF!,#REF!,IF($FC9=#REF!,#REF!,IF($FC9=#REF!,#REF!,IF($FC9=#REF!,#REF!,IF($FC9=#REF!,#REF!,IF($FC9=#REF!,#REF!,""))))))) -> #REF! | FF9: =IF($FC9=#REF!,#REF!,IF($FC9=#REF!,#REF!,IF($FC9=#REF!,#REF!,IF($FC9=#REF!,#REF!,IF($FC9=#REF!,#REF!,IF($FC9=#REF!,#REF!,IF($FC9=#REF!,#REF!,""))))))) -> #REF! | FG9: =IF($FC9=#REF!,#REF!,IF($FC9=#REF!,#REF!,IF($FC9=#REF!,#REF!,IF($FC9=#REF!,#REF!,IF($FC9=#REF!,#REF!,IF($FC9=#REF!,#REF!,IF($FC9=#REF!,#REF!,""))))))) -> #REF! | FH9: =IFERROR(INDEX(I9:O9,MATCH(FB9,$I$8:$O$8,0)),"DESIERTO") -> 12605430 | FI9: =MAX(FD9:FG9) -> #REF! | FJ9: 1 | FK9: =IFERROR(IF(FH9>0,(G9-FH9),"F"),"D") -> 204965 | FL9: =IF(FB9="DESIERTO",G9,"ADJUDICADO") -> ADJUDICADO
B10: TECNOLÓGICA | C10: LABORATORIO DE ELECTRÓNICA | D10: EDIFICIO TECHNÉ, PISO 6 | E10: EMPALMADORA POR FUSIÓN DE NÚCLEO PARA FIBRA ÓPTICA | F10: 1 | G10: 35165293 | H10: 2 | L10: 34422892 | P10: 2 | Q10: =IF(I10="NC","NC",IF(I10<=$G10,I10,"")) -> 0 | R10: =IF(J10="NC","NC",IF(J10<=$G10,J10,"")) -> 0 | S10: =IF(K10="NC","NC",IF(K10<=$G10,K10,"")) -> 0 | T10: =IF(L10="NC","NC",IF(L10<=$G10,L10,"")) -> 34422892 | U10: =IF(M10="NC","NC",IF(M10<=$G10,M10,"")) -> 0 | V10: =IF(N10="NC","NC",IF(N10<=$G10,N10,"")) -> 0 | W10: =IF(O10="NC","NC",IF(O10<=$G10,O10,"")) -> 0 | X10: 2 | Y10: NO CUMPLE | Z10: NO CUMPLE | AA10: NO CUMPLE | AB10: CUMPLE | AC10: NO CUMPLE | AD10: NO CUMPLE | AE10: NO CUMPLE | AF10: 2 | AG10: CUMPLE | AH10: CUMPLE | AI10: CUMPLE | AJ10: CUMPLE | AK10: CUMPLE | AL10: CUMPLE | AM10: CUMPLE | AN10: 2 | AO10: CUMPLE | AP10: CUMPLE | AQ10: CUMPLE | AR10: CUMPLE | AS10: CUMPLE | AT10: CUMPLE | AU10: CUMPLE | AV10: 2 | AW10: =IF(Y10="NO CUMPLE","NO CUMPLE",IF(AG10="NO CUMPLE","NO CUMPLE",IF(AO10="NO CUMPLE","NO CUMPLE",IF(AO10="CUMPLE","CUMPLE")))) -> NO CUMPLE | AX10: =IF(Z10="NO CUMPLE","NO CUMPLE",IF(AH10="NO CUMPLE","NO CUMPLE",IF(AP10="NO CUMPLE","NO CUMPLE",IF(AP10="CUMPLE","CUMPLE")))) -> NO CUMPLE | AY10: =IF(AA10="NO CUMPLE","NO CUMPLE",IF(AI10="NO CUMPLE","NO CUMPLE",IF(AQ10="NO CUMPLE","NO CUMPLE",IF(AQ10="CUMPLE","CUMPLE")))) -> NO CUMPLE | AZ10: =IF(AB10="NO CUMPLE","NO CUMPLE",IF(AJ10="NO CUMPLE","NO CUMPLE",IF(AR10="NO CUMPLE","NO CUMPLE",IF(AR10="CUMPLE","CUMPLE")))) -> CUMPLE | BA10: =IF(AC10="NO CUMPLE","NO CUMPLE",IF(AK10="NO CUMPLE","NO CUMPLE",IF(AS10="NO CUMPLE","NO CUMPLE",IF(AS10="CUMPLE","CUMPLE")))) -> NO CUMPLE | BB10: =IF(AD10="NO CUMPLE","NO CUMPLE",IF(AL10="NO CUMPLE","NO CUMPLE",IF(AT10="NO CUMPLE","NO CUMPLE",IF(AT10="CUMPLE","CUMPLE")))) -> NO CUMPLE | BC10: =IF(AE10="NO CUMPLE","NO CUMPLE",IF(AM10="NO CUMPLE","NO CUMPLE",IF(AU10="NO CUMPLE","NO CUMPLE",IF(AU10="CUMPLE","CUMPLE")))) -> NO CUMPLE | BD10: 2 | BE10: NC | BF10: NC | BG10: NC | BH10: CUMPLE | BI10: NC | BJ10: NC | BK10: NC | BM10: NC | BN10: NC | BO10: NC | BP10: CUMPLE | BQ10: NC | BR10: NC | BS10: NC | BT10: 2 | BU10: =IF(AW10="NO CUMPLE","",IF(BE10="NO CUMPLE","",IF(BM10="NO CUMPLE","",IF(BE10="NC","",IF(BM10="CUMPLE",I10))))) | BV10: =IF(AX10="NO CUMPLE","",IF(BF10="NO CUMPLE","",IF(BN10="NO CUMPLE","",IF(BF10="NC","",IF(BN10="CUMPLE",J10))))) | BW10: =IF(AY10="NO CUMPLE","",IF(BG10="NO CUMPLE","",IF(BO10="NO CUMPLE","",IF(BG10="NC","",IF(BO10="CUMPLE",K10))))) | BX10: =IF(AZ10="NO CUMPLE","",IF(BH10="NO CUMPLE","",IF(BP10="NO CUMPLE","",IF(BH10="NC","",IF(BP10="CUMPLE",L10))))) -> 34422892 | BY10: =IF(BA10="NO CUMPLE","",IF(BI10="NO CUMPLE","",IF(BQ10="NO CUMPLE","",IF(BI10="NC","",IF(BQ10="CUMPLE",M10))))) | BZ10: =IF(BB10="NO CUMPLE","",IF(BJ10="NO CUMPLE","",IF(BR10="NO CUMPLE","",IF(BJ10="NC","",IF(BR10="CUMPLE",N10))))) | CA10: =IF(BC10="NO CUMPLE","",IF(BK10="NO CUMPLE","",IF(BS10="NO CUMPLE","",IF(BK10="NC","",IF(BS10="CUMPLE",O10))))) | CB10: 35165293 | CC10: 35165293 | CD10: =COUNT(BU10:CA10) -> 1 | CE10: =IF(CD10=2,1,IF(CD10=3,2,IF(CD10=4,3,IF(CD10>5,5,)))) -> 0 | CF10: =IFERROR(MEDIAN(BU10:CA10),"") -> 34422892 | CG10: =IF(COUNT(BU10:CA10)=0,"",MOD(COUNT(BU10:CA10),2)) -> 1 | CH10: =IF(COUNT(BU10:CA10)<2,"", IF(MOD(COUNT(BU10:CA10),2)=1,"", SMALL(BU10:CA10, COUNT(BU10:CA10)/2 ) )) | CI10: =IF(CG10=1, CF10, CH10) -> 34422892 | CJ10: 2 | CK10: =IF(BU10="","", (1 - ABS((BU10 - $CI10)/$CI10)) * 40) | CL10: =IF(BV10="","", (1 - ABS((BV10 - $CI10)/$CI10)) * 40) | CM10: =IF(BW10="","", (1 - ABS((BW10 - $CI10)/$CI10)) * 40) | CN10: =IF(BX10="","", (1 - ABS((BX10 - $CI10)/$CI10)) * 40) -> 40 | CO10: =IF(BY10="","", (1 - ABS((BY10 - $CI10)/$CI10)) * 40) | CP10: =IF(BZ10="","", (1 - ABS((BZ10 - $CI10)/$CI10)) * 40) | CQ10: =IF(CA10="","", (1 - ABS((CA10 - $CI10)/$CI10)) * 40) | CR10: 2 | CS10: =IF(BU10="","",ABS((BU10 - $CI10)/$CI10)) | CT10: =IF(BV10="","",ABS((BV10 - $CI10)/$CI10)) | CU10: =IF(BW10="","",ABS((BW10 - $CI10)/$CI10)) | CV10: =IF(BX10="","",ABS((BX10 - $CI10)/$CI10)) -> 0 | CW10: =IF(BY10="","",ABS((BY10 - $CI10)/$CI10)) | CX10: =IF(BZ10="","",ABS((BZ10 - $CI10)/$CI10)) | CY10: =IF(CA10="","",ABS((CA10 - $CI10)/$CI10)) | CZ10: 2 | DA10: =IF(CK10="","",ABS(BU10-$CF10)) | DB10: =IF(CL10="","",ABS(BV10-$CF10)) | DC10: =IF(CM10="","",ABS(BW10-$CF10)) | DD10: =IF(CN10="","",ABS(BX10-$CF10)) -> 0 | DE10: =IF(CO10="","",ABS(BY10-$CF10)) | DF10: =IF(CP10="","",ABS(BZ10-$CF10)) | DG10: =IF(CQ10="","",ABS(CA10-$CF10)) | DH10: 2 | DI10: =IF(BU10="","",(BU10-$CI10)^2) | DJ10: =IF(BV10="","",(BV10-$CI10)^2) | DK10: =IF(BW10="","",(BW10-$CI10)^2) | DL10: =IF(BX10="","",(BX10-$CI10)^2) -> 0 | DM10: =IF(BY10="","",(BY10-$CI10)^2) | DN10: =IF(BZ10="","",(BZ10-$CI10)^2) | DO10: =IF(CA10="","",(CA10-$CI10)^2) | DP10: =MIN(DI10:DO10) -> 0 | DQ10: 2 | DR10: =IF(BU10="","", (1 - ABS((BU10-$CI10)/$CI10))*40) | DS10: =IF(BV10="","", (1 - ABS((BV10-$CI10)/$CI10))*40) | DT10: =IF(BW10="","", (1 - ABS((BW10-$CI10)/$CI10))*40) | DU10: =IF(BX10="","", (1 - ABS((BX10-$CI10)/$CI10))*40) -> 40 | DV10: =IF(BY10="","", (1 - ABS((BY10-$CI10)/$CI10))*40) | DW10: =IF(BZ10="","", (1 - ABS((BZ10-$CI10)/$CI10))*40) | DX10: =IF(CA10="","", (1 - ABS((CA10-$CI10)/$CI10))*40) | DY10: 2 | EC10: =2*12 -> 24 | EG10: 2 | EH10: =IF(DZ10<36,0,IF(DZ10>=72,60,IF(DZ10>=66,40,IF(DZ10>=60,30,IF(DZ10>=48,20,IF(DZ10>=36,10,0)))))) -> 0 | EI10: =IF(EA10<36,0,IF(EA10>=72,60,IF(EA10>=66,40,IF(EA10>=60,30,IF(EA10>=48,20,IF(EA10>=36,10,0)))))) -> 0 | EJ10: =IF(EB10<36,0,IF(EB10>=72,60,IF(EB10>=66,40,IF(EB10>=60,30,IF(EB10>=48,20,IF(EB10>=36,10,0)))))) -> 0 | EK10: =IF(EC10<36,0,IF(EC10>=72,60,IF(EC10>=66,40,IF(EC10>=60,30,IF(EC10>=48,20,IF(EC10>=36,10,0)))))) -> 0 | EL10: =IF(ED10<36,0,IF(ED10>=72,60,IF(ED10>=66,40,IF(ED10>=60,30,IF(ED10>=48,20,IF(ED10>=36,10,0)))))) -> 0 | EM10: =IF(EE10<36,0,IF(EE10>=72,60,IF(EE10>=66,40,IF(EE10>=60,30,IF(EE10>=48,20,IF(EE10>=36,10,0)))))) -> 0 | EN10: =IF(EF10<36,0,IF(EF10>=72,60,IF(EF10>=66,40,IF(EF10>=60,30,IF(EF10>=48,20,IF(EF10>=36,10,0)))))) -> 0 | EO10: 2 | EP10: =IF(DR10="","",(EH10+DR10)) | EQ10: =IF(DS10="","",(EI10+DS10)) | ER10: =IF(DT10="","",(EJ10+DT10)) | ES10: =IF(DU10="","",(EK10+DU10)) -> 40 | ET10: =IF(DV10="","",(EL10+DV10)) | EU10: =IF(DW10="","",(EM10+DW10)) | EV10: =IF(DX10="","",(EN10+DX10)) | EW10: =MAX(EP10:EV10) -> 40 | EX10: =IF($EW10=EP10,EP$8,IF($EW10=EQ10,EQ$8,IF($EW10=ER10,ER$8,IF($EW10=ES10,ES$8,IF($EW10=ET10,ET$8,IF($EW10=EU10,EU$8,IF($EW10=EV10,EV$8,""))))))) -> 4. CASA HERMES LTDA NIT: 890.204.286-5 | EY10: =IF($EW10=#REF!,#REF!,IF($EW10=#REF!,#REF!,IF($EW10=#REF!,#REF!,IF($EW10=#REF!,#REF!,IF($EW10=#REF!,#REF!,IF($EW10=#REF!,#REF!,IF($EW10=#REF!,#REF!,""))))))) -> #REF! | EZ10: =IF($EW10=#REF!,#REF!,IF($EW10=#REF!,#REF!,IF($EW10=#REF!,#REF!,IF($EW10=#REF!,#REF!,IF($EW10=#REF!,#REF!,IF($EW10=#REF!,#REF!,IF($EW10=#REF!,#REF!,""))))))) -> #REF! | FA10: =IF($EW10=#REF!,#REF!,IF($EW10=#REF!,#REF!,IF($EW10=#REF!,#REF!,IF($EW10=#REF!,#REF!,IF($EW10=#REF!,#REF!,IF($EW10=#REF!,#REF!,IF($EW10=#REF!,#REF!,""))))))) -> #REF! | FB10: =IFERROR(INDEX($EP$8:$EV$8,MATCH(EW10,EP10:EV10,0)), "DESIERTO") -> 4. CASA HERMES LTDA NIT: 890.204.286-5 | FC10: =IF($EW10=EP10,EP$8,IF($EW10=EQ10,EQ$8,IF($EW10=ER10,ER$8,IF($EW10=ES10,ES$8,IF($EW10=ET10,ET$8,IF($EW10=EU10,EU$8,IF($EW10=EV10,EV$8,IF($EW10=#REF!,#REF!,IF($EW10=#REF!,#REF!,IF($EW10=#REF!,#REF!,IF($EW10=#REF!,#REF!,IF($EW10=#REF!,#REF!,IF($EW10=#REF!,#REF!,IF($EW10=#REF!,#REF!,IF($EW10=#REF!,#REF!,IF($EW10=#REF!,#REF!,IF($EW10=#REF!,#REF!,IF($EW10=#REF!,#REF!,IF($EW10=#REF!,#REF!,IF($EW10=#REF!,#REF!,IF($EW10=#REF!,#REF!,IF($EW10=#REF!,#REF!,IF($EW10=#REF!,#REF!,IF($EW10=#REF!,#REF!,IF($EW10=#REF!,#REF!,IF($EW10=#REF!,#REF!,IF($EW10=#REF!,#REF!,IF($EW10=#REF!,#REF!,"")))))))))))))))))))))))))))) -> 4. CASA HERMES LTDA NIT: 890.204.286-5 | FD10: =IF($FC10=$I$8,$I10,IF($FC10=$J$8,$J10,IF($FC10=$K$8,$K10,IF($FC10=$L$8,$L10,IF($FC10=$M$8,$M10,IF($FC10=$N$8,$N10,IF($FC10=$O$8,$O10,""))))))) -> 34422892 | FE10: =IF($FC10=#REF!,#REF!,IF($FC10=#REF!,#REF!,IF($FC10=#REF!,#REF!,IF($FC10=#REF!,#REF!,IF($FC10=#REF!,#REF!,IF($FC10=#REF!,#REF!,IF($FC10=#REF!,#REF!,""))))))) -> #REF! | FF10: =IF($FC10=#REF!,#REF!,IF($FC10=#REF!,#REF!,IF($FC10=#REF!,#REF!,IF($FC10=#REF!,#REF!,IF($FC10=#REF!,#REF!,IF($FC10=#REF!,#REF!,IF($FC10=#REF!,#REF!,""))))))) -> #REF! | FG10: =IF($FC10=#REF!,#REF!,IF($FC10=#REF!,#REF!,IF($FC10=#REF!,#REF!,IF($FC10=#REF!,#REF!,IF($FC10=#REF!,#REF!,IF($FC10=#REF!,#REF!,IF($FC10=#REF!,#REF!,""))))))) -> #REF! | FH10: =IFERROR(INDEX(I10:O10,MATCH(FB10,$I$8:$O$8,0)),"DESIERTO") -> 34422892 | FI10: =MAX(FD10:FG10) -> #REF! | FJ10: 2 | FK10: =IFERROR(IF(FH10>0,(G10-FH10),"F"),"D") -> 742401 | FL10: =IF(FB10="DESIERTO",G10,"ADJUDICADO") -> ADJUDICADO
B11: TECNOLÓGICA | C11: LABORATORIO GESTIÓN DE LA PRODUCCIÓN INDUSTRIAL | D11: EDIFICIO TECHNE 3ER PISO, Diseño de Producto | E11: IMPRESORA 3D FILAMENTO | F11: 2 | G11: 12448678 | H11: 3 | O11: 12131236 | P11: 3 | Q11: =IF(I11="NC","NC",IF(I11<=$G11,I11,"")) -> 0 | R11: =IF(J11="NC","NC",IF(J11<=$G11,J11,"")) -> 0 | S11: =IF(K11="NC","NC",IF(K11<=$G11,K11,"")) -> 0 | T11: =IF(L11="NC","NC",IF(L11<=$G11,L11,"")) -> 0 | U11: =IF(M11="NC","NC",IF(M11<=$G11,M11,"")) -> 0 | V11: =IF(N11="NC","NC",IF(N11<=$G11,N11,"")) -> 0 | W11: =IF(O11="NC","NC",IF(O11<=$G11,O11,"")) -> 12131236 | X11: 3 | Y11: NO CUMPLE | Z11: NO CUMPLE | AA11: NO CUMPLE | AB11: NO CUMPLE | AC11: NO CUMPLE | AD11: NO CUMPLE | AE11: CUMPLE | AF11: 3 | AG11: CUMPLE | AH11: CUMPLE | AI11: CUMPLE | AJ11: CUMPLE | AK11: CUMPLE | AL11: CUMPLE | AM11: CUMPLE | AN11: 3 | AO11: CUMPLE | AP11: CUMPLE | AQ11: CUMPLE | AR11: CUMPLE | AS11: CUMPLE | AT11: CUMPLE | AU11: CUMPLE | AV11: 3 | AW11: =IF(Y11="NO CUMPLE","NO CUMPLE",IF(AG11="NO CUMPLE","NO CUMPLE",IF(AO11="NO CUMPLE","NO CUMPLE",IF(AO11="CUMPLE","CUMPLE")))) -> NO CUMPLE | AX11: =IF(Z11="NO CUMPLE","NO CUMPLE",IF(AH11="NO CUMPLE","NO CUMPLE",IF(AP11="NO CUMPLE","NO CUMPLE",IF(AP11="CUMPLE","CUMPLE")))) -> NO CUMPLE | AY11: =IF(AA11="NO CUMPLE","NO CUMPLE",IF(AI11="NO CUMPLE","NO CUMPLE",IF(AQ11="NO CUMPLE","NO CUMPLE",IF(AQ11="CUMPLE","CUMPLE")))) -> NO CUMPLE | AZ11: =IF(AB11="NO CUMPLE","NO CUMPLE",IF(AJ11="NO CUMPLE","NO CUMPLE",IF(AR11="NO CUMPLE","NO CUMPLE",IF(AR11="CUMPLE","CUMPLE")))) -> NO CUMPLE | BA11: =IF(AC11="NO CUMPLE","NO CUMPLE",IF(AK11="NO CUMPLE","NO CUMPLE",IF(AS11="NO CUMPLE","NO CUMPLE",IF(AS11="CUMPLE","CUMPLE")))) -> NO CUMPLE | BB11: =IF(AD11="NO CUMPLE","NO CUMPLE",IF(AL11="NO CUMPLE","NO CUMPLE",IF(AT11="NO CUMPLE","NO CUMPLE",IF(AT11="CUMPLE","CUMPLE")))) -> NO CUMPLE | BC11: =IF(AE11="NO CUMPLE","NO CUMPLE",IF(AM11="NO CUMPLE","NO CUMPLE",IF(AU11="NO CUMPLE","NO CUMPLE",IF(AU11="CUMPLE","CUMPLE")))) -> CUMPLE | BD11: 3 | BE11: NC | BF11: NC | BG11: NC | BH11: NC | BI11: NC | BJ11: NC | BK11: CUMPLE | BM11: NC | BN11: NC | BO11: NC | BP11: NC | BQ11: NC | BR11: NC | BS11: CUMPLE | BT11: 3 | BU11: =IF(AW11="NO CUMPLE","",IF(BE11="NO CUMPLE","",IF(BM11="NO CUMPLE","",IF(BE11="NC","",IF(BM11="CUMPLE",I11))))) | BV11: =IF(AX11="NO CUMPLE","",IF(BF11="NO CUMPLE","",IF(BN11="NO CUMPLE","",IF(BF11="NC","",IF(BN11="CUMPLE",J11))))) | BW11: =IF(AY11="NO CUMPLE","",IF(BG11="NO CUMPLE","",IF(BO11="NO CUMPLE","",IF(BG11="NC","",IF(BO11="CUMPLE",K11))))) | BX11: =IF(AZ11="NO CUMPLE","",IF(BH11="NO CUMPLE","",IF(BP11="NO CUMPLE","",IF(BH11="NC","",IF(BP11="CUMPLE",L11))))) | BY11: =IF(BA11="NO CUMPLE","",IF(BI11="NO CUMPLE","",IF(BQ11="NO CUMPLE","",IF(BI11="NC","",IF(BQ11="CUMPLE",M11))))) | BZ11: =IF(BB11="NO CUMPLE","",IF(BJ11="NO CUMPLE","",IF(BR11="NO CUMPLE","",IF(BJ11="NC","",IF(BR11="CUMPLE",N11))))) | CA11: =IF(BC11="NO CUMPLE","",IF(BK11="NO CUMPLE","",IF(BS11="NO CUMPLE","",IF(BK11="NC","",IF(BS11="CUMPLE",O11))))) -> 12131236 | CB11: 12448678 | CC11: 12448678 | CD11: =COUNT(BU11:CA11) -> 1 | CE11: =IF(CD11=2,1,IF(CD11=3,2,IF(CD11=4,3,IF(CD11>5,5,)))) -> 0 | CF11: =IFERROR(MEDIAN(BU11:CA11),"") -> 12131236 | CG11: =IF(COUNT(BU11:CA11)=0,"",MOD(COUNT(BU11:CA11),2)) -> 1 | CH11: =IF(COUNT(BU11:CA11)<2,"", IF(MOD(COUNT(BU11:CA11),2)=1,"", SMALL(BU11:CA11, COUNT(BU11:CA11)/2 ) )) | CI11: =IF(CG11=1, CF11, CH11) -> 12131236 | CJ11: 3 | CK11: =IF(BU11="","", (1 - ABS((BU11 - $CI11)/$CI11)) * 40) | CL11: =IF(BV11="","", (1 - ABS((BV11 - $CI11)/$CI11)) * 40) | CM11: =IF(BW11="","", (1 - ABS((BW11 - $CI11)/$CI11)) * 40) | CN11: =IF(BX11="","", (1 - ABS((BX11 - $CI11)/$CI11)) * 40) | CO11: =IF(BY11="","", (1 - ABS((BY11 - $CI11)/$CI11)) * 40) | CP11: =IF(BZ11="","", (1 - ABS((BZ11 - $CI11)/$CI11)) * 40) | CQ11: =IF(CA11="","", (1 - ABS((CA11 - $CI11)/$CI11)) * 40) -> 40 | CR11: 3 | CS11: =IF(BU11="","",ABS((BU11 - $CI11)/$CI11)) | CT11: =IF(BV11="","",ABS((BV11 - $CI11)/$CI11)) | CU11: =IF(BW11="","",ABS((BW11 - $CI11)/$CI11)) | CV11: =IF(BX11="","",ABS((BX11 - $CI11)/$CI11)) | CW11: =IF(BY11="","",ABS((BY11 - $CI11)/$CI11)) | CX11: =IF(BZ11="","",ABS((BZ11 - $CI11)/$CI11)) | CY11: =IF(CA11="","",ABS((CA11 - $CI11)/$CI11)) -> 0 | CZ11: 3 | DA11: =IF(CK11="","",ABS(BU11-$CF11)) | DB11: =IF(CL11="","",ABS(BV11-$CF11)) | DC11: =IF(CM11="","",ABS(BW11-$CF11)) | DD11: =IF(CN11="","",ABS(BX11-$CF11)) | DE11: =IF(CO11="","",ABS(BY11-$CF11)) | DF11: =IF(CP11="","",ABS(BZ11-$CF11)) | DG11: =IF(CQ11="","",ABS(CA11-$CF11)) -> 0 | DH11: 3 | DI11: =IF(BU11="","",(BU11-$CI11)^2) | DJ11: =IF(BV11="","",(BV11-$CI11)^2) | DK11: =IF(BW11="","",(BW11-$CI11)^2) | DL11: =IF(BX11="","",(BX11-$CI11)^2) | DM11: =IF(BY11="","",(BY11-$CI11)^2) | DN11: =IF(BZ11="","",(BZ11-$CI11)^2) | DO11: =IF(CA11="","",(CA11-$CI11)^2) -> 0 | DP11: =MIN(DI11:DO11) -> 0 | DQ11: 3 | DR11: =IF(BU11="","", (1 - ABS((BU11-$CI11)/$CI11))*40) | DS11: =IF(BV11="","", (1 - ABS((BV11-$CI11)/$CI11))*40) | DT11: =IF(BW11="","", (1 - ABS((BW11-$CI11)/$CI11))*40) | DU11: =IF(BX11="","", (1 - ABS((BX11-$CI11)/$CI11))*40) | DV11: =IF(BY11="","", (1 - ABS((BY11-$CI11)/$CI11))*40) | DW11: =IF(BZ11="","", (1 - ABS((BZ11-$CI11)/$CI11))*40) | DX11: =IF(CA11="","", (1 - ABS((CA11-$CI11)/$CI11))*40) -> 40 | DY11: 3 | EF11: =2*12 -> 24 | EG11: 3 | EH11: =IF(DZ11<36,0,IF(DZ11>=72,60,IF(DZ11>=66,40,IF(DZ11>=60,30,IF(DZ11>=48,20,IF(DZ11>=36,10,0)))))) -> 0 | EI11: =IF(EA11<36,0,IF(EA11>=72,60,IF(EA11>=66,40,IF(EA11>=60,30,IF(EA11>=48,20,IF(EA11>=36,10,0)))))) -> 0 | EJ11: =IF(EB11<36,0,IF(EB11>=72,60,IF(EB11>=66,40,IF(EB11>=60,30,IF(EB11>=48,20,IF(EB11>=36,10,0)))))) -> 0 | EK11: =IF(EC11<36,0,IF(EC11>=72,60,IF(EC11>=66,40,IF(EC11>=60,30,IF(EC11>=48,20,IF(EC11>=36,10,0)))))) -> 0 | EL11: =IF(ED11<36,0,IF(ED11>=72,60,IF(ED11>=66,40,IF(ED11>=60,30,IF(ED11>=48,20,IF(ED11>=36,10,0)))))) -> 0 | EM11: =IF(EE11<36,0,IF(EE11>=72,60,IF(EE11>=66,40,IF(EE11>=60,30,IF(EE11>=48,20,IF(EE11>=36,10,0)))))) -> 0 | EN11: =IF(EF11<36,0,IF(EF11>=72,60,IF(EF11>=66,40,IF(EF11>=60,30,IF(EF11>=48,20,IF(EF11>=36,10,0)))))) -> 0 | EO11: 3 | EP11: =IF(DR11="","",(EH11+DR11)) | EQ11: =IF(DS11="","",(EI11+DS11)) | ER11: =IF(DT11="","",(EJ11+DT11)) | ES11: =IF(DU11="","",(EK11+DU11)) | ET11: =IF(DV11="","",(EL11+DV11)) | EU11: =IF(DW11="","",(EM11+DW11)) | EV11: =IF(DX11="","",(EN11+DX11)) -> 40 | EW11: =MAX(EP11:EV11) -> 40 | EX11: =IF($EW11=EP11,EP$8,IF($EW11=EQ11,EQ$8,IF($EW11=ER11,ER$8,IF($EW11=ES11,ES$8,IF($EW11=ET11,ET$8,IF($EW11=EU11,EU$8,IF($EW11=EV11,EV$8,""))))))) -> 7. INSTRUMENTACIÓN Y SERVICIOS S.A.S. - NIT.: 830505910-7 | EY11: =IF($EW11=#REF!,#REF!,IF($EW11=#REF!,#REF!,IF($EW11=#REF!,#REF!,IF($EW11=#REF!,#REF!,IF($EW11=#REF!,#REF!,IF($EW11=#REF!,#REF!,IF($EW11=#REF!,#REF!,""))))))) -> #REF! | EZ11: =IF($EW11=#REF!,#REF!,IF($EW11=#REF!,#REF!,IF($EW11=#REF!,#REF!,IF($EW11=#REF!,#REF!,IF($EW11=#REF!,#REF!,IF($EW11=#REF!,#REF!,IF($EW11=#REF!,#REF!,""))))))) -> #REF! | FA11: =IF($EW11=#REF!,#REF!,IF($EW11=#REF!,#REF!,IF($EW11=#REF!,#REF!,IF($EW11=#REF!,#REF!,IF($EW11=#REF!,#REF!,IF($EW11=#REF!,#REF!,IF($EW11=#REF!,#REF!,""))))))) -> #REF! | FB11: =IFERROR(INDEX($EP$8:$EV$8,MATCH(EW11,EP11:EV11,0)), "DESIERTO") -> 7. INSTRUMENTACIÓN Y SERVICIOS S.A.S. - NIT.: 830505910-7 | FC11: =IF($EW11=EP11,EP$8,IF($EW11=EQ11,EQ$8,IF($EW11=ER11,ER$8,IF($EW11=ES11,ES$8,IF($EW11=ET11,ET$8,IF($EW11=EU11,EU$8,IF($EW11=EV11,EV$8,IF($EW11=#REF!,#REF!,IF($EW11=#REF!,#REF!,IF($EW11=#REF!,#REF!,IF($EW11=#REF!,#REF!,IF($EW11=#REF!,#REF!,IF($EW11=#REF!,#REF!,IF($EW11=#REF!,#REF!,IF($EW11=#REF!,#REF!,IF($EW11=#REF!,#REF!,IF($EW11=#REF!,#REF!,IF($EW11=#REF!,#REF!,IF($EW11=#REF!,#REF!,IF($EW11=#REF!,#REF!,IF($EW11=#REF!,#REF!,IF($EW11=#REF!,#REF!,IF($EW11=#REF!,#REF!,IF($EW11=#REF!,#REF!,IF($EW11=#REF!,#REF!,IF($EW11=#REF!,#REF!,IF($EW11=#REF!,#REF!,IF($EW11=#REF!,#REF!,"")))))))))))))))))))))))))))) -> 7. INSTRUMENTACIÓN Y SERVICIOS S.A.S. - NIT.: 830505910-7 | FD11: =IF($FC11=$I$8,$I11,IF($FC11=$J$8,$J11,IF($FC11=$K$8,$K11,IF($FC11=$L$8,$L11,IF($FC11=$M$8,$M11,IF($FC11=$N$8,$N11,IF($FC11=$O$8,$O11,""))))))) -> 12131236 | FE11: =IF($FC11=#REF!,#REF!,IF($FC11=#REF!,#REF!,IF($FC11=#REF!,#REF!,IF($FC11=#REF!,#REF!,IF($FC11=#REF!,#REF!,IF($FC11=#REF!,#REF!,IF($FC11=#REF!,#REF!,""))))))) -> #REF! | FF11: =IF($FC11=#REF!,#REF!,IF($FC11=#REF!,#REF!,IF($FC11=#REF!,#REF!,IF($FC11=#REF!,#REF!,IF($FC11=#REF!,#REF!,IF($FC11=#REF!,#REF!,IF($FC11=#REF!,#REF!,""))))))) -> #REF! | FG11: =IF($FC11=#REF!,#REF!,IF($FC11=#REF!,#REF!,IF($FC11=#REF!,#REF!,IF($FC11=#REF!,#REF!,IF($FC11=#REF!,#REF!,IF($FC11=#REF!,#REF!,IF($FC11=#REF!,#REF!,""))))))) -> #REF! | FH11: =IFERROR(INDEX(I11:O11,MATCH(FB11,$I$8:$O$8,0)),"DESIERTO") -> 12131236 | FI11: =MAX(FD11:FG11) -> #REF! | FJ11: 3 | FK11: =IFERROR(IF(FH11>0,(G11-FH11),"F"),"D") -> 317442 | FL11: =IF(FB11="DESIERTO",G11,"ADJUDICADO") -> ADJUDICADO
B12: TECNOLÓGICA | C12: LABORATORIOS DE ELÉCTRICA - LABORATORIO APLICADO DE MÁQUINAS ELÉCTRICAS LABORATORIOS DE ELÉCTRICA - LABORATORIO APLICADO DE CIRCUITOS, ELECTRÓNICA Y CONTROL LABORATORIOS DE ELÉCTRICA - LABORATORIO ESPECIALIZADO DE SISTEMAS ELÉCTRICOS | D12: EDIFICIO TECHNÉ, PISO 3 | E12: SONDAS DE OSCILOSCOPIO | F12: 12 | G12: 5352790 | H12: 4 | P12: 4 | Q12: =IF(I12="NC","NC",IF(I12<=$G12,I12,"")) -> 0 | R12: =IF(J12="NC","NC",IF(J12<=$G12,J12,"")) -> 0 | S12: =IF(K12="NC","NC",IF(K12<=$G12,K12,"")) -> 0 | T12: =IF(L12="NC","NC",IF(L12<=$G12,L12,"")) -> 0 | U12: =IF(M12="NC","NC",IF(M12<=$G12,M12,"")) -> 0 | V12: =IF(N12="NC","NC",IF(N12<=$G12,N12,"")) -> 0 | W12: =IF(O12="NC","NC",IF(O12<=$G12,O12,"")) -> 0 | X12: 4 | Y12: NO CUMPLE | Z12: NO CUMPLE | AA12: NO CUMPLE | AB12: NO CUMPLE | AC12: NO CUMPLE | AD12: NO CUMPLE | AE12: NO CUMPLE | AF12: 4 | AG12: CUMPLE | AH12: CUMPLE | AI12: CUMPLE | AJ12: CUMPLE | AK12: CUMPLE | AL12: CUMPLE | AM12: CUMPLE | AN12: 4 | AO12: CUMPLE | AP12: CUMPLE | AQ12: CUMPLE | AR12: CUMPLE | AS12: CUMPLE | AT12: CUMPLE | AU12: CUMPLE | AV12: 4 | AW12: =IF(Y12="NO CUMPLE","NO CUMPLE",IF(AG12="NO CUMPLE","NO CUMPLE",IF(AO12="NO CUMPLE","NO CUMPLE",IF(AO12="CUMPLE","CUMPLE")))) -> NO CUMPLE | AX12: =IF(Z12="NO CUMPLE","NO CUMPLE",IF(AH12="NO CUMPLE","NO CUMPLE",IF(AP12="NO CUMPLE","NO CUMPLE",IF(AP12="CUMPLE","CUMPLE")))) -> NO CUMPLE | AY12: =IF(AA12="NO CUMPLE","NO CUMPLE",IF(AI12="NO CUMPLE","NO CUMPLE",IF(AQ12="NO CUMPLE","NO CUMPLE",IF(AQ12="CUMPLE","CUMPLE")))) -> NO CUMPLE | AZ12: =IF(AB12="NO CUMPLE","NO CUMPLE",IF(AJ12="NO CUMPLE","NO CUMPLE",IF(AR12="NO CUMPLE","NO CUMPLE",IF(AR12="CUMPLE","CUMPLE")))) -> NO CUMPLE | BA12: =IF(AC12="NO CUMPLE","NO CUMPLE",IF(AK12="NO CUMPLE","NO CUMPLE",IF(AS12="NO CUMPLE","NO CUMPLE",IF(AS12="CUMPLE","CUMPLE")))) -> NO CUMPLE | BB12: =IF(AD12="NO CUMPLE","NO CUMPLE",IF(AL12="NO CUMPLE","NO CUMPLE",IF(AT12="NO CUMPLE","NO CUMPLE",IF(AT12="CUMPLE","CUMPLE")))) -> NO CUMPLE | BC12: =IF(AE12="NO CUMPLE","NO CUMPLE",IF(AM12="NO CUMPLE","NO CUMPLE",IF(AU12="NO CUMPLE","NO CUMPLE",IF(AU12="CUMPLE","CUMPLE")))) -> NO CUMPLE | BD12: 4 | BE12: NC | BF12: NC | BG12: NC | BH12: NC | BI12: NC | BJ12: NC | BK12: NC | BM12: NC | BN12: NC | BO12: NC | BP12: NC | BQ12: NC | BR12: NC | BS12: NC | BT12: 4 | BU12: =IF(AW12="NO CUMPLE","",IF(BE12="NO CUMPLE","",IF(BM12="NO CUMPLE","",IF(BE12="NC","",IF(BM12="CUMPLE",I12))))) | BV12: =IF(AX12="NO CUMPLE","",IF(BF12="NO CUMPLE","",IF(BN12="NO CUMPLE","",IF(BF12="NC","",IF(BN12="CUMPLE",J12))))) | BW12: =IF(AY12="NO CUMPLE","",IF(BG12="NO CUMPLE","",IF(BO12="NO CUMPLE","",IF(BG12="NC","",IF(BO12="CUMPLE",K12))))) | BX12: =IF(AZ12="NO CUMPLE","",IF(BH12="NO CUMPLE","",IF(BP12="NO CUMPLE","",IF(BH12="NC","",IF(BP12="CUMPLE",L12))))) | BY12: =IF(BA12="NO CUMPLE","",IF(BI12="NO CUMPLE","",IF(BQ12="NO CUMPLE","",IF(BI12="NC","",IF(BQ12="CUMPLE",M12))))) | BZ12: =IF(BB12="NO CUMPLE","",IF(BJ12="NO CUMPLE","",IF(BR12="NO CUMPLE","",IF(BJ12="NC","",IF(BR12="CUMPLE",N12))))) | CA12: =IF(BC12="NO CUMPLE","",IF(BK12="NO CUMPLE","",IF(BS12="NO CUMPLE","",IF(BK12="NC","",IF(BS12="CUMPLE",O12))))) | CB12: 5352790 | CC12: 5352790 | CD12: =COUNT(BU12:CA12) -> 0 | CE12: =IF(CD12=2,1,IF(CD12=3,2,IF(CD12=4,3,IF(CD12>5,5,)))) -> 0 | CF12: =IFERROR(MEDIAN(BU12:CA12),"") | CG12: =IF(COUNT(BU12:CA12)=0,"",MOD(COUNT(BU12:CA12),2)) | CH12: =IF(COUNT(BU12:CA12)<2,"", IF(MOD(COUNT(BU12:CA12),2)=1,"", SMALL(BU12:CA12, COUNT(BU12:CA12)/2 ) )) | CI12: =IF(CG12=1, CF12, CH12) | CJ12: 4 | CK12: =IF(BU12="","", (1 - ABS((BU12 - $CI12)/$CI12)) * 40) | CL12: =IF(BV12="","", (1 - ABS((BV12 - $CI12)/$CI12)) * 40) | CM12: =IF(BW12="","", (1 - ABS((BW12 - $CI12)/$CI12)) * 40) | CN12: =IF(BX12="","", (1 - ABS((BX12 - $CI12)/$CI12)) * 40) | CO12: =IF(BY12="","", (1 - ABS((BY12 - $CI12)/$CI12)) * 40) | CP12: =IF(BZ12="","", (1 - ABS((BZ12 - $CI12)/$CI12)) * 40) | CQ12: =IF(CA12="","", (1 - ABS((CA12 - $CI12)/$CI12)) * 40) | CR12: 4 | CS12: =IF(BU12="","",ABS((BU12 - $CI12)/$CI12)) | CT12: =IF(BV12="","",ABS((BV12 - $CI12)/$CI12)) | CU12: =IF(BW12="","",ABS((BW12 - $CI12)/$CI12)) | CV12: =IF(BX12="","",ABS((BX12 - $CI12)/$CI12)) | CW12: =IF(BY12="","",ABS((BY12 - $CI12)/$CI12)) | CX12: =IF(BZ12="","",ABS((BZ12 - $CI12)/$CI12)) | CY12: =IF(CA12="","",ABS((CA12 - $CI12)/$CI12)) | CZ12: 4 | DA12: =IF(CK12="","",ABS(BU12-$CF12)) | DB12: =IF(CL12="","",ABS(BV12-$CF12)) | DC12: =IF(CM12="","",ABS(BW12-$CF12)) | DD12: =IF(CN12="","",ABS(BX12-$CF12)) | DE12: =IF(CO12="","",ABS(BY12-$CF12)) | DF12: =IF(CP12="","",ABS(BZ12-$CF12)) | DG12: =IF(CQ12="","",ABS(CA12-$CF12)) | DH12: 4 | DI12: =IF(BU12="","",(BU12-$CI12)^2) | DJ12: =IF(BV12="","",(BV12-$CI12)^2) | DK12: =IF(BW12="","",(BW12-$CI12)^2) | DL12: =IF(BX12="","",(BX12-$CI12)^2) | DM12: =IF(BY12="","",(BY12-$CI12)^2) | DN12: =IF(BZ12="","",(BZ12-$CI12)^2) | DO12: =IF(CA12="","",(CA12-$CI12)^2) | DP12: =MIN(DI12:DO12) -> 0 | DQ12: 4 | DR12: =IF(BU12="","", (1 - ABS((BU12-$CI12)/$CI12))*40) | DS12: =IF(BV12="","", (1 - ABS((BV12-$CI12)/$CI12))*40) | DT12: =IF(BW12="","", (1 - ABS((BW12-$CI12)/$CI12))*40) | DU12: =IF(BX12="","", (1 - ABS((BX12-$CI12)/$CI12))*40) | DV12: =IF(BY12="","", (1 - ABS((BY12-$CI12)/$CI12))*40) | DW12: =IF(BZ12="","", (1 - ABS((BZ12-$CI12)/$CI12))*40) | DX12: =IF(CA12="","", (1 - ABS((CA12-$CI12)/$CI12))*40) | DY12: 4 | EG12: 4 | EH12: =IF(DZ12<36,0,IF(DZ12>=72,60,IF(DZ12>=66,40,IF(DZ12>=60,30,IF(DZ12>=48,20,IF(DZ12>=36,10,0)))))) -> 0 | EI12: =IF(EA12<36,0,IF(EA12>=72,60,IF(EA12>=66,40,IF(EA12>=60,30,IF(EA12>=48,20,IF(EA12>=36,10,0)))))) -> 0 | EJ12: =IF(EB12<36,0,IF(EB12>=72,60,IF(EB12>=66,40,IF(EB12>=60,30,IF(EB12>=48,20,IF(EB12>=36,10,0)))))) -> 0 | EK12: =IF(EC12<36,0,IF(EC12>=72,60,IF(EC12>=66,40,IF(EC12>=60,30,IF(EC12>=48,20,IF(EC12>=36,10,0)))))) -> 0 | EL12: =IF(ED12<36,0,IF(ED12>=72,60,IF(ED12>=66,40,IF(ED12>=60,30,IF(ED12>=48,20,IF(ED12>=36,10,0)))))) -> 0 | EM12: =IF(EE12<36,0,IF(EE12>=72,60,IF(EE12>=66,40,IF(EE12>=60,30,IF(EE12>=48,20,IF(EE12>=36,10,0)))))) -> 0 | EN12: =IF(EF12<36,0,IF(EF12>=72,60,IF(EF12>=66,40,IF(EF12>=60,30,IF(EF12>=48,20,IF(EF12>=36,10,0)))))) -> 0 | EO12: 4 | EP12: =IF(DR12="","",(EH12+DR12)) | EQ12: =IF(DS12="","",(EI12+DS12)) | ER12: =IF(DT12="","",(EJ12+DT12)) | ES12: =IF(DU12="","",(EK12+DU12)) | ET12: =IF(DV12="","",(EL12+DV12)) | EU12: =IF(DW12="","",(EM12+DW12)) | EV12: =IF(DX12="","",(EN12+DX12)) | EW12: =MAX(EP12:EV12) -> 0 | EX12: =IF($EW12=EP12,EP$8,IF($EW12=EQ12,EQ$8,IF($EW12=ER12,ER$8,IF($EW12=ES12,ES$8,IF($EW12=ET12,ET$8,IF($EW12=EU12,EU$8,IF($EW12=EV12,EV$8,""))))))) | EY12: =IF($EW12=#REF!,#REF!,IF($EW12=#REF!,#REF!,IF($EW12=#REF!,#REF!,IF($EW12=#REF!,#REF!,IF($EW12=#REF!,#REF!,IF($EW12=#REF!,#REF!,IF($EW12=#REF!,#REF!,""))))))) -> #REF! | EZ12: =IF($EW12=#REF!,#REF!,IF($EW12=#REF!,#REF!,IF($EW12=#REF!,#REF!,IF($EW12=#REF!,#REF!,IF($EW12=#REF!,#REF!,IF($EW12=#REF!,#REF!,IF($EW12=#REF!,#REF!,""))))))) -> #REF! | FA12: =IF($EW12=#REF!,#REF!,IF($EW12=#REF!,#REF!,IF($EW12=#REF!,#REF!,IF($EW12=#REF!,#REF!,IF($EW12=#REF!,#REF!,IF($EW12=#REF!,#REF!,IF($EW12=#REF!,#REF!,""))))))) -> #REF! | FB12: =IFERROR(INDEX($EP$8:$EV$8,MATCH(EW12,EP12:EV12,0)), "DESIERTO") -> DESIERTO | FC12: =IF($EW12=EP12,EP$8,IF($EW12=EQ12,EQ$8,IF($EW12=ER12,ER$8,IF($EW12=ES12,ES$8,IF($EW12=ET12,ET$8,IF($EW12=EU12,EU$8,IF($EW12=EV12,EV$8,IF($EW12=#REF!,#REF!,IF($EW12=#REF!,#REF!,IF($EW12=#REF!,#REF!,IF($EW12=#REF!,#REF!,IF($EW12=#REF!,#REF!,IF($EW12=#REF!,#REF!,IF($EW12=#REF!,#REF!,IF($EW12=#REF!,#REF!,IF($EW12=#REF!,#REF!,IF($EW12=#REF!,#REF!,IF($EW12=#REF!,#REF!,IF($EW12=#REF!,#REF!,IF($EW12=#REF!,#REF!,IF($EW12=#REF!,#REF!,IF($EW12=#REF!,#REF!,IF($EW12=#REF!,#REF!,IF($EW12=#REF!,#REF!,IF($EW12=#REF!,#REF!,IF($EW12=#REF!,#REF!,IF($EW12=#REF!,#REF!,IF($EW12=#REF!,#REF!,"")))))))))))))))))))))))))))) -> #REF! | FD12: =IF($FC12=$I$8,$I12,IF($FC12=$J$8,$J12,IF($FC12=$K$8,$K12,IF($FC12=$L$8,$L12,IF($FC12=$M$8,$M12,IF($FC12=$N$8,$N12,IF($FC12=$O$8,$O12,""))))))) -> #REF! | FE12: =IF($FC12=#REF!,#REF!,IF($FC12=#REF!,#REF!,IF($FC12=#REF!,#REF!,IF($FC12=#REF!,#REF!,IF($FC12=#REF!,#REF!,IF($FC12=#REF!,#REF!,IF($FC12=#REF!,#REF!,""))))))) -> #REF! | FF12: =IF($FC12=#REF!,#REF!,IF($FC12=#REF!,#REF!,IF($FC12=#REF!,#REF!,IF($FC12=#REF!,#REF!,IF($FC12=#REF!,#REF!,IF($FC12=#REF!,#REF!,IF($FC12=#REF!,#REF!,""))))))) -> #REF! | FG12: =IF($FC12=#REF!,#REF!,IF($FC12=#REF!,#REF!,IF($FC12=#REF!,#REF!,IF($FC12=#REF!,#REF!,IF($FC12=#REF!,#REF!,IF($FC12=#REF!,#REF!,IF($FC12=#REF!,#REF!,""))))))) -> #REF! | FH12: =IFERROR(INDEX(I12:O12,MATCH(FB12,$I$8:$O$8,0)),"DESIERTO") -> DESIERTO | FI12: =MAX(FD12:FG12) -> #REF! | FJ12: 4 | FK12: =IFERROR(IF(FH12>0,(G12-FH12),"F"),"D") -> D | FL12: =IF(FB12="DESIERTO",G12,"ADJUDICADO") -> 5352790
B13: TECNOLÓGICA | C13: LABORATORIOS DE ELÉCTRICA - LABORATORIO ESPECIALIZADO DE SISTEMAS ELÉCTRICOS LABORATORIOS DE ELÉCTRICA - LABORATORIO ESPECIALIZADO DE SISTEMAS DE POTENCIA Y SMART GRID | D13: EDIFICIO TECHNÉ, PISO 3 | E13: MULTÍMETRO DIGITAL TRUE RMS | F13: 10 | G13: 40227871 | H13: 5 | I13: 32115720 | L13: 33377120 | O13: 39584220 | P13: 5 | Q13: =IF(I13="NC","NC",IF(I13<=$G13,I13,"")) -> 32115720 | R13: =IF(J13="NC","NC",IF(J13<=$G13,J13,"")) -> 0 | S13: =IF(K13="NC","NC",IF(K13<=$G13,K13,"")) -> 0 | T13: =IF(L13="NC","NC",IF(L13<=$G13,L13,"")) -> 33377120 | U13: =IF(M13="NC","NC",IF(M13<=$G13,M13,"")) -> 0 | V13: =IF(N13="NC","NC",IF(N13<=$G13,N13,"")) -> 0 | W13: =IF(O13="NC","NC",IF(O13<=$G13,O13,"")) -> 39584220 | X13: 5 | Y13: CUMPLE | Z13: NO CUMPLE | AA13: NO CUMPLE | AB13: CUMPLE | AC13: NO CUMPLE | AD13: NO CUMPLE | AE13: CUMPLE | AF13: 5 | AG13: CUMPLE | AH13: CUMPLE | AI13: CUMPLE | AJ13: CUMPLE | AK13: CUMPLE | AL13: CUMPLE | AM13: CUMPLE | AN13: 5 | AO13: CUMPLE | AP13: CUMPLE | AQ13: CUMPLE | AR13: CUMPLE | AS13: CUMPLE | AT13: CUMPLE | AU13: CUMPLE | AV13: 5 | AW13: =IF(Y13="NO CUMPLE","NO CUMPLE",IF(AG13="NO CUMPLE","NO CUMPLE",IF(AO13="NO CUMPLE","NO CUMPLE",IF(AO13="CUMPLE","CUMPLE")))) -> CUMPLE | AX13: =IF(Z13="NO CUMPLE","NO CUMPLE",IF(AH13="NO CUMPLE","NO CUMPLE",IF(AP13="NO CUMPLE","NO CUMPLE",IF(AP13="CUMPLE","CUMPLE")))) -> NO CUMPLE | AY13: =IF(AA13="NO CUMPLE","NO CUMPLE",IF(AI13="NO CUMPLE","NO CUMPLE",IF(AQ13="NO CUMPLE","NO CUMPLE",IF(AQ13="CUMPLE","CUMPLE")))) -> NO CUMPLE | AZ13: =IF(AB13="NO CUMPLE","NO CUMPLE",IF(AJ13="NO CUMPLE","NO CUMPLE",IF(AR13="NO CUMPLE","NO CUMPLE",IF(AR13="CUMPLE","CUMPLE")))) -> CUMPLE | BA13: =IF(AC13="NO CUMPLE","NO CUMPLE",IF(AK13="NO CUMPLE","NO CUMPLE",IF(AS13="NO CUMPLE","NO CUMPLE",IF(AS13="CUMPLE","CUMPLE")))) -> NO CUMPLE | BB13: =IF(AD13="NO CUMPLE","NO CUMPLE",IF(AL13="NO CUMPLE","NO CUMPLE",IF(AT13="NO CUMPLE","NO CUMPLE",IF(AT13="CUMPLE","CUMPLE")))) -> NO CUMPLE | BC13: =IF(AE13="NO CUMPLE","NO CUMPLE",IF(AM13="NO CUMPLE","NO CUMPLE",IF(AU13="NO CUMPLE","NO CUMPLE",IF(AU13="CUMPLE","CUMPLE")))) -> CUMPLE | BD13: 5 | BE13: CUMPLE | BF13: NC | BG13: NC | BH13: CUMPLE | BI13: NC | BJ13: NC | BK13: CUMPLE | BL13: 5 | BM13: CUMPLE | BN13: NC | BO13: NC | BP13: CUMPLE | BQ13: NC | BR13: NC | BS13: CUMPLE | BT13: 5 | BU13: =IF(AW13="NO CUMPLE","",IF(BE13="NO CUMPLE","",IF(BM13="NO CUMPLE","",IF(BE13="NC","",IF(BM13="CUMPLE",I13))))) -> 32115720 | BV13: =IF(AX13="NO CUMPLE","",IF(BF13="NO CUMPLE","",IF(BN13="NO CUMPLE","",IF(BF13="NC","",IF(BN13="CUMPLE",J13))))) | BW13: =IF(AY13="NO CUMPLE","",IF(BG13="NO CUMPLE","",IF(BO13="NO CUMPLE","",IF(BG13="NC","",IF(BO13="CUMPLE",K13))))) | BX13: =IF(AZ13="NO CUMPLE","",IF(BH13="NO CUMPLE","",IF(BP13="NO CUMPLE","",IF(BH13="NC","",IF(BP13="CUMPLE",L13))))) -> 33377120 | BY13: =IF(BA13="NO CUMPLE","",IF(BI13="NO CUMPLE","",IF(BQ13="NO CUMPLE","",IF(BI13="NC","",IF(BQ13="CUMPLE",M13))))) | BZ13: =IF(BB13="NO CUMPLE","",IF(BJ13="NO CUMPLE","",IF(BR13="NO CUMPLE","",IF(BJ13="NC","",IF(BR13="CUMPLE",N13))))) | CA13: =IF(BC13="NO CUMPLE","",IF(BK13="NO CUMPLE","",IF(BS13="NO CUMPLE","",IF(BK13="NC","",IF(BS13="CUMPLE",O13))))) -> 39584220 | CB13: 40227871 | CC13: 40227871 | CD13: =COUNT(BU13:CA13) -> 3 | CE13: =IF(CD13=2,1,IF(CD13=3,2,IF(CD13=4,3,IF(CD13>5,5,)))) -> 2 | CF13: =IFERROR(MEDIAN(BU13:CA13),"") -> 33377120 | CG13: =IF(COUNT(BU13:CA13)=0,"",MOD(COUNT(BU13:CA13),2)) -> 1 | CH13: =IF(COUNT(BU13:CA13)<2,"", IF(MOD(COUNT(BU13:CA13),2)=1,"", SMALL(BU13:CA13, COUNT(BU13:CA13)/2 ) )) | CI13: =IF(CG13=1, CF13, CH13) -> 33377120 | CJ13: 5 | CK13: =IF(BU13="","", (1 - ABS((BU13 - $CI13)/$CI13)) * 40) -> 38.488306 | CL13: =IF(BV13="","", (1 - ABS((BV13 - $CI13)/$CI13)) * 40) | CM13: =IF(BW13="","", (1 - ABS((BW13 - $CI13)/$CI13)) * 40) | CN13: =IF(BX13="","", (1 - ABS((BX13 - $CI13)/$CI13)) * 40) -> 40 | CO13: =IF(BY13="","", (1 - ABS((BY13 - $CI13)/$CI13)) * 40) | CP13: =IF(BZ13="","", (1 - ABS((BZ13 - $CI13)/$CI13)) * 40) | CQ13: =IF(CA13="","", (1 - ABS((CA13 - $CI13)/$CI13)) * 40) -> 32.561252 | CR13: 5 | CS13: =IF(BU13="","",ABS((BU13 - $CI13)/$CI13)) -> 0.037792356 | CT13: =IF(BV13="","",ABS((BV13 - $CI13)/$CI13)) | CU13: =IF(BW13="","",ABS((BW13 - $CI13)/$CI13)) | CV13: =IF(BX13="","",ABS((BX13 - $CI13)/$CI13)) -> 0 | CW13: =IF(BY13="","",ABS((BY13 - $CI13)/$CI13)) | CX13: =IF(BZ13="","",ABS((BZ13 - $CI13)/$CI13)) | CY13: =IF(CA13="","",ABS((CA13 - $CI13)/$CI13)) -> 0.18596871 | CZ13: 5 | DA13: =IF(CK13="","",ABS(BU13-$CF13)) -> 1261400 | DB13: =IF(CL13="","",ABS(BV13-$CF13)) | DC13: =IF(CM13="","",ABS(BW13-$CF13)) | DD13: =IF(CN13="","",ABS(BX13-$CF13)) -> 0 | DE13: =IF(CO13="","",ABS(BY13-$CF13)) | DF13: =IF(CP13="","",ABS(BZ13-$CF13)) | DG13: =IF(CQ13="","",ABS(CA13-$CF13)) -> 6207100 | DH13: 5 | DI13: =IF(BU13="","",(BU13-$CI13)^2) -> 1591129960000 | DJ13: =IF(BV13="","",(BV13-$CI13)^2) | DK13: =IF(BW13="","",(BW13-$CI13)^2) | DL13: =IF(BX13="","",(BX13-$CI13)^2) -> 0 | DM13: =IF(BY13="","",(BY13-$CI13)^2) | DN13: =IF(BZ13="","",(BZ13-$CI13)^2) | DO13: =IF(CA13="","",(CA13-$CI13)^2) -> 38528090410000 | DP13: =MIN(DI13:DO13) -> 0 | DQ13: 5 | DR13: =IF(BU13="","", (1 - ABS((BU13-$CI13)/$CI13))*40) -> 38.488306 | DS13: =IF(BV13="","", (1 - ABS((BV13-$CI13)/$CI13))*40) | DT13: =IF(BW13="","", (1 - ABS((BW13-$CI13)/$CI13))*40) | DU13: =IF(BX13="","", (1 - ABS((BX13-$CI13)/$CI13))*40) -> 40 | DV13: =IF(BY13="","", (1 - ABS((BY13-$CI13)/$CI13))*40) | DW13: =IF(BZ13="","", (1 - ABS((BZ13-$CI13)/$CI13))*40) | DX13: =IF(CA13="","", (1 - ABS((CA13-$CI13)/$CI13))*40) -> 32.561252 | DY13: 5 | DZ13: =4*12 -> 48 | EC13: =4*12 -> 48 | EF13: =4*12 -> 48 | EG13: 5 | EH13: =IF(DZ13<36,0,IF(DZ13>=72,60,IF(DZ13>=66,40,IF(DZ13>=60,30,IF(DZ13>=48,20,IF(DZ13>=36,10,0)))))) -> 20 | EI13: =IF(EA13<36,0,IF(EA13>=72,60,IF(EA13>=66,40,IF(EA13>=60,30,IF(EA13>=48,20,IF(EA13>=36,10,0)))))) -> 0 | EJ13: =IF(EB13<36,0,IF(EB13>=72,60,IF(EB13>=66,40,IF(EB13>=60,30,IF(EB13>=48,20,IF(EB13>=36,10,0)))))) -> 0 | EK13: =IF(EC13<36,0,IF(EC13>=72,60,IF(EC13>=66,40,IF(EC13>=60,30,IF(EC13>=48,20,IF(EC13>=36,10,0)))))) -> 20 | EL13: =IF(ED13<36,0,IF(ED13>=72,60,IF(ED13>=66,40,IF(ED13>=60,30,IF(ED13>=48,20,IF(ED13>=36,10,0)))))) -> 0 | EM13: =IF(EE13<36,0,IF(EE13>=72,60,IF(EE13>=66,40,IF(EE13>=60,30,IF(EE13>=48,20,IF(EE13>=36,10,0)))))) -> 0 | EN13: =IF(EF13<36,0,IF(EF13>=72,60,IF(EF13>=66,40,IF(EF13>=60,30,IF(EF13>=48,20,IF(EF13>=36,10,0)))))) -> 20 | EO13: 5 | EP13: =IF(DR13="","",(EH13+DR13)) -> 58.488306 | EQ13: =IF(DS13="","",(EI13+DS13)) | ER13: =IF(DT13="","",(EJ13+DT13)) | ES13: =IF(DU13="","",(EK13+DU13)) -> 60 | ET13: =IF(DV13="","",(EL13+DV13)) | EU13: =IF(DW13="","",(EM13+DW13)) | EV13: =IF(DX13="","",(EN13+DX13)) -> 52.561252 | EW13: =MAX(EP13:EV13) -> 60 | EX13: =IF($EW13=EP13,EP$8,IF($EW13=EQ13,EQ$8,IF($EW13=ER13,ER$8,IF($EW13=ES13,ES$8,IF($EW13=ET13,ET$8,IF($EW13=EU13,EU$8,IF($EW13=EV13,EV$8,""))))))) -> 4. CASA HERMES LTDA NIT: 890.204.286-5 | EY13: =IF($EW13=#REF!,#REF!,IF($EW13=#REF!,#REF!,IF($EW13=#REF!,#REF!,IF($EW13=#REF!,#REF!,IF($EW13=#REF!,#REF!,IF($EW13=#REF!,#REF!,IF($EW13=#REF!,#REF!,""))))))) -> #REF! | EZ13: =IF($EW13=#REF!,#REF!,IF($EW13=#REF!,#REF!,IF($EW13=#REF!,#REF!,IF($EW13=#REF!,#REF!,IF($EW13=#REF!,#REF!,IF($EW13=#REF!,#REF!,IF($EW13=#REF!,#REF!,""))))))) -> #REF! | FA13: =IF($EW13=#REF!,#REF!,IF($EW13=#REF!,#REF!,IF($EW13=#REF!,#REF!,IF($EW13=#REF!,#REF!,IF($EW13=#REF!,#REF!,IF($EW13=#REF!,#REF!,IF($EW13=#REF!,#REF!,""))))))) -> #REF! | FB13: =IFERROR(INDEX($EP$8:$EV$8,MATCH(EW13,EP13:EV13,0)), "DESIERTO") -> 4. CASA HERMES LTDA NIT: 890.204.286-5 | FC13: =IF($EW13=EP13,EP$8,IF($EW13=EQ13,EQ$8,IF($EW13=ER13,ER$8,IF($EW13=ES13,ES$8,IF($EW13=ET13,ET$8,IF($EW13=EU13,EU$8,IF($EW13=EV13,EV$8,IF($EW13=#REF!,#REF!,IF($EW13=#REF!,#REF!,IF($EW13=#REF!,#REF!,IF($EW13=#REF!,#REF!,IF($EW13=#REF!,#REF!,IF($EW13=#REF!,#REF!,IF($EW13=#REF!,#REF!,IF($EW13=#REF!,#REF!,IF($EW13=#REF!,#REF!,IF($EW13=#REF!,#REF!,IF($EW13=#REF!,#REF!,IF($EW13=#REF!,#REF!,IF($EW13=#REF!,#REF!,IF($EW13=#REF!,#REF!,IF($EW13=#REF!,#REF!,IF($EW13=#REF!,#REF!,IF($EW13=#REF!,#REF!,IF($EW13=#REF!,#REF!,IF($EW13=#REF!,#REF!,IF($EW13=#REF!,#REF!,IF($EW13=#REF!,#REF!,"")))))))))))))))))))))))))))) -> 4. CASA HERMES LTDA NIT: 890.204.286-5 | FD13: =IF($FC13=$I$8,$I13,IF($FC13=$J$8,$J13,IF($FC13=$K$8,$K13,IF($FC13=$L$8,$L13,IF($FC13=$M$8,$M13,IF($FC13=$N$8,$N13,IF($FC13=$O$8,$O13,""))))))) -> 33377120 | FE13: =IF($FC13=#REF!,#REF!,IF($FC13=#REF!,#REF!,IF($FC13=#REF!,#REF!,IF($FC13=#REF!,#REF!,IF($FC13=#REF!,#REF!,IF($FC13=#REF!,#REF!,IF($FC13=#REF!,#REF!,""))))))) -> #REF! | FF13: =IF($FC13=#REF!,#REF!,IF($FC13=#REF!,#REF!,IF($FC13=#REF!,#REF!,IF($FC13=#REF!,#REF!,IF($FC13=#REF!,#REF!,IF($FC13=#REF!,#REF!,IF($FC13=#REF!,#REF!,""))))))) -> #REF! | FG13: =IF($FC13=#REF!,#REF!,IF($FC13=#REF!,#REF!,IF($FC13=#REF!,#REF!,IF($FC13=#REF!,#REF!,IF($FC13=#REF!,#REF!,IF($FC13=#REF!,#REF!,IF($FC13=#REF!,#REF!,""))))))) -> #REF! | FH13: =IFERROR(INDEX(I13:O13,MATCH(FB13,$I$8:$O$8,0)),"DESIERTO") -> 33377120 | FI13: =MAX(FD13:FG13) -> #REF! | FJ13: 5 | FK13: =IFERROR(IF(FH13>0,(G13-FH13),"F"),"D") -> 6850751 | FL13: =IF(FB13="DESIERTO",G13,"ADJUDICADO") -> ADJUDICADO
B14: CIENCIA Y EDUCACION | C14: FOTOGRAFÍA Y VIDEO | D14: SEDE PORVENIR | E14: KIT CÁMARA FOTOGRÁFICA Y LENTE | F14: 7 | G14: 106542783 | H14: 6 | O14: 102462207 | P14: 6 | Q14: =IF(I14="NC","NC",IF(I14<=$G14,I14,"")) -> 0 | R14: =IF(J14="NC","NC",IF(J14<=$G14,J14,"")) -> 0 | S14: =IF(K14="NC","NC",IF(K14<=$G14,K14,"")) -> 0 | T14: =IF(L14="NC","NC",IF(L14<=$G14,L14,"")) -> 0 | U14: =IF(M14="NC","NC",IF(M14<=$G14,M14,"")) -> 0 | V14: =IF(N14="NC","NC",IF(N14<=$G14,N14,"")) -> 0 | W14: =IF(O14="NC","NC",IF(O14<=$G14,O14,"")) -> 102462207 | X14: 6 | Y14: NO CUMPLE | Z14: NO CUMPLE | AA14: NO CUMPLE | AB14: NO CUMPLE | AC14: NO CUMPLE | AD14: NO CUMPLE | AE14: CUMPLE | AF14: 6 | AG14: CUMPLE | AH14: CUMPLE | AI14: CUMPLE | AJ14: CUMPLE | AK14: CUMPLE | AL14: CUMPLE | AM14: CUMPLE | AN14: 6 | AO14: CUMPLE | AP14: CUMPLE | AQ14: CUMPLE | AR14: CUMPLE | AS14: CUMPLE | AT14: CUMPLE | AU14: CUMPLE | AV14: 6 | AW14: =IF(Y14="NO CUMPLE","NO CUMPLE",IF(AG14="NO CUMPLE","NO CUMPLE",IF(AO14="NO CUMPLE","NO CUMPLE",IF(AO14="CUMPLE","CUMPLE")))) -> NO CUMPLE | AX14: =IF(Z14="NO CUMPLE","NO CUMPLE",IF(AH14="NO CUMPLE","NO CUMPLE",IF(AP14="NO CUMPLE","NO CUMPLE",IF(AP14="CUMPLE","CUMPLE")))) -> NO CUMPLE | AY14: =IF(AA14="NO CUMPLE","NO CUMPLE",IF(AI14="NO CUMPLE","NO CUMPLE",IF(AQ14="NO CUMPLE","NO CUMPLE",IF(AQ14="CUMPLE","CUMPLE")))) -> NO CUMPLE | AZ14: =IF(AB14="NO CUMPLE","NO CUMPLE",IF(AJ14="NO CUMPLE","NO CUMPLE",IF(AR14="NO CUMPLE","NO CUMPLE",IF(AR14="CUMPLE","CUMPLE")))) -> NO CUMPLE | BA14: =IF(AC14="NO CUMPLE","NO CUMPLE",IF(AK14="NO CUMPLE","NO CUMPLE",IF(AS14="NO CUMPLE","NO CUMPLE",IF(AS14="CUMPLE","CUMPLE")))) -> NO CUMPLE | BB14: =IF(AD14="NO CUMPLE","NO CUMPLE",IF(AL14="NO CUMPLE","NO CUMPLE",IF(AT14="NO CUMPLE","NO CUMPLE",IF(AT14="CUMPLE","CUMPLE")))) -> NO CUMPLE | BC14: =IF(AE14="NO CUMPLE","NO CUMPLE",IF(AM14="NO CUMPLE","NO CUMPLE",IF(AU14="NO CUMPLE","NO CUMPLE",IF(AU14="CUMPLE","CUMPLE")))) -> CUMPLE | BD14: 6 | BE14: NC | BF14: NC | BG14: NC | BH14: NC | BI14: NC | BJ14: NC | BK14: CUMPLE | BL14: 6 | BM14: NC | BN14: NC | BO14: NC | BP14: NC | BQ14: NC | BR14: NC | BS14: CUMPLE | BT14: 6 | BU14: =IF(AW14="NO CUMPLE","",IF(BE14="NO CUMPLE","",IF(BM14="NO CUMPLE","",IF(BE14="NC","",IF(BM14="CUMPLE",I14))))) | BV14: =IF(AX14="NO CUMPLE","",IF(BF14="NO CUMPLE","",IF(BN14="NO CUMPLE","",IF(BF14="NC","",IF(BN14="CUMPLE",J14))))) | BW14: =IF(AY14="NO CUMPLE","",IF(BG14="NO CUMPLE","",IF(BO14="NO CUMPLE","",IF(BG14="NC","",IF(BO14="CUMPLE",K14))))) | BX14: =IF(AZ14="NO CUMPLE","",IF(BH14="NO CUMPLE","",IF(BP14="NO CUMPLE","",IF(BH14="NC","",IF(BP14="CUMPLE",L14))))) | BY14: =IF(BA14="NO CUMPLE","",IF(BI14="NO CUMPLE","",IF(BQ14="NO CUMPLE","",IF(BI14="NC","",IF(BQ14="CUMPLE",M14))))) | BZ14: =IF(BB14="NO CUMPLE","",IF(BJ14="NO CUMPLE","",IF(BR14="NO CUMPLE","",IF(BJ14="NC","",IF(BR14="CUMPLE",N14))))) | CA14: =IF(BC14="NO CUMPLE","",IF(BK14="NO CUMPLE","",IF(BS14="NO CUMPLE","",IF(BK14="NC","",IF(BS14="CUMPLE",O14))))) -> 102462207 | CB14: 106542783 | CC14: 106542783 | CD14: =COUNT(BU14:CA14) -> 1 | CE14: =IF(CD14=2,1,IF(CD14=3,2,IF(CD14=4,3,IF(CD14>5,5,)))) -> 0 | CF14: =IFERROR(MEDIAN(BU14:CA14),"") -> 102462207 | CG14: =IF(COUNT(BU14:CA14)=0,"",MOD(COUNT(BU14:CA14),2)) -> 1 | CH14: =IF(COUNT(BU14:CA14)<2,"", IF(MOD(COUNT(BU14:CA14),2)=1,"", SMALL(BU14:CA14, COUNT(BU14:CA14)/2 ) )) | CI14: =IF(CG14=1, CF14, CH14) -> 102462207 | CJ14: 6 | CK14: =IF(BU14="","", (1 - ABS((BU14 - $CI14)/$CI14)) * 40) | CL14: =IF(BV14="","", (1 - ABS((BV14 - $CI14)/$CI14)) * 40) | CM14: =IF(BW14="","", (1 - ABS((BW14 - $CI14)/$CI14)) * 40) | CN14: =IF(BX14="","", (1 - ABS((BX14 - $CI14)/$CI14)) * 40) | CO14: =IF(BY14="","", (1 - ABS((BY14 - $CI14)/$CI14)) * 40) | CP14: =IF(BZ14="","", (1 - ABS((BZ14 - $CI14)/$CI14)) * 40) | CQ14: =IF(CA14="","", (1 - ABS((CA14 - $CI14)/$CI14)) * 40) -> 40 | CR14: 6 | CS14: =IF(BU14="","",ABS((BU14 - $CI14)/$CI14)) | CT14: =IF(BV14="","",ABS((BV14 - $CI14)/$CI14)) | CU14: =IF(BW14="","",ABS((BW14 - $CI14)/$CI14)) | CV14: =IF(BX14="","",ABS((BX14 - $CI14)/$CI14)) | CW14: =IF(BY14="","",ABS((BY14 - $CI14)/$CI14)) | CX14: =IF(BZ14="","",ABS((BZ14 - $CI14)/$CI14)) | CY14: =IF(CA14="","",ABS((CA14 - $CI14)/$CI14)) -> 0 | CZ14: 6 | DA14: =IF(CK14="","",ABS(BU14-$CF14)) | DB14: =IF(CL14="","",ABS(BV14-$CF14)) | DC14: =IF(CM14="","",ABS(BW14-$CF14)) | DD14: =IF(CN14="","",ABS(BX14-$CF14)) | DE14: =IF(CO14="","",ABS(BY14-$CF14)) | DF14: =IF(CP14="","",ABS(BZ14-$CF14)) | DG14: =IF(CQ14="","",ABS(CA14-$CF14)) -> 0 | DH14: 6 | DI14: =IF(BU14="","",(BU14-$CI14)^2) | DJ14: =IF(BV14="","",(BV14-$CI14)^2) | DK14: =IF(BW14="","",(BW14-$CI14)^2) | DL14: =IF(BX14="","",(BX14-$CI14)^2) | DM14: =IF(BY14="","",(BY14-$CI14)^2) | DN14: =IF(BZ14="","",(BZ14-$CI14)^2) | DO14: =IF(CA14="","",(CA14-$CI14)^2) -> 0 | DP14: =MIN(DI14:DO14) -> 0 | DQ14: 6 | DR14: =IF(BU14="","", (1 - ABS((BU14-$CI14)/$CI14))*40) | DS14: =IF(BV14="","", (1 - ABS((BV14-$CI14)/$CI14))*40) | DT14: =IF(BW14="","", (1 - ABS((BW14-$CI14)/$CI14))*40) | DU14: =IF(BX14="","", (1 - ABS((BX14-$CI14)/$CI14))*40) | DV14: =IF(BY14="","", (1 - ABS((BY14-$CI14)/$CI14))*40) | DW14: =IF(BZ14="","", (1 - ABS((BZ14-$CI14)/$CI14))*40) | DX14: =IF(CA14="","", (1 - ABS((CA14-$CI14)/$CI14))*40) -> 40 | DY14: 6 | EF14: 72 | EG14: 6 | EH14: =IF(DZ14<36,0,IF(DZ14>=72,60,IF(DZ14>=66,40,IF(DZ14>=60,30,IF(DZ14>=48,20,IF(DZ14>=36,10,0)))))) -> 0 | EI14: =IF(EA14<36,0,IF(EA14>=72,60,IF(EA14>=66,40,IF(EA14>=60,30,IF(EA14>=48,20,IF(EA14>=36,10,0)))))) -> 0 | EJ14: =IF(EB14<36,0,IF(EB14>=72,60,IF(EB14>=66,40,IF(EB14>=60,30,IF(EB14>=48,20,IF(EB14>=36,10,0)))))) -> 0 | EK14: =IF(EC14<36,0,IF(EC14>=72,60,IF(EC14>=66,40,IF(EC14>=60,30,IF(EC14>=48,20,IF(EC14>=36,10,0)))))) -> 0 | EL14: =IF(ED14<36,0,IF(ED14>=72,60,IF(ED14>=66,40,IF(ED14>=60,30,IF(ED14>=48,20,IF(ED14>=36,10,0)))))) -> 0 | EM14: =IF(EE14<36,0,IF(EE14>=72,60,IF(EE14>=66,40,IF(EE14>=60,30,IF(EE14>=48,20,IF(EE14>=36,10,0)))))) -> 0 | EN14: =IF(EF14<36,0,IF(EF14>=72,60,IF(EF14>=66,40,IF(EF14>=60,30,IF(EF14>=48,20,IF(EF14>=36,10,0)))))) -> 60 | EO14: 6 | EP14: =IF(DR14="","",(EH14+DR14)) | EQ14: =IF(DS14="","",(EI14+DS14)) | ER14: =IF(DT14="","",(EJ14+DT14)) | ES14: =IF(DU14="","",(EK14+DU14)) | ET14: =IF(DV14="","",(EL14+DV14)) | EU14: =IF(DW14="","",(EM14+DW14)) | EV14: =IF(DX14="","",(EN14+DX14)) -> 100 | EW14: =MAX(EP14:EV14) -> 100 | EX14: =IF($EW14=EP14,EP$8,IF($EW14=EQ14,EQ$8,IF($EW14=ER14,ER$8,IF($EW14=ES14,ES$8,IF($EW14=ET14,ET$8,IF($EW14=EU14,EU$8,IF($EW14=EV14,EV$8,""))))))) -> 7. INSTRUMENTACIÓN Y SERVICIOS S.A.S. - NIT.: 830505910-7 | EY14: =IF($EW14=#REF!,#REF!,IF($EW14=#REF!,#REF!,IF($EW14=#REF!,#REF!,IF($EW14=#REF!,#REF!,IF($EW14=#REF!,#REF!,IF($EW14=#REF!,#REF!,IF($EW14=#REF!,#REF!,""))))))) -> #REF! | EZ14: =IF($EW14=#REF!,#REF!,IF($EW14=#REF!,#REF!,IF($EW14=#REF!,#REF!,IF($EW14=#REF!,#REF!,IF($EW14=#REF!,#REF!,IF($EW14=#REF!,#REF!,IF($EW14=#REF!,#REF!,""))))))) -> #REF! | FA14: =IF($EW14=#REF!,#REF!,IF($EW14=#REF!,#REF!,IF($EW14=#REF!,#REF!,IF($EW14=#REF!,#REF!,IF($EW14=#REF!,#REF!,IF($EW14=#REF!,#REF!,IF($EW14=#REF!,#REF!,""))))))) -> #REF! | FB14: =IFERROR(INDEX($EP$8:$EV$8,MATCH(EW14,EP14:EV14,0)), "DESIERTO") -> 7. INSTRUMENTACIÓN Y SERVICIOS S.A.S. - NIT.: 830505910-7 | FC14: =IF($EW14=EP14,EP$8,IF($EW14=EQ14,EQ$8,IF($EW14=ER14,ER$8,IF($EW14=ES14,ES$8,IF($EW14=ET14,ET$8,IF($EW14=EU14,EU$8,IF($EW14=EV14,EV$8,IF($EW14=#REF!,#REF!,IF($EW14=#REF!,#REF!,IF($EW14=#REF!,#REF!,IF($EW14=#REF!,#REF!,IF($EW14=#REF!,#REF!,IF($EW14=#REF!,#REF!,IF($EW14=#REF!,#REF!,IF($EW14=#REF!,#REF!,IF($EW14=#REF!,#REF!,IF($EW14=#REF!,#REF!,IF($EW14=#REF!,#REF!,IF($EW14=#REF!,#REF!,IF($EW14=#REF!,#REF!,IF($EW14=#REF!,#REF!,IF($EW14=#REF!,#REF!,IF($EW14=#REF!,#REF!,IF($EW14=#REF!,#REF!,IF($EW14=#REF!,#REF!,IF($EW14=#REF!,#REF!,IF($EW14=#REF!,#REF!,IF($EW14=#REF!,#REF!,"")))))))))))))))))))))))))))) -> 7. INSTRUMENTACIÓN Y SERVICIOS S.A.S. - NIT.: 830505910-7 | FD14: =IF($FC14=$I$8,$I14,IF($FC14=$J$8,$J14,IF($FC14=$K$8,$K14,IF($FC14=$L$8,$L14,IF($FC14=$M$8,$M14,IF($FC14=$N$8,$N14,IF($FC14=$O$8,$O14,""))))))) -> 102462207 | FE14: =IF($FC14=#REF!,#REF!,IF($FC14=#REF!,#REF!,IF($FC14=#REF!,#REF!,IF($FC14=#REF!,#REF!,IF($FC14=#REF!,#REF!,IF($FC14=#REF!,#REF!,IF($FC14=#REF!,#REF!,""))))))) -> #REF! | FF14: =IF($FC14=#REF!,#REF!,IF($FC14=#REF!,#REF!,IF($FC14=#REF!,#REF!,IF($FC14=#REF!,#REF!,IF($FC14=#REF!,#REF!,IF($FC14=#REF!,#REF!,IF($FC14=#REF!,#REF!,""))))))) -> #REF! | FG14: =IF($FC14=#REF!,#REF!,IF($FC14=#REF!,#REF!,IF($FC14=#REF!,#REF!,IF($FC14=#REF!,#REF!,IF($FC14=#REF!,#REF!,IF($FC14=#REF!,#REF!,IF($FC14=#REF!,#REF!,""))))))) -> #REF! | FH14: =IFERROR(INDEX(I14:O14,MATCH(FB14,$I$8:$O$8,0)),"DESIERTO") -> 102462207 | FI14: =MAX(FD14:FG14) -> #REF! | FJ14: 6 | FK14: =IFERROR(IF(FH14>0,(G14-FH14),"F"),"D") -> 4080576 | FL14: =IF(FB14="DESIERTO",G14,"ADJUDICADO") -> ADJUDICADO
B15: CIENCIA Y EDUCACION | C15: COMUNICACIÓN SOCIAL Y PERIODISMO | D15: SEDE PORVENIR | E15: KIT CÁMARA FOTOGRÁFICA Y LENTE | F15: 4 | G15: 54472440 | H15: 7 | O15: 53045264 | P15: 7 | Q15: =IF(I15="NC","NC",IF(I15<=$G15,I15,"")) -> 0 | R15: =IF(J15="NC","NC",IF(J15<=$G15,J15,"")) -> 0 | S15: =IF(K15="NC","NC",IF(K15<=$G15,K15,"")) -> 0 | T15: =IF(L15="NC","NC",IF(L15<=$G15,L15,"")) -> 0 | U15: =IF(M15="NC","NC",IF(M15<=$G15,M15,"")) -> 0 | V15: =IF(N15="NC","NC",IF(N15<=$G15,N15,"")) -> 0 | W15: =IF(O15="NC","NC",IF(O15<=$G15,O15,"")) -> 53045264 | X15: 7 | Y15: NO CUMPLE | Z15: NO CUMPLE | AA15: NO CUMPLE | AB15: NO CUMPLE | AC15: NO CUMPLE | AD15: NO CUMPLE | AE15: CUMPLE | AF15: 7 | AG15: CUMPLE | AH15: CUMPLE | AI15: CUMPLE | AJ15: CUMPLE | AK15: CUMPLE | AL15: CUMPLE | AM15: CUMPLE | AN15: 7 | AO15: CUMPLE | AP15: CUMPLE | AQ15: CUMPLE | AR15: CUMPLE | AS15: CUMPLE | AT15: CUMPLE | AU15: CUMPLE | AV15: 7 | AW15: =IF(Y15="NO CUMPLE","NO CUMPLE",IF(AG15="NO CUMPLE","NO CUMPLE",IF(AO15="NO CUMPLE","NO CUMPLE",IF(AO15="CUMPLE","CUMPLE")))) -> NO CUMPLE | AX15: =IF(Z15="NO CUMPLE","NO CUMPLE",IF(AH15="NO CUMPLE","NO CUMPLE",IF(AP15="NO CUMPLE","NO CUMPLE",IF(AP15="CUMPLE","CUMPLE")))) -> NO CUMPLE | AY15: =IF(AA15="NO CUMPLE","NO CUMPLE",IF(AI15="NO CUMPLE","NO CUMPLE",IF(AQ15="NO CUMPLE","NO CUMPLE",IF(AQ15="CUMPLE","CUMPLE")))) -> NO CUMPLE | AZ15: =IF(AB15="NO CUMPLE","NO CUMPLE",IF(AJ15="NO CUMPLE","NO CUMPLE",IF(AR15="NO CUMPLE","NO CUMPLE",IF(AR15="CUMPLE","CUMPLE")))) -> NO CUMPLE | BA15: =IF(AC15="NO CUMPLE","NO CUMPLE",IF(AK15="NO CUMPLE","NO CUMPLE",IF(AS15="NO CUMPLE","NO CUMPLE",IF(AS15="CUMPLE","CUMPLE")))) -> NO CUMPLE | BB15: =IF(AD15="NO CUMPLE","NO CUMPLE",IF(AL15="NO CUMPLE","NO CUMPLE",IF(AT15="NO CUMPLE","NO CUMPLE",IF(AT15="CUMPLE","CUMPLE")))) -> NO CUMPLE | BC15: =IF(AE15="NO CUMPLE","NO CUMPLE",IF(AM15="NO CUMPLE","NO CUMPLE",IF(AU15="NO CUMPLE","NO CUMPLE",IF(AU15="CUMPLE","CUMPLE")))) -> CUMPLE | BD15: 7 | BE15: NC | BF15: NC | BG15: NC | BH15: NC | BI15: NC | BJ15: NC | BK15: CUMPLE | BL15: 7 | BM15: NC | BN15: NC | BO15: NC | BP15: NC | BQ15: NC | BR15: NC | BS15: CUMPLE | BT15: 7 | BU15: =IF(AW15="NO CUMPLE","",IF(BE15="NO CUMPLE","",IF(BM15="NO CUMPLE","",IF(BE15="NC","",IF(BM15="CUMPLE",I15))))) | BV15: =IF(AX15="NO CUMPLE","",IF(BF15="NO CUMPLE","",IF(BN15="NO CUMPLE","",IF(BF15="NC","",IF(BN15="CUMPLE",J15))))) | BW15: =IF(AY15="NO CUMPLE","",IF(BG15="NO CUMPLE","",IF(BO15="NO CUMPLE","",IF(BG15="NC","",IF(BO15="CUMPLE",K15))))) | BX15: =IF(AZ15="NO CUMPLE","",IF(BH15="NO CUMPLE","",IF(BP15="NO CUMPLE","",IF(BH15="NC","",IF(BP15="CUMPLE",L15))))) | BY15: =IF(BA15="NO CUMPLE","",IF(BI15="NO CUMPLE","",IF(BQ15="NO CUMPLE","",IF(BI15="NC","",IF(BQ15="CUMPLE",M15))))) | BZ15: =IF(BB15="NO CUMPLE","",IF(BJ15="NO CUMPLE","",IF(BR15="NO CUMPLE","",IF(BJ15="NC","",IF(BR15="CUMPLE",N15))))) | CA15: =IF(BC15="NO CUMPLE","",IF(BK15="NO CUMPLE","",IF(BS15="NO CUMPLE","",IF(BK15="NC","",IF(BS15="CUMPLE",O15))))) -> 53045264 | CB15: 54472440 | CC15: 54472440 | CD15: =COUNT(BU15:CA15) -> 1 | CE15: =IF(CD15=2,1,IF(CD15=3,2,IF(CD15=4,3,IF(CD15>5,5,)))) -> 0 | CF15: =IFERROR(MEDIAN(BU15:CA15),"") -> 53045264 | CG15: =IF(COUNT(BU15:CA15)=0,"",MOD(COUNT(BU15:CA15),2)) -> 1 | CH15: =IF(COUNT(BU15:CA15)<2,"", IF(MOD(COUNT(BU15:CA15),2)=1,"", SMALL(BU15:CA15, COUNT(BU15:CA15)/2 ) )) | CI15: =IF(CG15=1, CF15, CH15) -> 53045264 | CJ15: 7 | CK15: =IF(BU15="","", (1 - ABS((BU15 - $CI15)/$CI15)) * 40) | CL15: =IF(BV15="","", (1 - ABS((BV15 - $CI15)/$CI15)) * 40) | CM15: =IF(BW15="","", (1 - ABS((BW15 - $CI15)/$CI15)) * 40) | CN15: =IF(BX15="","", (1 - ABS((BX15 - $CI15)/$CI15)) * 40) | CO15: =IF(BY15="","", (1 - ABS((BY15 - $CI15)/$CI15)) * 40) | CP15: =IF(BZ15="","", (1 - ABS((BZ15 - $CI15)/$CI15)) * 40) | CQ15: =IF(CA15="","", (1 - ABS((CA15 - $CI15)/$CI15)) * 40) -> 40 | CR15: 7 | CS15: =IF(BU15="","",ABS((BU15 - $CI15)/$CI15)) | CT15: =IF(BV15="","",ABS((BV15 - $CI15)/$CI15)) | CU15: =IF(BW15="","",ABS((BW15 - $CI15)/$CI15)) | CV15: =IF(BX15="","",ABS((BX15 - $CI15)/$CI15)) | CW15: =IF(BY15="","",ABS((BY15 - $CI15)/$CI15)) | CX15: =IF(BZ15="","",ABS((BZ15 - $CI15)/$CI15)) | CY15: =IF(CA15="","",ABS((CA15 - $CI15)/$CI15)) -> 0 | CZ15: 7 | DA15: =IF(CK15="","",ABS(BU15-$CF15)) | DB15: =IF(CL15="","",ABS(BV15-$CF15)) | DC15: =IF(CM15="","",ABS(BW15-$CF15)) | DD15: =IF(CN15="","",ABS(BX15-$CF15)) | DE15: =IF(CO15="","",ABS(BY15-$CF15)) | DF15: =IF(CP15="","",ABS(BZ15-$CF15)) | DG15: =IF(CQ15="","",ABS(CA15-$CF15)) -> 0 | DH15: 7 | DI15: =IF(BU15="","",(BU15-$CI15)^2) | DJ15: =IF(BV15="","",(BV15-$CI15)^2) | DK15: =IF(BW15="","",(BW15-$CI15)^2) | DL15: =IF(BX15="","",(BX15-$CI15)^2) | DM15: =IF(BY15="","",(BY15-$CI15)^2) | DN15: =IF(BZ15="","",(BZ15-$CI15)^2) | DO15: =IF(CA15="","",(CA15-$CI15)^2) -> 0 | DP15: =MIN(DI15:DO15) -> 0 | DQ15: 7 | DR15: =IF(BU15="","", (1 - ABS((BU15-$CI15)/$CI15))*40) | DS15: =IF(BV15="","", (1 - ABS((BV15-$CI15)/$CI15))*40) | DT15: =IF(BW15="","", (1 - ABS((BW15-$CI15)/$CI15))*40) | DU15: =IF(BX15="","", (1 - ABS((BX15-$CI15)/$CI15))*40) | DV15: =IF(BY15="","", (1 - ABS((BY15-$CI15)/$CI15))*40) | DW15: =IF(BZ15="","", (1 - ABS((BZ15-$CI15)/$CI15))*40) | DX15: =IF(CA15="","", (1 - ABS((CA15-$CI15)/$CI15))*40) -> 40 | DY15: 7 | EF15: 72 | EG15: 7 | EH15: =IF(DZ15<36,0,IF(DZ15>=72,60,IF(DZ15>=66,40,IF(DZ15>=60,30,IF(DZ15>=48,20,IF(DZ15>=36,10,0)))))) -> 0 | EI15: =IF(EA15<36,0,IF(EA15>=72,60,IF(EA15>=66,40,IF(EA15>=60,30,IF(EA15>=48,20,IF(EA15>=36,10,0)))))) -> 0 | EJ15: =IF(EB15<36,0,IF(EB15>=72,60,IF(EB15>=66,40,IF(EB15>=60,30,IF(EB15>=48,20,IF(EB15>=36,10,0)))))) -> 0 | EK15: =IF(EC15<36,0,IF(EC15>=72,60,IF(EC15>=66,40,IF(EC15>=60,30,IF(EC15>=48,20,IF(EC15>=36,10,0)))))) -> 0 | EL15: =IF(ED15<36,0,IF(ED15>=72,60,IF(ED15>=66,40,IF(ED15>=60,30,IF(ED15>=48,20,IF(ED15>=36,10,0)))))) -> 0 | EM15: =IF(EE15<36,0,IF(EE15>=72,60,IF(EE15>=66,40,IF(EE15>=60,30,IF(EE15>=48,20,IF(EE15>=36,10,0)))))) -> 0 | EN15: =IF(EF15<36,0,IF(EF15>=72,60,IF(EF15>=66,40,IF(EF15>=60,30,IF(EF15>=48,20,IF(EF15>=36,10,0)))))) -> 60 | EO15: 7 | EP15: =IF(DR15="","",(EH15+DR15)) | EQ15: =IF(DS15="","",(EI15+DS15)) | ER15: =IF(DT15="","",(EJ15+DT15)) | ES15: =IF(DU15="","",(EK15+DU15)) | ET15: =IF(DV15="","",(EL15+DV15)) | EU15: =IF(DW15="","",(EM15+DW15)) | EV15: =IF(DX15="","",(EN15+DX15)) -> 100 | EW15: =MAX(EP15:EV15) -> 100 | EX15: =IF($EW15=EP15,EP$8,IF($EW15=EQ15,EQ$8,IF($EW15=ER15,ER$8,IF($EW15=ES15,ES$8,IF($EW15=ET15,ET$8,IF($EW15=EU15,EU$8,IF($EW15=EV15,EV$8,""))))))) -> 7. INSTRUMENTACIÓN Y SERVICIOS S.A.S. - NIT.: 830505910-7 | EY15: =IF($EW15=#REF!,#REF!,IF($EW15=#REF!,#REF!,IF($EW15=#REF!,#REF!,IF($EW15=#REF!,#REF!,IF($EW15=#REF!,#REF!,IF($EW15=#REF!,#REF!,IF($EW15=#REF!,#REF!,""))))))) -> #REF! | EZ15: =IF($EW15=#REF!,#REF!,IF($EW15=#REF!,#REF!,IF($EW15=#REF!,#REF!,IF($EW15=#REF!,#REF!,IF($EW15=#REF!,#REF!,IF($EW15=#REF!,#REF!,IF($EW15=#REF!,#REF!,""))))))) -> #REF! | FA15: =IF($EW15=#REF!,#REF!,IF($EW15=#REF!,#REF!,IF($EW15=#REF!,#REF!,IF($EW15=#REF!,#REF!,IF($EW15=#REF!,#REF!,IF($EW15=#REF!,#REF!,IF($EW15=#REF!,#REF!,""))))))) -> #REF! | FB15: =IFERROR(INDEX($EP$8:$EV$8,MATCH(EW15,EP15:EV15,0)), "DESIERTO") -> 7. INSTRUMENTACIÓN Y SERVICIOS S.A.S. - NIT.: 830505910-7 | FC15: =IF($EW15=EP15,EP$8,IF($EW15=EQ15,EQ$8,IF($EW15=ER15,ER$8,IF($EW15=ES15,ES$8,IF($EW15=ET15,ET$8,IF($EW15=EU15,EU$8,IF($EW15=EV15,EV$8,IF($EW15=#REF!,#REF!,IF($EW15=#REF!,#REF!,IF($EW15=#REF!,#REF!,IF($EW15=#REF!,#REF!,IF($EW15=#REF!,#REF!,IF($EW15=#REF!,#REF!,IF($EW15=#REF!,#REF!,IF($EW15=#REF!,#REF!,IF($EW15=#REF!,#REF!,IF($EW15=#REF!,#REF!,IF($EW15=#REF!,#REF!,IF($EW15=#REF!,#REF!,IF($EW15=#REF!,#REF!,IF($EW15=#REF!,#REF!,IF($EW15=#REF!,#REF!,IF($EW15=#REF!,#REF!,IF($EW15=#REF!,#REF!,IF($EW15=#REF!,#REF!,IF($EW15=#REF!,#REF!,IF($EW15=#REF!,#REF!,IF($EW15=#REF!,#REF!,"")))))))))))))))))))))))))))) -> 7. INSTRUMENTACIÓN Y SERVICIOS S.A.S. - NIT.: 830505910-7 | FD15: =IF($FC15=$I$8,$I15,IF($FC15=$J$8,$J15,IF($FC15=$K$8,$K15,IF($FC15=$L$8,$L15,IF($FC15=$M$8,$M15,IF($FC15=$N$8,$N15,IF($FC15=$O$8,$O15,""))))))) -> 53045264 | FE15: =IF($FC15=#REF!,#REF!,IF($FC15=#REF!,#REF!,IF($FC15=#REF!,#REF!,IF($FC15=#REF!,#REF!,IF($FC15=#REF!,#REF!,IF($FC15=#REF!,#REF!,IF($FC15=#REF!,#REF!,""))))))) -> #REF! | FF15: =IF($FC15=#REF!,#REF!,IF($FC15=#REF!,#REF!,IF($FC15=#REF!,#REF!,IF($FC15=#REF!,#REF!,IF($FC15=#REF!,#REF!,IF($FC15=#REF!,#REF!,IF($FC15=#REF!,#REF!,""))))))) -> #REF! | FG15: =IF($FC15=#REF!,#REF!,IF($FC15=#REF!,#REF!,IF($FC15=#REF!,#REF!,IF($FC15=#REF!,#REF!,IF($FC15=#REF!,#REF!,IF($FC15=#REF!,#REF!,IF($FC15=#REF!,#REF!,""))))))) -> #REF! | FH15: =IFERROR(INDEX(I15:O15,MATCH(FB15,$I$8:$O$8,0)),"DESIERTO") -> 53045264 | FI15: =MAX(FD15:FG15) -> #REF! | FJ15: 7 | FK15: =IFERROR(IF(FH15>0,(G15-FH15),"F"),"D") -> 1427176 | FL15: =IF(FB15="DESIERTO",G15,"ADJUDICADO") -> ADJUDICADO
B16: CIENCIA Y EDUCACION | C16: COMUNICACIÓN SOCIAL Y PERIODISMO | D16: SEDE PORVENIR | E16: TARJETA DE MEMORIA SD | F16: 6 | G16: 1265065 | H16: 8 | P16: 8 | Q16: =IF(I16="NC","NC",IF(I16<=$G16,I16,"")) -> 0 | R16: =IF(J16="NC","NC",IF(J16<=$G16,J16,"")) -> 0 | S16: =IF(K16="NC","NC",IF(K16<=$G16,K16,"")) -> 0 | T16: =IF(L16="NC","NC",IF(L16<=$G16,L16,"")) -> 0 | U16: =IF(M16="NC","NC",IF(M16<=$G16,M16,"")) -> 0 | V16: =IF(N16="NC","NC",IF(N16<=$G16,N16,"")) -> 0 | W16: =IF(O16="NC","NC",IF(O16<=$G16,O16,"")) -> 0 | X16: 8 | Y16: NO CUMPLE | Z16: NO CUMPLE | AA16: NO CUMPLE | AB16: NO CUMPLE | AC16: NO CUMPLE | AD16: NO CUMPLE | AE16: NO CUMPLE | AF16: 8 | AG16: CUMPLE | AH16: CUMPLE | AI16: CUMPLE | AJ16: CUMPLE | AK16: CUMPLE | AL16: CUMPLE | AM16: CUMPLE | AN16: 8 | AO16: CUMPLE | AP16: CUMPLE | AQ16: CUMPLE | AR16: CUMPLE | AS16: CUMPLE | AT16: CUMPLE | AU16: CUMPLE | AV16: 8 | AW16: =IF(Y16="NO CUMPLE","NO CUMPLE",IF(AG16="NO CUMPLE","NO CUMPLE",IF(AO16="NO CUMPLE","NO CUMPLE",IF(AO16="CUMPLE","CUMPLE")))) -> NO CUMPLE | AX16: =IF(Z16="NO CUMPLE","NO CUMPLE",IF(AH16="NO CUMPLE","NO CUMPLE",IF(AP16="NO CUMPLE","NO CUMPLE",IF(AP16="CUMPLE","CUMPLE")))) -> NO CUMPLE | AY16: =IF(AA16="NO CUMPLE","NO CUMPLE",IF(AI16="NO CUMPLE","NO CUMPLE",IF(AQ16="NO CUMPLE","NO CUMPLE",IF(AQ16="CUMPLE","CUMPLE")))) -> NO CUMPLE | AZ16: =IF(AB16="NO CUMPLE","NO CUMPLE",IF(AJ16="NO CUMPLE","NO CUMPLE",IF(AR16="NO CUMPLE","NO CUMPLE",IF(AR16="CUMPLE","CUMPLE")))) -> NO CUMPLE | BA16: =IF(AC16="NO CUMPLE","NO CUMPLE",IF(AK16="NO CUMPLE","NO CUMPLE",IF(AS16="NO CUMPLE","NO CUMPLE",IF(AS16="CUMPLE","CUMPLE")))) -> NO CUMPLE | BB16: =IF(AD16="NO CUMPLE","NO CUMPLE",IF(AL16="NO CUMPLE","NO CUMPLE",IF(AT16="NO CUMPLE","NO CUMPLE",IF(AT16="CUMPLE","CUMPLE")))) -> NO CUMPLE | BC16: =IF(AE16="NO CUMPLE","NO CUMPLE",IF(AM16="NO CUMPLE","NO CUMPLE",IF(AU16="NO CUMPLE","NO CUMPLE",IF(AU16="CUMPLE","CUMPLE")))) -> NO CUMPLE | BD16: 8 | BE16: NC | BF16: NC | BG16: NC | BH16: NC | BI16: NC | BJ16: NC | BK16: NC | BL16: 8 | BM16: NC | BN16: NC | BO16: NC | BP16: NC | BQ16: NC | BR16: NC | BS16: NC | BT16: 8 | BU16: =IF(AW16="NO CUMPLE","",IF(BE16="NO CUMPLE","",IF(BM16="NO CUMPLE","",IF(BE16="NC","",IF(BM16="CUMPLE",I16))))) | BV16: =IF(AX16="NO CUMPLE","",IF(BF16="NO CUMPLE","",IF(BN16="NO CUMPLE","",IF(BF16="NC","",IF(BN16="CUMPLE",J16))))) | BW16: =IF(AY16="NO CUMPLE","",IF(BG16="NO CUMPLE","",IF(BO16="NO CUMPLE","",IF(BG16="NC","",IF(BO16="CUMPLE",K16))))) | BX16: =IF(AZ16="NO CUMPLE","",IF(BH16="NO CUMPLE","",IF(BP16="NO CUMPLE","",IF(BH16="NC","",IF(BP16="CUMPLE",L16))))) | BY16: =IF(BA16="NO CUMPLE","",IF(BI16="NO CUMPLE","",IF(BQ16="NO CUMPLE","",IF(BI16="NC","",IF(BQ16="CUMPLE",M16))))) | BZ16: =IF(BB16="NO CUMPLE","",IF(BJ16="NO CUMPLE","",IF(BR16="NO CUMPLE","",IF(BJ16="NC","",IF(BR16="CUMPLE",N16))))) | CA16: =IF(BC16="NO CUMPLE","",IF(BK16="NO CUMPLE","",IF(BS16="NO CUMPLE","",IF(BK16="NC","",IF(BS16="CUMPLE",O16))))) | CB16: 1265065 | CC16: 1265065 | CD16: =COUNT(BU16:CA16) -> 0 | CE16: =IF(CD16=2,1,IF(CD16=3,2,IF(CD16=4,3,IF(CD16>5,5,)))) -> 0 | CF16: =IFERROR(MEDIAN(BU16:CA16),"") | CG16: =IF(COUNT(BU16:CA16)=0,"",MOD(COUNT(BU16:CA16),2)) | CH16: =IF(COUNT(BU16:CA16)<2,"", IF(MOD(COUNT(BU16:CA16),2)=1,"", SMALL(BU16:CA16, COUNT(BU16:CA16)/2 ) )) | CI16: =IF(CG16=1, CF16, CH16) | CJ16: 8 | CK16: =IF(BU16="","", (1 - ABS((BU16 - $CI16)/$CI16)) * 40) | CL16: =IF(BV16="","", (1 - ABS((BV16 - $CI16)/$CI16)) * 40) | CM16: =IF(BW16="","", (1 - ABS((BW16 - $CI16)/$CI16)) * 40) | CN16: =IF(BX16="","", (1 - ABS((BX16 - $CI16)/$CI16)) * 40) | CO16: =IF(BY16="","", (1 - ABS((BY16 - $CI16)/$CI16)) * 40) | CP16: =IF(BZ16="","", (1 - ABS((BZ16 - $CI16)/$CI16)) * 40) | CQ16: =IF(CA16="","", (1 - ABS((CA16 - $CI16)/$CI16)) * 40) | CR16: 8 | CS16: =IF(BU16="","",ABS((BU16 - $CI16)/$CI16)) | CT16: =IF(BV16="","",ABS((BV16 - $CI16)/$CI16)) | CU16: =IF(BW16="","",ABS((BW16 - $CI16)/$CI16)) | CV16: =IF(BX16="","",ABS((BX16 - $CI16)/$CI16)) | CW16: =IF(BY16="","",ABS((BY16 - $CI16)/$CI16)) | CX16: =IF(BZ16="","",ABS((BZ16 - $CI16)/$CI16)) | CY16: =IF(CA16="","",ABS((CA16 - $CI16)/$CI16)) | CZ16: 8 | DA16: =IF(CK16="","",ABS(BU16-$CF16)) | DB16: =IF(CL16="","",ABS(BV16-$CF16)) | DC16: =IF(CM16="","",ABS(BW16-$CF16)) | DD16: =IF(CN16="","",ABS(BX16-$CF16)) | DE16: =IF(CO16="","",ABS(BY16-$CF16)) | DF16: =IF(CP16="","",ABS(BZ16-$CF16)) | DG16: =IF(CQ16="","",ABS(CA16-$CF16)) | DH16: 8 | DI16: =IF(BU16="","",(BU16-$CI16)^2) | DJ16: =IF(BV16="","",(BV16-$CI16)^2) | DK16: =IF(BW16="","",(BW16-$CI16)^2) | DL16: =IF(BX16="","",(BX16-$CI16)^2) | DM16: =IF(BY16="","",(BY16-$CI16)^2) | DN16: =IF(BZ16="","",(BZ16-$CI16)^2) | DO16: =IF(CA16="","",(CA16-$CI16)^2) | DP16: =MIN(DI16:DO16) -> 0 | DQ16: 8 | DR16: =IF(BU16="","", (1 - ABS((BU16-$CI16)/$CI16))*40) | DS16: =IF(BV16="","", (1 - ABS((BV16-$CI16)/$CI16))*40) | DT16: =IF(BW16="","", (1 - ABS((BW16-$CI16)/$CI16))*40) | DU16: =IF(BX16="","", (1 - ABS((BX16-$CI16)/$CI16))*40) | DV16: =IF(BY16="","", (1 - ABS((BY16-$CI16)/$CI16))*40) | DW16: =IF(BZ16="","", (1 - ABS((BZ16-$CI16)/$CI16))*40) | DX16: =IF(CA16="","", (1 - ABS((CA16-$CI16)/$CI16))*40) | DY16: 8 | EG16: 8 | EH16: =IF(DZ16<36,0,IF(DZ16>=72,60,IF(DZ16>=66,40,IF(DZ16>=60,30,IF(DZ16>=48,20,IF(DZ16>=36,10,0)))))) -> 0 | EI16: =IF(EA16<36,0,IF(EA16>=72,60,IF(EA16>=66,40,IF(EA16>=60,30,IF(EA16>=48,20,IF(EA16>=36,10,0)))))) -> 0 | EJ16: =IF(EB16<36,0,IF(EB16>=72,60,IF(EB16>=66,40,IF(EB16>=60,30,IF(EB16>=48,20,IF(EB16>=36,10,0)))))) -> 0 | EK16: =IF(EC16<36,0,IF(EC16>=72,60,IF(EC16>=66,40,IF(EC16>=60,30,IF(EC16>=48,20,IF(EC16>=36,10,0)))))) -> 0 | EL16: =IF(ED16<36,0,IF(ED16>=72,60,IF(ED16>=66,40,IF(ED16>=60,30,IF(ED16>=48,20,IF(ED16>=36,10,0)))))) -> 0 | EM16: =IF(EE16<36,0,IF(EE16>=72,60,IF(EE16>=66,40,IF(EE16>=60,30,IF(EE16>=48,20,IF(EE16>=36,10,0)))))) -> 0 | EN16: =IF(EF16<36,0,IF(EF16>=72,60,IF(EF16>=66,40,IF(EF16>=60,30,IF(EF16>=48,20,IF(EF16>=36,10,0)))))) -> 0 | EO16: 8 | EP16: =IF(DR16="","",(EH16+DR16)) | EQ16: =IF(DS16="","",(EI16+DS16)) | ER16: =IF(DT16="","",(EJ16+DT16)) | ES16: =IF(DU16="","",(EK16+DU16)) | ET16: =IF(DV16="","",(EL16+DV16)) | EU16: =IF(DW16="","",(EM16+DW16)) | EV16: =IF(DX16="","",(EN16+DX16)) | EW16: =MAX(EP16:EV16) -> 0 | EX16: =IF($EW16=EP16,EP$8,IF($EW16=EQ16,EQ$8,IF($EW16=ER16,ER$8,IF($EW16=ES16,ES$8,IF($EW16=ET16,ET$8,IF($EW16=EU16,EU$8,IF($EW16=EV16,EV$8,""))))))) | EY16: =IF($EW16=#REF!,#REF!,IF($EW16=#REF!,#REF!,IF($EW16=#REF!,#REF!,IF($EW16=#REF!,#REF!,IF($EW16=#REF!,#REF!,IF($EW16=#REF!,#REF!,IF($EW16=#REF!,#REF!,""))))))) -> #REF! | EZ16: =IF($EW16=#REF!,#REF!,IF($EW16=#REF!,#REF!,IF($EW16=#REF!,#REF!,IF($EW16=#REF!,#REF!,IF($EW16=#REF!,#REF!,IF($EW16=#REF!,#REF!,IF($EW16=#REF!,#REF!,""))))))) -> #REF! | FA16: =IF($EW16=#REF!,#REF!,IF($EW16=#REF!,#REF!,IF($EW16=#REF!,#REF!,IF($EW16=#REF!,#REF!,IF($EW16=#REF!,#REF!,IF($EW16=#REF!,#REF!,IF($EW16=#REF!,#REF!,""))))))) -> #REF! | FB16: =IFERROR(INDEX($EP$8:$EV$8,MATCH(EW16,EP16:EV16,0)), "DESIERTO") -> DESIERTO | FC16: =IF($EW16=EP16,EP$8,IF($EW16=EQ16,EQ$8,IF($EW16=ER16,ER$8,IF($EW16=ES16,ES$8,IF($EW16=ET16,ET$8,IF($EW16=EU16,EU$8,IF($EW16=EV16,EV$8,IF($EW16=#REF!,#REF!,IF($EW16=#REF!,#REF!,IF($EW16=#REF!,#REF!,IF($EW16=#REF!,#REF!,IF($EW16=#REF!,#REF!,IF($EW16=#REF!,#REF!,IF($EW16=#REF!,#REF!,IF($EW16=#REF!,#REF!,IF($EW16=#REF!,#REF!,IF($EW16=#REF!,#REF!,IF($EW16=#REF!,#REF!,IF($EW16=#REF!,#REF!,IF($EW16=#REF!,#REF!,IF($EW16=#REF!,#REF!,IF($EW16=#REF!,#REF!,IF($EW16=#REF!,#REF!,IF($EW16=#REF!,#REF!,IF($EW16=#REF!,#REF!,IF($EW16=#REF!,#REF!,IF($EW16=#REF!,#REF!,IF($EW16=#REF!,#REF!,"")))))))))))))))))))))))))))) -> #REF! | FD16: =IF($FC16=$I$8,$I16,IF($FC16=$J$8,$J16,IF($FC16=$K$8,$K16,IF($FC16=$L$8,$L16,IF($FC16=$M$8,$M16,IF($FC16=$N$8,$N16,IF($FC16=$O$8,$O16,""))))))) -> #REF! | FE16: =IF($FC16=#REF!,#REF!,IF($FC16=#REF!,#REF!,IF($FC16=#REF!,#REF!,IF($FC16=#REF!,#REF!,IF($FC16=#REF!,#REF!,IF($FC16=#REF!,#REF!,IF($FC16=#REF!,#REF!,""))))))) -> #REF! | FF16: =IF($FC16=#REF!,#REF!,IF($FC16=#REF!,#REF!,IF($FC16=#REF!,#REF!,IF($FC16=#REF!,#REF!,IF($FC16=#REF!,#REF!,IF($FC16=#REF!,#REF!,IF($FC16=#REF!,#REF!,""))))))) -> #REF! | FG16: =IF($FC16=#REF!,#REF!,IF($FC16=#REF!,#REF!,IF($FC16=#REF!,#REF!,IF($FC16=#REF!,#REF!,IF($FC16=#REF!,#REF!,IF($FC16=#REF!,#REF!,IF($FC16=#REF!,#REF!,""))))))) -> #REF! | FH16: =IFERROR(INDEX(I16:O16,MATCH(FB16,$I$8:$O$8,0)),"DESIERTO") -> DESIERTO | FI16: =MAX(FD16:FG16) -> #REF! | FJ16: 8 | FK16: =IFERROR(IF(FH16>0,(G16-FH16),"F"),"D") -> D | FL16: =IF(FB16="DESIERTO",G16,"ADJUDICADO") -> 1265065
B17: CIENCIA Y EDUCACION | C17: AULA 3EXPERIMETAL ASISTDA | D17: SALÓN 606 | E17: TRIPODE | F17: 1 | G17: 3072184 | H17: 9 | P17: 9 | Q17: =IF(I17="NC","NC",IF(I17<=$G17,I17,"")) -> 0 | R17: =IF(J17="NC","NC",IF(J17<=$G17,J17,"")) -> 0 | S17: =IF(K17="NC","NC",IF(K17<=$G17,K17,"")) -> 0 | T17: =IF(L17="NC","NC",IF(L17<=$G17,L17,"")) -> 0 | U17: =IF(M17="NC","NC",IF(M17<=$G17,M17,"")) -> 0 | V17: =IF(N17="NC","NC",IF(N17<=$G17,N17,"")) -> 0 | W17: =IF(O17="NC","NC",IF(O17<=$G17,O17,"")) -> 0 | X17: 9 | Y17: NO CUMPLE | Z17: NO CUMPLE | AA17: NO CUMPLE | AB17: NO CUMPLE | AC17: NO CUMPLE | AD17: NO CUMPLE | AE17: NO CUMPLE | AF17: 9 | AG17: CUMPLE | AH17: CUMPLE | AI17: CUMPLE | AJ17: CUMPLE | AK17: CUMPLE | AL17: CUMPLE | AM17: CUMPLE | AN17: 9 | AO17: CUMPLE | AP17: CUMPLE | AQ17: CUMPLE | AR17: CUMPLE | AS17: CUMPLE | AT17: CUMPLE | AU17: CUMPLE | AV17: 9 | AW17: =IF(Y17="NO CUMPLE","NO CUMPLE",IF(AG17="NO CUMPLE","NO CUMPLE",IF(AO17="NO CUMPLE","NO CUMPLE",IF(AO17="CUMPLE","CUMPLE")))) -> NO CUMPLE | AX17: =IF(Z17="NO CUMPLE","NO CUMPLE",IF(AH17="NO CUMPLE","NO CUMPLE",IF(AP17="NO CUMPLE","NO CUMPLE",IF(AP17="CUMPLE","CUMPLE")))) -> NO CUMPLE | AY17: =IF(AA17="NO CUMPLE","NO CUMPLE",IF(AI17="NO CUMPLE","NO CUMPLE",IF(AQ17="NO CUMPLE","NO CUMPLE",IF(AQ17="CUMPLE","CUMPLE")))) -> NO CUMPLE | AZ17: =IF(AB17="NO CUMPLE","NO CUMPLE",IF(AJ17="NO CUMPLE","NO CUMPLE",IF(AR17="NO CUMPLE","NO CUMPLE",IF(AR17="CUMPLE","CUMPLE")))) -> NO CUMPLE | BA17: =IF(AC17="NO CUMPLE","NO CUMPLE",IF(AK17="NO CUMPLE","NO CUMPLE",IF(AS17="NO CUMPLE","NO CUMPLE",IF(AS17="CUMPLE","CUMPLE")))) -> NO CUMPLE | BB17: =IF(AD17="NO CUMPLE","NO CUMPLE",IF(AL17="NO CUMPLE","NO CUMPLE",IF(AT17="NO CUMPLE","NO CUMPLE",IF(AT17="CUMPLE","CUMPLE")))) -> NO CUMPLE | BC17: =IF(AE17="NO CUMPLE","NO CUMPLE",IF(AM17="NO CUMPLE","NO CUMPLE",IF(AU17="NO CUMPLE","NO CUMPLE",IF(AU17="CUMPLE","CUMPLE")))) -> NO CUMPLE | BD17: 9 | BE17: NC | BF17: NC | BG17: NC | BH17: NC | BI17: NC | BJ17: NC | BK17: NC | BL17: 9 | BM17: NC | BN17: NC | BO17: NC | BP17: NC | BQ17: NC | BR17: NC | BS17: NC | BT17: 9 | BU17: =IF(AW17="NO CUMPLE","",IF(BE17="NO CUMPLE","",IF(BM17="NO CUMPLE","",IF(BE17="NC","",IF(BM17="CUMPLE",I17))))) | BV17: =IF(AX17="NO CUMPLE","",IF(BF17="NO CUMPLE","",IF(BN17="NO CUMPLE","",IF(BF17="NC","",IF(BN17="CUMPLE",J17))))) | BW17: =IF(AY17="NO CUMPLE","",IF(BG17="NO CUMPLE","",IF(BO17="NO CUMPLE","",IF(BG17="NC","",IF(BO17="CUMPLE",K17))))) | BX17: =IF(AZ17="NO CUMPLE","",IF(BH17="NO CUMPLE","",IF(BP17="NO CUMPLE","",IF(BH17="NC","",IF(BP17="CUMPLE",L17))))) | BY17: =IF(BA17="NO CUMPLE","",IF(BI17="NO CUMPLE","",IF(BQ17="NO CUMPLE","",IF(BI17="NC","",IF(BQ17="CUMPLE",M17))))) | BZ17: =IF(BB17="NO CUMPLE","",IF(BJ17="NO CUMPLE","",IF(BR17="NO CUMPLE","",IF(BJ17="NC","",IF(BR17="CUMPLE",N17))))) | CA17: =IF(BC17="NO CUMPLE","",IF(BK17="NO CUMPLE","",IF(BS17="NO CUMPLE","",IF(BK17="NC","",IF(BS17="CUMPLE",O17))))) | CB17: 3072184 | CC17: 3072184 | CD17: =COUNT(BU17:CA17) -> 0 | CE17: =IF(CD17=2,1,IF(CD17=3,2,IF(CD17=4,3,IF(CD17>5,5,)))) -> 0 | CF17: =IFERROR(MEDIAN(BU17:CA17),"") | CG17: =IF(COUNT(BU17:CA17)=0,"",MOD(COUNT(BU17:CA17),2)) | CH17: =IF(COUNT(BU17:CA17)<2,"", IF(MOD(COUNT(BU17:CA17),2)=1,"", SMALL(BU17:CA17, COUNT(BU17:CA17)/2 ) )) | CI17: =IF(CG17=1, CF17, CH17) | CJ17: 9 | CK17: =IF(BU17="","", (1 - ABS((BU17 - $CI17)/$CI17)) * 40) | CL17: =IF(BV17="","", (1 - ABS((BV17 - $CI17)/$CI17)) * 40) | CM17: =IF(BW17="","", (1 - ABS((BW17 - $CI17)/$CI17)) * 40) | CN17: =IF(BX17="","", (1 - ABS((BX17 - $CI17)/$CI17)) * 40) | CO17: =IF(BY17="","", (1 - ABS((BY17 - $CI17)/$CI17)) * 40) | CP17: =IF(BZ17="","", (1 - ABS((BZ17 - $CI17)/$CI17)) * 40) | CQ17: =IF(CA17="","", (1 - ABS((CA17 - $CI17)/$CI17)) * 40) | CR17: 9 | CS17: =IF(BU17="","",ABS((BU17 - $CI17)/$CI17)) | CT17: =IF(BV17="","",ABS((BV17 - $CI17)/$CI17)) | CU17: =IF(BW17="","",ABS((BW17 - $CI17)/$CI17)) | CV17: =IF(BX17="","",ABS((BX17 - $CI17)/$CI17)) | CW17: =IF(BY17="","",ABS((BY17 - $CI17)/$CI17)) | CX17: =IF(BZ17="","",ABS((BZ17 - $CI17)/$CI17)) | CY17: =IF(CA17="","",ABS((CA17 - $CI17)/$CI17)) | CZ17: 9 | DA17: =IF(CK17="","",ABS(BU17-$CF17)) | DB17: =IF(CL17="","",ABS(BV17-$CF17)) | DC17: =IF(CM17="","",ABS(BW17-$CF17)) | DD17: =IF(CN17="","",ABS(BX17-$CF17)) | DE17: =IF(CO17="","",ABS(BY17-$CF17)) | DF17: =IF(CP17="","",ABS(BZ17-$CF17)) | DG17: =IF(CQ17="","",ABS(CA17-$CF17)) | DH17: 9 | DI17: =IF(BU17="","",(BU17-$CI17)^2) | DJ17: =IF(BV17="","",(BV17-$CI17)^2) | DK17: =IF(BW17="","",(BW17-$CI17)^2) | DL17: =IF(BX17="","",(BX17-$CI17)^2) | DM17: =IF(BY17="","",(BY17-$CI17)^2) | DN17: =IF(BZ17="","",(BZ17-$CI17)^2) | DO17: =IF(CA17="","",(CA17-$CI17)^2) | DP17: =MIN(DI17:DO17) -> 0 | DQ17: 9 | DR17: =IF(BU17="","", (1 - ABS((BU17-$CI17)/$CI17))*40) | DS17: =IF(BV17="","", (1 - ABS((BV17-$CI17)/$CI17))*40) | DT17: =IF(BW17="","", (1 - ABS((BW17-$CI17)/$CI17))*40) | DU17: =IF(BX17="","", (1 - ABS((BX17-$CI17)/$CI17))*40) | DV17: =IF(BY17="","", (1 - ABS((BY17-$CI17)/$CI17))*40) | DW17: =IF(BZ17="","", (1 - ABS((BZ17-$CI17)/$CI17))*40) | DX17: =IF(CA17="","", (1 - ABS((CA17-$CI17)/$CI17))*40) | DY17: 9 | EG17: 9 | EH17: =IF(DZ17<36,0,IF(DZ17>=72,60,IF(DZ17>=66,40,IF(DZ17>=60,30,IF(DZ17>=48,20,IF(DZ17>=36,10,0)))))) -> 0 | EI17: =IF(EA17<36,0,IF(EA17>=72,60,IF(EA17>=66,40,IF(EA17>=60,30,IF(EA17>=48,20,IF(EA17>=36,10,0)))))) -> 0 | EJ17: =IF(EB17<36,0,IF(EB17>=72,60,IF(EB17>=66,40,IF(EB17>=60,30,IF(EB17>=48,20,IF(EB17>=36,10,0)))))) -> 0 | EK17: =IF(EC17<36,0,IF(EC17>=72,60,IF(EC17>=66,40,IF(EC17>=60,30,IF(EC17>=48,20,IF(EC17>=36,10,0)))))) -> 0 | EL17: =IF(ED17<36,0,IF(ED17>=72,60,IF(ED17>=66,40,IF(ED17>=60,30,IF(ED17>=48,20,IF(ED17>=36,10,0)))))) -> 0 | EM17: =IF(EE17<36,0,IF(EE17>=72,60,IF(EE17>=66,40,IF(EE17>=60,30,IF(EE17>=48,20,IF(EE17>=36,10,0)))))) -> 0 | EN17: =IF(EF17<36,0,IF(EF17>=72,60,IF(EF17>=66,40,IF(EF17>=60,30,IF(EF17>=48,20,IF(EF17>=36,10,0)))))) -> 0 | EO17: 9 | EP17: =IF(DR17="","",(EH17+DR17)) | EQ17: =IF(DS17="","",(EI17+DS17)) | ER17: =IF(DT17="","",(EJ17+DT17)) | ES17: =IF(DU17="","",(EK17+DU17)) | ET17: =IF(DV17="","",(EL17+DV17)) | EU17: =IF(DW17="","",(EM17+DW17)) | EV17: =IF(DX17="","",(EN17+DX17)) | EW17: =MAX(EP17:EV17) -> 0 | EX17: =IF($EW17=EP17,EP$8,IF($EW17=EQ17,EQ$8,IF($EW17=ER17,ER$8,IF($EW17=ES17,ES$8,IF($EW17=ET17,ET$8,IF($EW17=EU17,EU$8,IF($EW17=EV17,EV$8,""))))))) | EY17: =IF($EW17=#REF!,#REF!,IF($EW17=#REF!,#REF!,IF($EW17=#REF!,#REF!,IF($EW17=#REF!,#REF!,IF($EW17=#REF!,#REF!,IF($EW17=#REF!,#REF!,IF($EW17=#REF!,#REF!,""))))))) -> #REF! | EZ17: =IF($EW17=#REF!,#REF!,IF($EW17=#REF!,#REF!,IF($EW17=#REF!,#REF!,IF($EW17=#REF!,#REF!,IF($EW17=#REF!,#REF!,IF($EW17=#REF!,#REF!,IF($EW17=#REF!,#REF!,""))))))) -> #REF! | FA17: =IF($EW17=#REF!,#REF!,IF($EW17=#REF!,#REF!,IF($EW17=#REF!,#REF!,IF($EW17=#REF!,#REF!,IF($EW17=#REF!,#REF!,IF($EW17=#REF!,#REF!,IF($EW17=#REF!,#REF!,""))))))) -> #REF! | FB17: =IFERROR(INDEX($EP$8:$EV$8,MATCH(EW17,EP17:EV17,0)), "DESIERTO") -> DESIERTO | FC17: =IF($EW17=EP17,EP$8,IF($EW17=EQ17,EQ$8,IF($EW17=ER17,ER$8,IF($EW17=ES17,ES$8,IF($EW17=ET17,ET$8,IF($EW17=EU17,EU$8,IF($EW17=EV17,EV$8,IF($EW17=#REF!,#REF!,IF($EW17=#REF!,#REF!,IF($EW17=#REF!,#REF!,IF($EW17=#REF!,#REF!,IF($EW17=#REF!,#REF!,IF($EW17=#REF!,#REF!,IF($EW17=#REF!,#REF!,IF($EW17=#REF!,#REF!,IF($EW17=#REF!,#REF!,IF($EW17=#REF!,#REF!,IF($EW17=#REF!,#REF!,IF($EW17=#REF!,#REF!,IF($EW17=#REF!,#REF!,IF($EW17=#REF!,#REF!,IF($EW17=#REF!,#REF!,IF($EW17=#REF!,#REF!,IF($EW17=#REF!,#REF!,IF($EW17=#REF!,#REF!,IF($EW17=#REF!,#REF!,IF($EW17=#REF!,#REF!,IF($EW17=#REF!,#REF!,"")))))))))))))))))))))))))))) -> #REF! | FD17: =IF($FC17=$I$8,$I17,IF($FC17=$J$8,$J17,IF($FC17=$K$8,$K17,IF($FC17=$L$8,$L17,IF($FC17=$M$8,$M17,IF($FC17=$N$8,$N17,IF($FC17=$O$8,$O17,""))))))) -> #REF! | FE17: =IF($FC17=#REF!,#REF!,IF($FC17=#REF!,#REF!,IF($FC17=#REF!,#REF!,IF($FC17=#REF!,#REF!,IF($FC17=#REF!,#REF!,IF($FC17=#REF!,#REF!,IF($FC17=#REF!,#REF!,""))))))) -> #REF! | FF17: =IF($FC17=#REF!,#REF!,IF($FC17=#REF!,#REF!,IF($FC17=#REF!,#REF!,IF($FC17=#REF!,#REF!,IF($FC17=#REF!,#REF!,IF($FC17=#REF!,#REF!,IF($FC17=#REF!,#REF!,""))))))) -> #REF! | FG17: =IF($FC17=#REF!,#REF!,IF($FC17=#REF!,#REF!,IF($FC17=#REF!,#REF!,IF($FC17=#REF!,#REF!,IF($FC17=#REF!,#REF!,IF($FC17=#REF!,#REF!,IF($FC17=#REF!,#REF!,""))))))) -> #REF! | FH17: =IFERROR(INDEX(I17:O17,MATCH(FB17,$I$8:$O$8,0)),"DESIERTO") -> DESIERTO | FI17: =MAX(FD17:FG17) -> #REF! | FJ17: 9 | FK17: =IFERROR(IF(FH17>0,(G17-FH17),"F"),"D") -> D | FL17: =IF(FB17="DESIERTO",G17,"ADJUDICADO") -> 3072184
B18: CIENCIA Y EDUCACION | C18: LICENCIATURA EN EDUACIÓN ARTÍSTICA | D18: MACARENA A 705 - 706 | E18: PRENSA MANUAL PARA LITOGRAFÍA Y GRABADO DE FORMATO PEQUEÑO | F18: 1 | G18: 14022643 | H18: 10 | O18: 13489783 | P18: 10 | Q18: =IF(I18="NC","NC",IF(I18<=$G18,I18,"")) -> 0 | R18: =IF(J18="NC","NC",IF(J18<=$G18,J18,"")) -> 0 | S18: =IF(K18="NC","NC",IF(K18<=$G18,K18,"")) -> 0 | T18: =IF(L18="NC","NC",IF(L18<=$G18,L18,"")) -> 0 | U18: =IF(M18="NC","NC",IF(M18<=$G18,M18,"")) -> 0 | V18: =IF(N18="NC","NC",IF(N18<=$G18,N18,"")) -> 0 | W18: =IF(O18="NC","NC",IF(O18<=$G18,O18,"")) -> 13489783 | X18: 10 | Y18: NO CUMPLE | Z18: NO CUMPLE | AA18: NO CUMPLE | AB18: NO CUMPLE | AC18: NO CUMPLE | AD18: NO CUMPLE | AE18: CUMPLE | AF18: 10 | AG18: CUMPLE | AH18: CUMPLE | AI18: CUMPLE | AJ18: CUMPLE | AK18: CUMPLE | AL18: CUMPLE | AM18: CUMPLE | AN18: 10 | AO18: CUMPLE | AP18: CUMPLE | AQ18: CUMPLE | AR18: CUMPLE | AS18: CUMPLE | AT18: CUMPLE | AU18: CUMPLE | AV18: 10 | AW18: =IF(Y18="NO CUMPLE","NO CUMPLE",IF(AG18="NO CUMPLE","NO CUMPLE",IF(AO18="NO CUMPLE","NO CUMPLE",IF(AO18="CUMPLE","CUMPLE")))) -> NO CUMPLE | AX18: =IF(Z18="NO CUMPLE","NO CUMPLE",IF(AH18="NO CUMPLE","NO CUMPLE",IF(AP18="NO CUMPLE","NO CUMPLE",IF(AP18="CUMPLE","CUMPLE")))) -> NO CUMPLE | AY18: =IF(AA18="NO CUMPLE","NO CUMPLE",IF(AI18="NO CUMPLE","NO CUMPLE",IF(AQ18="NO CUMPLE","NO CUMPLE",IF(AQ18="CUMPLE","CUMPLE")))) -> NO CUMPLE | AZ18: =IF(AB18="NO CUMPLE","NO CUMPLE",IF(AJ18="NO CUMPLE","NO CUMPLE",IF(AR18="NO CUMPLE","NO CUMPLE",IF(AR18="CUMPLE","CUMPLE")))) -> NO CUMPLE | BA18: =IF(AC18="NO CUMPLE","NO CUMPLE",IF(AK18="NO CUMPLE","NO CUMPLE",IF(AS18="NO CUMPLE","NO CUMPLE",IF(AS18="CUMPLE","CUMPLE")))) -> NO CUMPLE | BB18: =IF(AD18="NO CUMPLE","NO CUMPLE",IF(AL18="NO CUMPLE","NO CUMPLE",IF(AT18="NO CUMPLE","NO CUMPLE",IF(AT18="CUMPLE","CUMPLE")))) -> NO CUMPLE | BC18: =IF(AE18="NO CUMPLE","NO CUMPLE",IF(AM18="NO CUMPLE","NO CUMPLE",IF(AU18="NO CUMPLE","NO CUMPLE",IF(AU18="CUMPLE","CUMPLE")))) -> CUMPLE | BD18: 10 | BE18: NC | BF18: NC | BG18: NC | BH18: NC | BI18: NC | BJ18: NC | BK18: CUMPLE | BL18: 10 | BM18: NC | BN18: NC | BO18: NC | BP18: NC | BQ18: NC | BR18: NC | BS18: CUMPLE | BT18: 10 | BU18: =IF(AW18="NO CUMPLE","",IF(BE18="NO CUMPLE","",IF(BM18="NO CUMPLE","",IF(BE18="NC","",IF(BM18="CUMPLE",I18))))) | BV18: =IF(AX18="NO CUMPLE","",IF(BF18="NO CUMPLE","",IF(BN18="NO CUMPLE","",IF(BF18="NC","",IF(BN18="CUMPLE",J18))))) | BW18: =IF(AY18="NO CUMPLE","",IF(BG18="NO CUMPLE","",IF(BO18="NO CUMPLE","",IF(BG18="NC","",IF(BO18="CUMPLE",K18))))) | BX18: =IF(AZ18="NO CUMPLE","",IF(BH18="NO CUMPLE","",IF(BP18="NO CUMPLE","",IF(BH18="NC","",IF(BP18="CUMPLE",L18))))) | BY18: =IF(BA18="NO CUMPLE","",IF(BI18="NO CUMPLE","",IF(BQ18="NO CUMPLE","",IF(BI18="NC","",IF(BQ18="CUMPLE",M18))))) | BZ18: =IF(BB18="NO CUMPLE","",IF(BJ18="NO CUMPLE","",IF(BR18="NO CUMPLE","",IF(BJ18="NC","",IF(BR18="CUMPLE",N18))))) | CA18: =IF(BC18="NO CUMPLE","",IF(BK18="NO CUMPLE","",IF(BS18="NO CUMPLE","",IF(BK18="NC","",IF(BS18="CUMPLE",O18))))) -> 13489783 | CB18: 14022643 | CC18: 14022643 | CD18: =COUNT(BU18:CA18) -> 1 | CE18: =IF(CD18=2,1,IF(CD18=3,2,IF(CD18=4,3,IF(CD18>5,5,)))) -> 0 | CF18: =IFERROR(MEDIAN(BU18:CA18),"") -> 13489783 | CG18: =IF(COUNT(BU18:CA18)=0,"",MOD(COUNT(BU18:CA18),2)) -> 1 | CH18: =IF(COUNT(BU18:CA18)<2,"", IF(MOD(COUNT(BU18:CA18),2)=1,"", SMALL(BU18:CA18, COUNT(BU18:CA18)/2 ) )) | CI18: =IF(CG18=1, CF18, CH18) -> 13489783 | CJ18: 10 | CK18: =IF(BU18="","", (1 - ABS((BU18 - $CI18)/$CI18)) * 40) | CL18: =IF(BV18="","", (1 - ABS((BV18 - $CI18)/$CI18)) * 40) | CM18: =IF(BW18="","", (1 - ABS((BW18 - $CI18)/$CI18)) * 40) | CN18: =IF(BX18="","", (1 - ABS((BX18 - $CI18)/$CI18)) * 40) | CO18: =IF(BY18="","", (1 - ABS((BY18 - $CI18)/$CI18)) * 40) | CP18: =IF(BZ18="","", (1 - ABS((BZ18 - $CI18)/$CI18)) * 40) | CQ18: =IF(CA18="","", (1 - ABS((CA18 - $CI18)/$CI18)) * 40) -> 40 | CR18: 10 | CS18: =IF(BU18="","",ABS((BU18 - $CI18)/$CI18)) | CT18: =IF(BV18="","",ABS((BV18 - $CI18)/$CI18)) | CU18: =IF(BW18="","",ABS((BW18 - $CI18)/$CI18)) | CV18: =IF(BX18="","",ABS((BX18 - $CI18)/$CI18)) | CW18: =IF(BY18="","",ABS((BY18 - $CI18)/$CI18)) | CX18: =IF(BZ18="","",ABS((BZ18 - $CI18)/$CI18)) | CY18: =IF(CA18="","",ABS((CA18 - $CI18)/$CI18)) -> 0 | CZ18: 10 | DA18: =IF(CK18="","",ABS(BU18-$CF18)) | DB18: =IF(CL18="","",ABS(BV18-$CF18)) | DC18: =IF(CM18="","",ABS(BW18-$CF18)) | DD18: =IF(CN18="","",ABS(BX18-$CF18)) | DE18: =IF(CO18="","",ABS(BY18-$CF18)) | DF18: =IF(CP18="","",ABS(BZ18-$CF18)) | DG18: =IF(CQ18="","",ABS(CA18-$CF18)) -> 0 | DH18: 10 | DI18: =IF(BU18="","",(BU18-$CI18)^2) | DJ18: =IF(BV18="","",(BV18-$CI18)^2) | DK18: =IF(BW18="","",(BW18-$CI18)^2) | DL18: =IF(BX18="","",(BX18-$CI18)^2) | DM18: =IF(BY18="","",(BY18-$CI18)^2) | DN18: =IF(BZ18="","",(BZ18-$CI18)^2) | DO18: =IF(CA18="","",(CA18-$CI18)^2) -> 0 | DP18: =MIN(DI18:DO18) -> 0 | DQ18: 10 | DR18: =IF(BU18="","", (1 - ABS((BU18-$CI18)/$CI18))*40) | DS18: =IF(BV18="","", (1 - ABS((BV18-$CI18)/$CI18))*40) | DT18: =IF(BW18="","", (1 - ABS((BW18-$CI18)/$CI18))*40) | DU18: =IF(BX18="","", (1 - ABS((BX18-$CI18)/$CI18))*40) | DV18: =IF(BY18="","", (1 - ABS((BY18-$CI18)/$CI18))*40) | DW18: =IF(BZ18="","", (1 - ABS((BZ18-$CI18)/$CI18))*40) | DX18: =IF(CA18="","", (1 - ABS((CA18-$CI18)/$CI18))*40) -> 40 | DY18: 10 | EF18: 72 | EG18: 10 | EH18: =IF(DZ18<36,0,IF(DZ18>=72,60,IF(DZ18>=66,40,IF(DZ18>=60,30,IF(DZ18>=48,20,IF(DZ18>=36,10,0)))))) -> 0 | EI18: =IF(EA18<36,0,IF(EA18>=72,60,IF(EA18>=66,40,IF(EA18>=60,30,IF(EA18>=48,20,IF(EA18>=36,10,0)))))) -> 0 | EJ18: =IF(EB18<36,0,IF(EB18>=72,60,IF(EB18>=66,40,IF(EB18>=60,30,IF(EB18>=48,20,IF(EB18>=36,10,0)))))) -> 0 | EK18: =IF(EC18<36,0,IF(EC18>=72,60,IF(EC18>=66,40,IF(EC18>=60,30,IF(EC18>=48,20,IF(EC18>=36,10,0)))))) -> 0 | EL18: =IF(ED18<36,0,IF(ED18>=72,60,IF(ED18>=66,40,IF(ED18>=60,30,IF(ED18>=48,20,IF(ED18>=36,10,0)))))) -> 0 | EM18: =IF(EE18<36,0,IF(EE18>=72,60,IF(EE18>=66,40,IF(EE18>=60,30,IF(EE18>=48,20,IF(EE18>=36,10,0)))))) -> 0 | EN18: =IF(EF18<36,0,IF(EF18>=72,60,IF(EF18>=66,40,IF(EF18>=60,30,IF(EF18>=48,20,IF(EF18>=36,10,0)))))) -> 60 | EO18: 10 | EP18: =IF(DR18="","",(EH18+DR18)) | EQ18: =IF(DS18="","",(EI18+DS18)) | ER18: =IF(DT18="","",(EJ18+DT18)) | ES18: =IF(DU18="","",(EK18+DU18)) | ET18: =IF(DV18="","",(EL18+DV18)) | EU18: =IF(DW18="","",(EM18+DW18)) | EV18: =IF(DX18="","",(EN18+DX18)) -> 100 | EW18: =MAX(EP18:EV18) -> 100 | EX18: =IF($EW18=EP18,EP$8,IF($EW18=EQ18,EQ$8,IF($EW18=ER18,ER$8,IF($EW18=ES18,ES$8,IF($EW18=ET18,ET$8,IF($EW18=EU18,EU$8,IF($EW18=EV18,EV$8,""))))))) -> 7. INSTRUMENTACIÓN Y SERVICIOS S.A.S. - NIT.: 830505910-7 | EY18: =IF($EW18=#REF!,#REF!,IF($EW18=#REF!,#REF!,IF($EW18=#REF!,#REF!,IF($EW18=#REF!,#REF!,IF($EW18=#REF!,#REF!,IF($EW18=#REF!,#REF!,IF($EW18=#REF!,#REF!,""))))))) -> #REF! | EZ18: =IF($EW18=#REF!,#REF!,IF($EW18=#REF!,#REF!,IF($EW18=#REF!,#REF!,IF($EW18=#REF!,#REF!,IF($EW18=#REF!,#REF!,IF($EW18=#REF!,#REF!,IF($EW18=#REF!,#REF!,""))))))) -> #REF! | FA18: =IF($EW18=#REF!,#REF!,IF($EW18=#REF!,#REF!,IF($EW18=#REF!,#REF!,IF($EW18=#REF!,#REF!,IF($EW18=#REF!,#REF!,IF($EW18=#REF!,#REF!,IF($EW18=#REF!,#REF!,""))))))) -> #REF! | FB18: =IFERROR(INDEX($EP$8:$EV$8,MATCH(EW18,EP18:EV18,0)), "DESIERTO") -> 7. INSTRUMENTACIÓN Y SERVICIOS S.A.S. - NIT.: 830505910-7 | FC18: =IF($EW18=EP18,EP$8,IF($EW18=EQ18,EQ$8,IF($EW18=ER18,ER$8,IF($EW18=ES18,ES$8,IF($EW18=ET18,ET$8,IF($EW18=EU18,EU$8,IF($EW18=EV18,EV$8,IF($EW18=#REF!,#REF!,IF($EW18=#REF!,#REF!,IF($EW18=#REF!,#REF!,IF($EW18=#REF!,#REF!,IF($EW18=#REF!,#REF!,IF($EW18=#REF!,#REF!,IF($EW18=#REF!,#REF!,IF($EW18=#REF!,#REF!,IF($EW18=#REF!,#REF!,IF($EW18=#REF!,#REF!,IF($EW18=#REF!,#REF!,IF($EW18=#REF!,#REF!,IF($EW18=#REF!,#REF!,IF($EW18=#REF!,#REF!,IF($EW18=#REF!,#REF!,IF($EW18=#REF!,#REF!,IF($EW18=#REF!,#REF!,IF($EW18=#REF!,#REF!,IF($EW18=#REF!,#REF!,IF($EW18=#REF!,#REF!,IF($EW18=#REF!,#REF!,"")))))))))))))))))))))))))))) -> 7. INSTRUMENTACIÓN Y SERVICIOS S.A.S. - NIT.: 830505910-7 | FD18: =IF($FC18=$I$8,$I18,IF($FC18=$J$8,$J18,IF($FC18=$K$8,$K18,IF($FC18=$L$8,$L18,IF($FC18=$M$8,$M18,IF($FC18=$N$8,$N18,IF($FC18=$O$8,$O18,""))))))) -> 13489783 | FE18: =IF($FC18=#REF!,#REF!,IF($FC18=#REF!,#REF!,IF($FC18=#REF!,#REF!,IF($FC18=#REF!,#REF!,IF($FC18=#REF!,#REF!,IF($FC18=#REF!,#REF!,IF($FC18=#REF!,#REF!,""))))))) -> #REF! | FF18: =IF($FC18=#REF!,#REF!,IF($FC18=#REF!,#REF!,IF($FC18=#REF!,#REF!,IF($FC18=#REF!,#REF!,IF($FC18=#REF!,#REF!,IF($FC18=#REF!,#REF!,IF($FC18=#REF!,#REF!,""))))))) -> #REF! | FG18: =IF($FC18=#REF!,#REF!,IF($FC18=#REF!,#REF!,IF($FC18=#REF!,#REF!,IF($FC18=#REF!,#REF!,IF($FC18=#REF!,#REF!,IF($FC18=#REF!,#REF!,IF($FC18=#REF!,#REF!,""))))))) -> #REF! | FH18: =IFERROR(INDEX(I18:O18,MATCH(FB18,$I$8:$O$8,0)),"DESIERTO") -> 13489783 | FI18: =MAX(FD18:FG18) -> #REF! | FJ18: 10 | FK18: =IFERROR(IF(FH18>0,(G18-FH18),"F"),"D") -> 532860 | FL18: =IF(FB18="DESIERTO",G18,"ADJUDICADO") -> ADJUDICADO
B19: CIENCIA Y EDUCACION | C19: LICENCIATURA EN EDUACIÓN ARTÍSTICA | D19: MACARENA A 705 - 706 | E19: PRENSA MANUAL DE SERIGRAFÍA DE MESA CON BISAGRAS | F19: 1 | G19: 5373854 | H19: 11 | P19: 11 | Q19: =IF(I19="NC","NC",IF(I19<=$G19,I19,"")) -> 0 | R19: =IF(J19="NC","NC",IF(J19<=$G19,J19,"")) -> 0 | S19: =IF(K19="NC","NC",IF(K19<=$G19,K19,"")) -> 0 | T19: =IF(L19="NC","NC",IF(L19<=$G19,L19,"")) -> 0 | U19: =IF(M19="NC","NC",IF(M19<=$G19,M19,"")) -> 0 | V19: =IF(N19="NC","NC",IF(N19<=$G19,N19,"")) -> 0 | W19: =IF(O19="NC","NC",IF(O19<=$G19,O19,"")) -> 0 | X19: 11 | Y19: NO CUMPLE | Z19: NO CUMPLE | AA19: NO CUMPLE | AB19: NO CUMPLE | AC19: NO CUMPLE | AD19: NO CUMPLE | AE19: NO CUMPLE | AF19: 11 | AG19: CUMPLE | AH19: CUMPLE | AI19: CUMPLE | AJ19: CUMPLE | AK19: CUMPLE | AL19: CUMPLE | AM19: CUMPLE | AN19: 11 | AO19: CUMPLE | AP19: CUMPLE | AQ19: CUMPLE | AR19: CUMPLE | AS19: CUMPLE | AT19: CUMPLE | AU19: CUMPLE | AV19: 11 | AW19: =IF(Y19="NO CUMPLE","NO CUMPLE",IF(AG19="NO CUMPLE","NO CUMPLE",IF(AO19="NO CUMPLE","NO CUMPLE",IF(AO19="CUMPLE","CUMPLE")))) -> NO CUMPLE | AX19: =IF(Z19="NO CUMPLE","NO CUMPLE",IF(AH19="NO CUMPLE","NO CUMPLE",IF(AP19="NO CUMPLE","NO CUMPLE",IF(AP19="CUMPLE","CUMPLE")))) -> NO CUMPLE | AY19: =IF(AA19="NO CUMPLE","NO CUMPLE",IF(AI19="NO CUMPLE","NO CUMPLE",IF(AQ19="NO CUMPLE","NO CUMPLE",IF(AQ19="CUMPLE","CUMPLE")))) -> NO CUMPLE | AZ19: =IF(AB19="NO CUMPLE","NO CUMPLE",IF(AJ19="NO CUMPLE","NO CUMPLE",IF(AR19="NO CUMPLE","NO CUMPLE",IF(AR19="CUMPLE","CUMPLE")))) -> NO CUMPLE | BA19: =IF(AC19="NO CUMPLE","NO CUMPLE",IF(AK19="NO CUMPLE","NO CUMPLE",IF(AS19="NO CUMPLE","NO CUMPLE",IF(AS19="CUMPLE","CUMPLE")))) -> NO CUMPLE | BB19: =IF(AD19="NO CUMPLE","NO CUMPLE",IF(AL19="NO CUMPLE","NO CUMPLE",IF(AT19="NO CUMPLE","NO CUMPLE",IF(AT19="CUMPLE","CUMPLE")))) -> NO CUMPLE | BC19: =IF(AE19="NO CUMPLE","NO CUMPLE",IF(AM19="NO CUMPLE","NO CUMPLE",IF(AU19="NO CUMPLE","NO CUMPLE",IF(AU19="CUMPLE","CUMPLE")))) -> NO CUMPLE | BD19: 11 | BE19: NC | BF19: NC | BG19: NC | BH19: NC | BI19: NC | BJ19: NC | BK19: NC | BL19: 11 | BM19: NC | BN19: NC | BO19: NC | BP19: NC | BQ19: NC | BR19: NC | BS19: NC | BT19: 11 | BU19: =IF(AW19="NO CUMPLE","",IF(BE19="NO CUMPLE","",IF(BM19="NO CUMPLE","",IF(BE19="NC","",IF(BM19="CUMPLE",I19))))) | BV19: =IF(AX19="NO CUMPLE","",IF(BF19="NO CUMPLE","",IF(BN19="NO CUMPLE","",IF(BF19="NC","",IF(BN19="CUMPLE",J19))))) | BW19: =IF(AY19="NO CUMPLE","",IF(BG19="NO CUMPLE","",IF(BO19="NO CUMPLE","",IF(BG19="NC","",IF(BO19="CUMPLE",K19))))) | BX19: =IF(AZ19="NO CUMPLE","",IF(BH19="NO CUMPLE","",IF(BP19="NO CUMPLE","",IF(BH19="NC","",IF(BP19="CUMPLE",L19))))) | BY19: =IF(BA19="NO CUMPLE","",IF(BI19="NO CUMPLE","",IF(BQ19="NO CUMPLE","",IF(BI19="NC","",IF(BQ19="CUMPLE",M19))))) | BZ19: =IF(BB19="NO CUMPLE","",IF(BJ19="NO CUMPLE","",IF(BR19="NO CUMPLE","",IF(BJ19="NC","",IF(BR19="CUMPLE",N19))))) | CA19: =IF(BC19="NO CUMPLE","",IF(BK19="NO CUMPLE","",IF(BS19="NO CUMPLE","",IF(BK19="NC","",IF(BS19="CUMPLE",O19))))) | CB19: 5373854 | CC19: 5373854 | CD19: =COUNT(BU19:CA19) -> 0 | CE19: =IF(CD19=2,1,IF(CD19=3,2,IF(CD19=4,3,IF(CD19>5,5,)))) -> 0 | CF19: =IFERROR(MEDIAN(BU19:CA19),"") | CG19: =IF(COUNT(BU19:CA19)=0,"",MOD(COUNT(BU19:CA19),2)) | CH19: =IF(COUNT(BU19:CA19)<2,"", IF(MOD(COUNT(BU19:CA19),2)=1,"", SMALL(BU19:CA19, COUNT(BU19:CA19)/2 ) )) | CI19: =IF(CG19=1, CF19, CH19) | CJ19: 11 | CK19: =IF(BU19="","", (1 - ABS((BU19 - $CI19)/$CI19)) * 40) | CL19: =IF(BV19="","", (1 - ABS((BV19 - $CI19)/$CI19)) * 40) | CM19: =IF(BW19="","", (1 - ABS((BW19 - $CI19)/$CI19)) * 40) | CN19: =IF(BX19="","", (1 - ABS((BX19 - $CI19)/$CI19)) * 40) | CO19: =IF(BY19="","", (1 - ABS((BY19 - $CI19)/$CI19)) * 40) | CP19: =IF(BZ19="","", (1 - ABS((BZ19 - $CI19)/$CI19)) * 40) | CQ19: =IF(CA19="","", (1 - ABS((CA19 - $CI19)/$CI19)) * 40) | CR19: 11 | CS19: =IF(BU19="","",ABS((BU19 - $CI19)/$CI19)) | CT19: =IF(BV19="","",ABS((BV19 - $CI19)/$CI19)) | CU19: =IF(BW19="","",ABS((BW19 - $CI19)/$CI19)) | CV19: =IF(BX19="","",ABS((BX19 - $CI19)/$CI19)) | CW19: =IF(BY19="","",ABS((BY19 - $CI19)/$CI19)) | CX19: =IF(BZ19="","",ABS((BZ19 - $CI19)/$CI19)) | CY19: =IF(CA19="","",ABS((CA19 - $CI19)/$CI19)) | CZ19: 11 | DA19: =IF(CK19="","",ABS(BU19-$CF19)) | DB19: =IF(CL19="","",ABS(BV19-$CF19)) | DC19: =IF(CM19="","",ABS(BW19-$CF19)) | DD19: =IF(CN19="","",ABS(BX19-$CF19)) | DE19: =IF(CO19="","",ABS(BY19-$CF19)) | DF19: =IF(CP19="","",ABS(BZ19-$CF19)) | DG19: =IF(CQ19="","",ABS(CA19-$CF19)) | DH19: 11 | DI19: =IF(BU19="","",(BU19-$CI19)^2) | DJ19: =IF(BV19="","",(BV19-$CI19)^2) | DK19: =IF(BW19="","",(BW19-$CI19)^2) | DL19: =IF(BX19="","",(BX19-$CI19)^2) | DM19: =IF(BY19="","",(BY19-$CI19)^2) | DN19: =IF(BZ19="","",(BZ19-$CI19)^2) | DO19: =IF(CA19="","",(CA19-$CI19)^2) | DP19: =MIN(DI19:DO19) -> 0 | DQ19: 11 | DR19: =IF(BU19="","", (1 - ABS((BU19-$CI19)/$CI19))*40) | DS19: =IF(BV19="","", (1 - ABS((BV19-$CI19)/$CI19))*40) | DT19: =IF(BW19="","", (1 - ABS((BW19-$CI19)/$CI19))*40) | DU19: =IF(BX19="","", (1 - ABS((BX19-$CI19)/$CI19))*40) | DV19: =IF(BY19="","", (1 - ABS((BY19-$CI19)/$CI19))*40) | DW19: =IF(BZ19="","", (1 - ABS((BZ19-$CI19)/$CI19))*40) | DX19: =IF(CA19="","", (1 - ABS((CA19-$CI19)/$CI19))*40) | DY19: 11 | EG19: 11 | EH19: =IF(DZ19<36,0,IF(DZ19>=72,60,IF(DZ19>=66,40,IF(DZ19>=60,30,IF(DZ19>=48,20,IF(DZ19>=36,10,0)))))) -> 0 | EI19: =IF(EA19<36,0,IF(EA19>=72,60,IF(EA19>=66,40,IF(EA19>=60,30,IF(EA19>=48,20,IF(EA19>=36,10,0)))))) -> 0 | EJ19: =IF(EB19<36,0,IF(EB19>=72,60,IF(EB19>=66,40,IF(EB19>=60,30,IF(EB19>=48,20,IF(EB19>=36,10,0)))))) -> 0 | EK19: =IF(EC19<36,0,IF(EC19>=72,60,IF(EC19>=66,40,IF(EC19>=60,30,IF(EC19>=48,20,IF(EC19>=36,10,0)))))) -> 0 | EL19: =IF(ED19<36,0,IF(ED19>=72,60,IF(ED19>=66,40,IF(ED19>=60,30,IF(ED19>=48,20,IF(ED19>=36,10,0)))))) -> 0 | EM19: =IF(EE19<36,0,IF(EE19>=72,60,IF(EE19>=66,40,IF(EE19>=60,30,IF(EE19>=48,20,IF(EE19>=36,10,0)))))) -> 0 | EN19: =IF(EF19<36,0,IF(EF19>=72,60,IF(EF19>=66,40,IF(EF19>=60,30,IF(EF19>=48,20,IF(EF19>=36,10,0)))))) -> 0 | EO19: 11 | EP19: =IF(DR19="","",(EH19+DR19)) | EQ19: =IF(DS19="","",(EI19+DS19)) | ER19: =IF(DT19="","",(EJ19+DT19)) | ES19: =IF(DU19="","",(EK19+DU19)) | ET19: =IF(DV19="","",(EL19+DV19)) | EU19: =IF(DW19="","",(EM19+DW19)) | EV19: =IF(DX19="","",(EN19+DX19)) | EW19: =MAX(EP19:EV19) -> 0 | EX19: =IF($EW19=EP19,EP$8,IF($EW19=EQ19,EQ$8,IF($EW19=ER19,ER$8,IF($EW19=ES19,ES$8,IF($EW19=ET19,ET$8,IF($EW19=EU19,EU$8,IF($EW19=EV19,EV$8,""))))))) | EY19: =IF($EW19=#REF!,#REF!,IF($EW19=#REF!,#REF!,IF($EW19=#REF!,#REF!,IF($EW19=#REF!,#REF!,IF($EW19=#REF!,#REF!,IF($EW19=#REF!,#REF!,IF($EW19=#REF!,#REF!,""))))))) -> #REF! | EZ19: =IF($EW19=#REF!,#REF!,IF($EW19=#REF!,#REF!,IF($EW19=#REF!,#REF!,IF($EW19=#REF!,#REF!,IF($EW19=#REF!,#REF!,IF($EW19=#REF!,#REF!,IF($EW19=#REF!,#REF!,""))))))) -> #REF! | FA19: =IF($EW19=#REF!,#REF!,IF($EW19=#REF!,#REF!,IF($EW19=#REF!,#REF!,IF($EW19=#REF!,#REF!,IF($EW19=#REF!,#REF!,IF($EW19=#REF!,#REF!,IF($EW19=#REF!,#REF!,""))))))) -> #REF! | FB19: =IFERROR(INDEX($EP$8:$EV$8,MATCH(EW19,EP19:EV19,0)), "DESIERTO") -> DESIERTO | FC19: =IF($EW19=EP19,EP$8,IF($EW19=EQ19,EQ$8,IF($EW19=ER19,ER$8,IF($EW19=ES19,ES$8,IF($EW19=ET19,ET$8,IF($EW19=EU19,EU$8,IF($EW19=EV19,EV$8,IF($EW19=#REF!,#REF!,IF($EW19=#REF!,#REF!,IF($EW19=#REF!,#REF!,IF($EW19=#REF!,#REF!,IF($EW19=#REF!,#REF!,IF($EW19=#REF!,#REF!,IF($EW19=#REF!,#REF!,IF($EW19=#REF!,#REF!,IF($EW19=#REF!,#REF!,IF($EW19=#REF!,#REF!,IF($EW19=#REF!,#REF!,IF($EW19=#REF!,#REF!,IF($EW19=#REF!,#REF!,IF($EW19=#REF!,#REF!,IF($EW19=#REF!,#REF!,IF($EW19=#REF!,#REF!,IF($EW19=#REF!,#REF!,IF($EW19=#REF!,#REF!,IF($EW19=#REF!,#REF!,IF($EW19=#REF!,#REF!,IF($EW19=#REF!,#REF!,"")))))))))))))))))))))))))))) -> #REF! | FD19: =IF($FC19=$I$8,$I19,IF($FC19=$J$8,$J19,IF($FC19=$K$8,$K19,IF($FC19=$L$8,$L19,IF($FC19=$M$8,$M19,IF($FC19=$N$8,$N19,IF($FC19=$O$8,$O19,""))))))) -> #REF! | FE19: =IF($FC19=#REF!,#REF!,IF($FC19=#REF!,#REF!,IF($FC19=#REF!,#REF!,IF($FC19=#REF!,#REF!,IF($FC19=#REF!,#REF!,IF($FC19=#REF!,#REF!,IF($FC19=#REF!,#REF!,""))))))) -> #REF! | FF19: =IF($FC19=#REF!,#REF!,IF($FC19=#REF!,#REF!,IF($FC19=#REF!,#REF!,IF($FC19=#REF!,#REF!,IF($FC19=#REF!,#REF!,IF($FC19=#REF!,#REF!,IF($FC19=#REF!,#REF!,""))))))) -> #REF! | FG19: =IF($FC19=#REF!,#REF!,IF($FC19=#REF!,#REF!,IF($FC19=#REF!,#REF!,IF($FC19=#REF!,#REF!,IF($FC19=#REF!,#REF!,IF($FC19=#REF!,#REF!,IF($FC19=#REF!,#REF!,""))))))) -> #REF! | FH19: =IFERROR(INDEX(I19:O19,MATCH(FB19,$I$8:$O$8,0)),"DESIERTO") -> DESIERTO | FI19: =MAX(FD19:FG19) -> #REF! | FJ19: 11 | FK19: =IFERROR(IF(FH19>0,(G19-FH19),"F"),"D") -> D | FL19: =IF(FB19="DESIERTO",G19,"ADJUDICADO") -> 5373854
B20: CIENCIA Y EDUCACION | C20: LICENCIATURA EN EDUACIÓN ARTÍSTICA | D20: MACARENA A 705 - 706 | E20: PLANCHA TÉRMICA PARA SUBLIMACIÓN Y TRANSFERENCIA | F20: 1 | G20: 2028792 | H20: 12 | P20: 12 | Q20: =IF(I20="NC","NC",IF(I20<=$G20,I20,"")) -> 0 | R20: =IF(J20="NC","NC",IF(J20<=$G20,J20,"")) -> 0 | S20: =IF(K20="NC","NC",IF(K20<=$G20,K20,"")) -> 0 | T20: =IF(L20="NC","NC",IF(L20<=$G20,L20,"")) -> 0 | U20: =IF(M20="NC","NC",IF(M20<=$G20,M20,"")) -> 0 | V20: =IF(N20="NC","NC",IF(N20<=$G20,N20,"")) -> 0 | W20: =IF(O20="NC","NC",IF(O20<=$G20,O20,"")) -> 0 | X20: 12 | Y20: NO CUMPLE | Z20: NO CUMPLE | AA20: NO CUMPLE | AB20: NO CUMPLE | AC20: NO CUMPLE | AD20: NO CUMPLE | AE20: NO CUMPLE | AF20: 12 | AG20: CUMPLE | AH20: CUMPLE | AI20: CUMPLE | AJ20: CUMPLE | AK20: CUMPLE | AL20: CUMPLE | AM20: CUMPLE | AN20: 12 | AO20: CUMPLE | AP20: CUMPLE | AQ20: CUMPLE | AR20: CUMPLE | AS20: CUMPLE | AT20: CUMPLE | AU20: CUMPLE | AV20: 12 | AW20: =IF(Y20="NO CUMPLE","NO CUMPLE",IF(AG20="NO CUMPLE","NO CUMPLE",IF(AO20="NO CUMPLE","NO CUMPLE",IF(AO20="CUMPLE","CUMPLE")))) -> NO CUMPLE | AX20: =IF(Z20="NO CUMPLE","NO CUMPLE",IF(AH20="NO CUMPLE","NO CUMPLE",IF(AP20="NO CUMPLE","NO CUMPLE",IF(AP20="CUMPLE","CUMPLE")))) -> NO CUMPLE | AY20: =IF(AA20="NO CUMPLE","NO CUMPLE",IF(AI20="NO CUMPLE","NO CUMPLE",IF(AQ20="NO CUMPLE","NO CUMPLE",IF(AQ20="CUMPLE","CUMPLE")))) -> NO CUMPLE | AZ20: =IF(AB20="NO CUMPLE","NO CUMPLE",IF(AJ20="NO CUMPLE","NO CUMPLE",IF(AR20="NO CUMPLE","NO CUMPLE",IF(AR20="CUMPLE","CUMPLE")))) -> NO CUMPLE | BA20: =IF(AC20="NO CUMPLE","NO CUMPLE",IF(AK20="NO CUMPLE","NO CUMPLE",IF(AS20="NO CUMPLE","NO CUMPLE",IF(AS20="CUMPLE","CUMPLE")))) -> NO CUMPLE | BB20: =IF(AD20="NO CUMPLE","NO CUMPLE",IF(AL20="NO CUMPLE","NO CUMPLE",IF(AT20="NO CUMPLE","NO CUMPLE",IF(AT20="CUMPLE","CUMPLE")))) -> NO CUMPLE | BC20: =IF(AE20="NO CUMPLE","NO CUMPLE",IF(AM20="NO CUMPLE","NO CUMPLE",IF(AU20="NO CUMPLE","NO CUMPLE",IF(AU20="CUMPLE","CUMPLE")))) -> NO CUMPLE | BD20: 12 | BE20: NC | BF20: NC | BG20: NC | BH20: NC | BI20: NC | BJ20: NC | BK20: NC | BL20: 12 | BM20: NC | BN20: NC | BO20: NC | BP20: NC | BQ20: NC | BR20: NC | BS20: NC | BT20: 12 | BU20: =IF(AW20="NO CUMPLE","",IF(BE20="NO CUMPLE","",IF(BM20="NO CUMPLE","",IF(BE20="NC","",IF(BM20="CUMPLE",I20))))) | BV20: =IF(AX20="NO CUMPLE","",IF(BF20="NO CUMPLE","",IF(BN20="NO CUMPLE","",IF(BF20="NC","",IF(BN20="CUMPLE",J20))))) | BW20: =IF(AY20="NO CUMPLE","",IF(BG20="NO CUMPLE","",IF(BO20="NO CUMPLE","",IF(BG20="NC","",IF(BO20="CUMPLE",K20))))) | BX20: =IF(AZ20="NO CUMPLE","",IF(BH20="NO CUMPLE","",IF(BP20="NO CUMPLE","",IF(BH20="NC","",IF(BP20="CUMPLE",L20))))) | BY20: =IF(BA20="NO CUMPLE","",IF(BI20="NO CUMPLE","",IF(BQ20="NO CUMPLE","",IF(BI20="NC","",IF(BQ20="CUMPLE",M20))))) | BZ20: =IF(BB20="NO CUMPLE","",IF(BJ20="NO CUMPLE","",IF(BR20="NO CUMPLE","",IF(BJ20="NC","",IF(BR20="CUMPLE",N20))))) | CA20: =IF(BC20="NO CUMPLE","",IF(BK20="NO CUMPLE","",IF(BS20="NO CUMPLE","",IF(BK20="NC","",IF(BS20="CUMPLE",O20))))) | CB20: 2028792 | CC20: 2028792 | CD20: =COUNT(BU20:CA20) -> 0 | CE20: =IF(CD20=2,1,IF(CD20=3,2,IF(CD20=4,3,IF(CD20>5,5,)))) -> 0 | CF20: =IFERROR(MEDIAN(BU20:CA20),"") | CG20: =IF(COUNT(BU20:CA20)=0,"",MOD(COUNT(BU20:CA20),2)) | CH20: =IF(COUNT(BU20:CA20)<2,"", IF(MOD(COUNT(BU20:CA20),2)=1,"", SMALL(BU20:CA20, COUNT(BU20:CA20)/2 ) )) | CI20: =IF(CG20=1, CF20, CH20) | CJ20: 12 | CK20: =IF(BU20="","", (1 - ABS((BU20 - $CI20)/$CI20)) * 40) | CL20: =IF(BV20="","", (1 - ABS((BV20 - $CI20)/$CI20)) * 40) | CM20: =IF(BW20="","", (1 - ABS((BW20 - $CI20)/$CI20)) * 40) | CN20: =IF(BX20="","", (1 - ABS((BX20 - $CI20)/$CI20)) * 40) | CO20: =IF(BY20="","", (1 - ABS((BY20 - $CI20)/$CI20)) * 40) | CP20: =IF(BZ20="","", (1 - ABS((BZ20 - $CI20)/$CI20)) * 40) | CQ20: =IF(CA20="","", (1 - ABS((CA20 - $CI20)/$CI20)) * 40) | CR20: 12 | CS20: =IF(BU20="","",ABS((BU20 - $CI20)/$CI20)) | CT20: =IF(BV20="","",ABS((BV20 - $CI20)/$CI20)) | CU20: =IF(BW20="","",ABS((BW20 - $CI20)/$CI20)) | CV20: =IF(BX20="","",ABS((BX20 - $CI20)/$CI20)) | CW20: =IF(BY20="","",ABS((BY20 - $CI20)/$CI20)) | CX20: =IF(BZ20="","",ABS((BZ20 - $CI20)/$CI20)) | CY20: =IF(CA20="","",ABS((CA20 - $CI20)/$CI20)) | CZ20: 12 | DA20: =IF(CK20="","",ABS(BU20-$CF20)) | DB20: =IF(CL20="","",ABS(BV20-$CF20)) | DC20: =IF(CM20="","",ABS(BW20-$CF20)) | DD20: =IF(CN20="","",ABS(BX20-$CF20)) | DE20: =IF(CO20="","",ABS(BY20-$CF20)) | DF20: =IF(CP20="","",ABS(BZ20-$CF20)) | DG20: =IF(CQ20="","",ABS(CA20-$CF20)) | DH20: 12 | DI20: =IF(BU20="","",(BU20-$CI20)^2) | DJ20: =IF(BV20="","",(BV20-$CI20)^2) | DK20: =IF(BW20="","",(BW20-$CI20)^2) | DL20: =IF(BX20="","",(BX20-$CI20)^2) | DM20: =IF(BY20="","",(BY20-$CI20)^2) | DN20: =IF(BZ20="","",(BZ20-$CI20)^2) | DO20: =IF(CA20="","",(CA20-$CI20)^2) | DP20: =MIN(DI20:DO20) -> 0 | DQ20: 12 | DR20: =IF(BU20="","", (1 - ABS((BU20-$CI20)/$CI20))*40) | DS20: =IF(BV20="","", (1 - ABS((BV20-$CI20)/$CI20))*40) | DT20: =IF(BW20="","", (1 - ABS((BW20-$CI20)/$CI20))*40) | DU20: =IF(BX20="","", (1 - ABS((BX20-$CI20)/$CI20))*40) | DV20: =IF(BY20="","", (1 - ABS((BY20-$CI20)/$CI20))*40) | DW20: =IF(BZ20="","", (1 - ABS((BZ20-$CI20)/$CI20))*40) | DX20: =IF(CA20="","", (1 - ABS((CA20-$CI20)/$CI20))*40) | DY20: 12 | EG20: 12 | EH20: =IF(DZ20<36,0,IF(DZ20>=72,60,IF(DZ20>=66,40,IF(DZ20>=60,30,IF(DZ20>=48,20,IF(DZ20>=36,10,0)))))) -> 0 | EI20: =IF(EA20<36,0,IF(EA20>=72,60,IF(EA20>=66,40,IF(EA20>=60,30,IF(EA20>=48,20,IF(EA20>=36,10,0)))))) -> 0 | EJ20: =IF(EB20<36,0,IF(EB20>=72,60,IF(EB20>=66,40,IF(EB20>=60,30,IF(EB20>=48,20,IF(EB20>=36,10,0)))))) -> 0 | EK20: =IF(EC20<36,0,IF(EC20>=72,60,IF(EC20>=66,40,IF(EC20>=60,30,IF(EC20>=48,20,IF(EC20>=36,10,0)))))) -> 0 | EL20: =IF(ED20<36,0,IF(ED20>=72,60,IF(ED20>=66,40,IF(ED20>=60,30,IF(ED20>=48,20,IF(ED20>=36,10,0)))))) -> 0 | EM20: =IF(EE20<36,0,IF(EE20>=72,60,IF(EE20>=66,40,IF(EE20>=60,30,IF(EE20>=48,20,IF(EE20>=36,10,0)))))) -> 0 | EN20: =IF(EF20<36,0,IF(EF20>=72,60,IF(EF20>=66,40,IF(EF20>=60,30,IF(EF20>=48,20,IF(EF20>=36,10,0)))))) -> 0 | EO20: 12 | EP20: =IF(DR20="","",(EH20+DR20)) | EQ20: =IF(DS20="","",(EI20+DS20)) | ER20: =IF(DT20="","",(EJ20+DT20)) | ES20: =IF(DU20="","",(EK20+DU20)) | ET20: =IF(DV20="","",(EL20+DV20)) | EU20: =IF(DW20="","",(EM20+DW20)) | EV20: =IF(DX20="","",(EN20+DX20)) | EW20: =MAX(EP20:EV20) -> 0 | EX20: =IF($EW20=EP20,EP$8,IF($EW20=EQ20,EQ$8,IF($EW20=ER20,ER$8,IF($EW20=ES20,ES$8,IF($EW20=ET20,ET$8,IF($EW20=EU20,EU$8,IF($EW20=EV20,EV$8,""))))))) | EY20: =IF($EW20=#REF!,#REF!,IF($EW20=#REF!,#REF!,IF($EW20=#REF!,#REF!,IF($EW20=#REF!,#REF!,IF($EW20=#REF!,#REF!,IF($EW20=#REF!,#REF!,IF($EW20=#REF!,#REF!,""))))))) -> #REF! | EZ20: =IF($EW20=#REF!,#REF!,IF($EW20=#REF!,#REF!,IF($EW20=#REF!,#REF!,IF($EW20=#REF!,#REF!,IF($EW20=#REF!,#REF!,IF($EW20=#REF!,#REF!,IF($EW20=#REF!,#REF!,""))))))) -> #REF! | FA20: =IF($EW20=#REF!,#REF!,IF($EW20=#REF!,#REF!,IF($EW20=#REF!,#REF!,IF($EW20=#REF!,#REF!,IF($EW20=#REF!,#REF!,IF($EW20=#REF!,#REF!,IF($EW20=#REF!,#REF!,""))))))) -> #REF! | FB20: =IFERROR(INDEX($EP$8:$EV$8,MATCH(EW20,EP20:EV20,0)), "DESIERTO") -> DESIERTO | FC20: =IF($EW20=EP20,EP$8,IF($EW20=EQ20,EQ$8,IF($EW20=ER20,ER$8,IF($EW20=ES20,ES$8,IF($EW20=ET20,ET$8,IF($EW20=EU20,EU$8,IF($EW20=EV20,EV$8,IF($EW20=#REF!,#REF!,IF($EW20=#REF!,#REF!,IF($EW20=#REF!,#REF!,IF($EW20=#REF!,#REF!,IF($EW20=#REF!,#REF!,IF($EW20=#REF!,#REF!,IF($EW20=#REF!,#REF!,IF($EW20=#REF!,#REF!,IF($EW20=#REF!,#REF!,IF($EW20=#REF!,#REF!,IF($EW20=#REF!,#REF!,IF($EW20=#REF!,#REF!,IF($EW20=#REF!,#REF!,IF($EW20=#REF!,#REF!,IF($EW20=#REF!,#REF!,IF($EW20=#REF!,#REF!,IF($EW20=#REF!,#REF!,IF($EW20=#REF!,#REF!,IF($EW20=#REF!,#REF!,IF($EW20=#REF!,#REF!,IF($EW20=#REF!,#REF!,"")))))))))))))))))))))))))))) -> #REF! | FD20: =IF($FC20=$I$8,$I20,IF($FC20=$J$8,$J20,IF($FC20=$K$8,$K20,IF($FC20=$L$8,$L20,IF($FC20=$M$8,$M20,IF($FC20=$N$8,$N20,IF($FC20=$O$8,$O20,""))))))) -> #REF! | FE20: =IF($FC20=#REF!,#REF!,IF($FC20=#REF!,#REF!,IF($FC20=#REF!,#REF!,IF($FC20=#REF!,#REF!,IF($FC20=#REF!,#REF!,IF($FC20=#REF!,#REF!,IF($FC20=#REF!,#REF!,""))))))) -> #REF! | FF20: =IF($FC20=#REF!,#REF!,IF($FC20=#REF!,#REF!,IF($FC20=#REF!,#REF!,IF($FC20=#REF!,#REF!,IF($FC20=#REF!,#REF!,IF($FC20=#REF!,#REF!,IF($FC20=#REF!,#REF!,""))))))) -> #REF! | FG20: =IF($FC20=#REF!,#REF!,IF($FC20=#REF!,#REF!,IF($FC20=#REF!,#REF!,IF($FC20=#REF!,#REF!,IF($FC20=#REF!,#REF!,IF($FC20=#REF!,#REF!,IF($FC20=#REF!,#REF!,""))))))) -> #REF! | FH20: =IFERROR(INDEX(I20:O20,MATCH(FB20,$I$8:$O$8,0)),"DESIERTO") -> DESIERTO | FI20: =MAX(FD20:FG20) -> #REF! | FJ20: 12 | FK20: =IFERROR(IF(FH20>0,(G20-FH20),"F"),"D") -> D | FL20: =IF(FB20="DESIERTO",G20,"ADJUDICADO") -> 2028792
B21: CIENCIA Y EDUCACION | C21: LICENCIATURA EN EDUACIÓN ARTÍSTICA | D21: MACARENA A 705 - 706 | E21: BASTIDORES DE SERIGRAFÍA CON MALLA PARA REVELADO Y ESTAMPACIÓN | F21: 5 | G21: 1572140 | H21: 13 | P21: 13 | Q21: =IF(I21="NC","NC",IF(I21<=$G21,I21,"")) -> 0 | R21: =IF(J21="NC","NC",IF(J21<=$G21,J21,"")) -> 0 | S21: =IF(K21="NC","NC",IF(K21<=$G21,K21,"")) -> 0 | T21: =IF(L21="NC","NC",IF(L21<=$G21,L21,"")) -> 0 | U21: =IF(M21="NC","NC",IF(M21<=$G21,M21,"")) -> 0 | V21: =IF(N21="NC","NC",IF(N21<=$G21,N21,"")) -> 0 | W21: =IF(O21="NC","NC",IF(O21<=$G21,O21,"")) -> 0 | X21: 13 | Y21: NO CUMPLE | Z21: NO CUMPLE | AA21: NO CUMPLE | AB21: NO CUMPLE | AC21: NO CUMPLE | AD21: NO CUMPLE | AE21: NO CUMPLE | AF21: 13 | AG21: CUMPLE | AH21: CUMPLE | AI21: CUMPLE | AJ21: CUMPLE | AK21: CUMPLE | AL21: CUMPLE | AM21: CUMPLE | AN21: 13 | AO21: CUMPLE | AP21: CUMPLE | AQ21: CUMPLE | AR21: CUMPLE | AS21: CUMPLE | AT21: CUMPLE | AU21: CUMPLE | AV21: 13 | AW21: =IF(Y21="NO CUMPLE","NO CUMPLE",IF(AG21="NO CUMPLE","NO CUMPLE",IF(AO21="NO CUMPLE","NO CUMPLE",IF(AO21="CUMPLE","CUMPLE")))) -> NO CUMPLE | AX21: =IF(Z21="NO CUMPLE","NO CUMPLE",IF(AH21="NO CUMPLE","NO CUMPLE",IF(AP21="NO CUMPLE","NO CUMPLE",IF(AP21="CUMPLE","CUMPLE")))) -> NO CUMPLE | AY21: =IF(AA21="NO CUMPLE","NO CUMPLE",IF(AI21="NO CUMPLE","NO CUMPLE",IF(AQ21="NO CUMPLE","NO CUMPLE",IF(AQ21="CUMPLE","CUMPLE")))) -> NO CUMPLE | AZ21: =IF(AB21="NO CUMPLE","NO CUMPLE",IF(AJ21="NO CUMPLE","NO CUMPLE",IF(AR21="NO CUMPLE","NO CUMPLE",IF(AR21="CUMPLE","CUMPLE")))) -> NO CUMPLE | BA21: =IF(AC21="NO CUMPLE","NO CUMPLE",IF(AK21="NO CUMPLE","NO CUMPLE",IF(AS21="NO CUMPLE","NO CUMPLE",IF(AS21="CUMPLE","CUMPLE")))) -> NO CUMPLE | BB21: =IF(AD21="NO CUMPLE","NO CUMPLE",IF(AL21="NO CUMPLE","NO CUMPLE",IF(AT21="NO CUMPLE","NO CUMPLE",IF(AT21="CUMPLE","CUMPLE")))) -> NO CUMPLE | BC21: =IF(AE21="NO CUMPLE","NO CUMPLE",IF(AM21="NO CUMPLE","NO CUMPLE",IF(AU21="NO CUMPLE","NO CUMPLE",IF(AU21="CUMPLE","CUMPLE")))) -> NO CUMPLE | BD21: 13 | BE21: NC | BF21: NC | BG21: NC | BH21: NC | BI21: NC | BJ21: NC | BK21: NC | BL21: 13 | BM21: NC | BN21: NC | BO21: NC | BP21: NC | BQ21: NC | BR21: NC | BS21: NC | BT21: 13 | BU21: =IF(AW21="NO CUMPLE","",IF(BE21="NO CUMPLE","",IF(BM21="NO CUMPLE","",IF(BE21="NC","",IF(BM21="CUMPLE",I21))))) | BV21: =IF(AX21="NO CUMPLE","",IF(BF21="NO CUMPLE","",IF(BN21="NO CUMPLE","",IF(BF21="NC","",IF(BN21="CUMPLE",J21))))) | BW21: =IF(AY21="NO CUMPLE","",IF(BG21="NO CUMPLE","",IF(BO21="NO CUMPLE","",IF(BG21="NC","",IF(BO21="CUMPLE",K21))))) | BX21: =IF(AZ21="NO CUMPLE","",IF(BH21="NO CUMPLE","",IF(BP21="NO CUMPLE","",IF(BH21="NC","",IF(BP21="CUMPLE",L21))))) | BY21: =IF(BA21="NO CUMPLE","",IF(BI21="NO CUMPLE","",IF(BQ21="NO CUMPLE","",IF(BI21="NC","",IF(BQ21="CUMPLE",M21))))) | BZ21: =IF(BB21="NO CUMPLE","",IF(BJ21="NO CUMPLE","",IF(BR21="NO CUMPLE","",IF(BJ21="NC","",IF(BR21="CUMPLE",N21))))) | CA21: =IF(BC21="NO CUMPLE","",IF(BK21="NO CUMPLE","",IF(BS21="NO CUMPLE","",IF(BK21="NC","",IF(BS21="CUMPLE",O21))))) | CB21: 1572140 | CC21: 1572140 | CD21: =COUNT(BU21:CA21) -> 0 | CE21: =IF(CD21=2,1,IF(CD21=3,2,IF(CD21=4,3,IF(CD21>5,5,)))) -> 0 | CF21: =IFERROR(MEDIAN(BU21:CA21),"") | CG21: =IF(COUNT(BU21:CA21)=0,"",MOD(COUNT(BU21:CA21),2)) | CH21: =IF(COUNT(BU21:CA21)<2,"", IF(MOD(COUNT(BU21:CA21),2)=1,"", SMALL(BU21:CA21, COUNT(BU21:CA21)/2 ) )) | CI21: =IF(CG21=1, CF21, CH21) | CJ21: 13 | CK21: =IF(BU21="","", (1 - ABS((BU21 - $CI21)/$CI21)) * 40) | CL21: =IF(BV21="","", (1 - ABS((BV21 - $CI21)/$CI21)) * 40) | CM21: =IF(BW21="","", (1 - ABS((BW21 - $CI21)/$CI21)) * 40) | CN21: =IF(BX21="","", (1 - ABS((BX21 - $CI21)/$CI21)) * 40) | CO21: =IF(BY21="","", (1 - ABS((BY21 - $CI21)/$CI21)) * 40) | CP21: =IF(BZ21="","", (1 - ABS((BZ21 - $CI21)/$CI21)) * 40) | CQ21: =IF(CA21="","", (1 - ABS((CA21 - $CI21)/$CI21)) * 40) | CR21: 13 | CS21: =IF(BU21="","",ABS((BU21 - $CI21)/$CI21)) | CT21: =IF(BV21="","",ABS((BV21 - $CI21)/$CI21)) | CU21: =IF(BW21="","",ABS((BW21 - $CI21)/$CI21)) | CV21: =IF(BX21="","",ABS((BX21 - $CI21)/$CI21)) | CW21: =IF(BY21="","",ABS((BY21 - $CI21)/$CI21)) | CX21: =IF(BZ21="","",ABS((BZ21 - $CI21)/$CI21)) | CY21: =IF(CA21="","",ABS((CA21 - $CI21)/$CI21)) | CZ21: 13 | DA21: =IF(CK21="","",ABS(BU21-$CF21)) | DB21: =IF(CL21="","",ABS(BV21-$CF21)) | DC21: =IF(CM21="","",ABS(BW21-$CF21)) | DD21: =IF(CN21="","",ABS(BX21-$CF21)) | DE21: =IF(CO21="","",ABS(BY21-$CF21)) | DF21: =IF(CP21="","",ABS(BZ21-$CF21)) | DG21: =IF(CQ21="","",ABS(CA21-$CF21)) | DH21: 13 | DI21: =IF(BU21="","",(BU21-$CI21)^2) | DJ21: =IF(BV21="","",(BV21-$CI21)^2) | DK21: =IF(BW21="","",(BW21-$CI21)^2) | DL21: =IF(BX21="","",(BX21-$CI21)^2) | DM21: =IF(BY21="","",(BY21-$CI21)^2) | DN21: =IF(BZ21="","",(BZ21-$CI21)^2) | DO21: =IF(CA21="","",(CA21-$CI21)^2) | DP21: =MIN(DI21:DO21) -> 0 | DQ21: 13 | DR21: =IF(BU21="","", (1 - ABS((BU21-$CI21)/$CI21))*40) | DS21: =IF(BV21="","", (1 - ABS((BV21-$CI21)/$CI21))*40) | DT21: =IF(BW21="","", (1 - ABS((BW21-$CI21)/$CI21))*40) | DU21: =IF(BX21="","", (1 - ABS((BX21-$CI21)/$CI21))*40) | DV21: =IF(BY21="","", (1 - ABS((BY21-$CI21)/$CI21))*40) | DW21: =IF(BZ21="","", (1 - ABS((BZ21-$CI21)/$CI21))*40) | DX21: =IF(CA21="","", (1 - ABS((CA21-$CI21)/$CI21))*40) | DY21: 13 | EG21: 13 | EH21: =IF(DZ21<36,0,IF(DZ21>=72,60,IF(DZ21>=66,40,IF(DZ21>=60,30,IF(DZ21>=48,20,IF(DZ21>=36,10,0)))))) -> 0 | EI21: =IF(EA21<36,0,IF(EA21>=72,60,IF(EA21>=66,40,IF(EA21>=60,30,IF(EA21>=48,20,IF(EA21>=36,10,0)))))) -> 0 | EJ21: =IF(EB21<36,0,IF(EB21>=72,60,IF(EB21>=66,40,IF(EB21>=60,30,IF(EB21>=48,20,IF(EB21>=36,10,0)))))) -> 0 | EK21: =IF(EC21<36,0,IF(EC21>=72,60,IF(EC21>=66,40,IF(EC21>=60,30,IF(EC21>=48,20,IF(EC21>=36,10,0)))))) -> 0 | EL21: =IF(ED21<36,0,IF(ED21>=72,60,IF(ED21>=66,40,IF(ED21>=60,30,IF(ED21>=48,20,IF(ED21>=36,10,0)))))) -> 0 | EM21: =IF(EE21<36,0,IF(EE21>=72,60,IF(EE21>=66,40,IF(EE21>=60,30,IF(EE21>=48,20,IF(EE21>=36,10,0)))))) -> 0 | EN21: =IF(EF21<36,0,IF(EF21>=72,60,IF(EF21>=66,40,IF(EF21>=60,30,IF(EF21>=48,20,IF(EF21>=36,10,0)))))) -> 0 | EO21: 13 | EP21: =IF(DR21="","",(EH21+DR21)) | EQ21: =IF(DS21="","",(EI21+DS21)) | ER21: =IF(DT21="","",(EJ21+DT21)) | ES21: =IF(DU21="","",(EK21+DU21)) | ET21: =IF(DV21="","",(EL21+DV21)) | EU21: =IF(DW21="","",(EM21+DW21)) | EV21: =IF(DX21="","",(EN21+DX21)) | EW21: =MAX(EP21:EV21) -> 0 | EX21: =IF($EW21=EP21,EP$8,IF($EW21=EQ21,EQ$8,IF($EW21=ER21,ER$8,IF($EW21=ES21,ES$8,IF($EW21=ET21,ET$8,IF($EW21=EU21,EU$8,IF($EW21=EV21,EV$8,""))))))) | EY21: =IF($EW21=#REF!,#REF!,IF($EW21=#REF!,#REF!,IF($EW21=#REF!,#REF!,IF($EW21=#REF!,#REF!,IF($EW21=#REF!,#REF!,IF($EW21=#REF!,#REF!,IF($EW21=#REF!,#REF!,""))))))) -> #REF! | EZ21: =IF($EW21=#REF!,#REF!,IF($EW21=#REF!,#REF!,IF($EW21=#REF!,#REF!,IF($EW21=#REF!,#REF!,IF($EW21=#REF!,#REF!,IF($EW21=#REF!,#REF!,IF($EW21=#REF!,#REF!,""))))))) -> #REF! | FA21: =IF($EW21=#REF!,#REF!,IF($EW21=#REF!,#REF!,IF($EW21=#REF!,#REF!,IF($EW21=#REF!,#REF!,IF($EW21=#REF!,#REF!,IF($EW21=#REF!,#REF!,IF($EW21=#REF!,#REF!,""))))))) -> #REF! | FB21: =IFERROR(INDEX($EP$8:$EV$8,MATCH(EW21,EP21:EV21,0)), "DESIERTO") -> DESIERTO | FC21: =IF($EW21=EP21,EP$8,IF($EW21=EQ21,EQ$8,IF($EW21=ER21,ER$8,IF($EW21=ES21,ES$8,IF($EW21=ET21,ET$8,IF($EW21=EU21,EU$8,IF($EW21=EV21,EV$8,IF($EW21=#REF!,#REF!,IF($EW21=#REF!,#REF!,IF($EW21=#REF!,#REF!,IF($EW21=#REF!,#REF!,IF($EW21=#REF!,#REF!,IF($EW21=#REF!,#REF!,IF($EW21=#REF!,#REF!,IF($EW21=#REF!,#REF!,IF($EW21=#REF!,#REF!,IF($EW21=#REF!,#REF!,IF($EW21=#REF!,#REF!,IF($EW21=#REF!,#REF!,IF($EW21=#REF!,#REF!,IF($EW21=#REF!,#REF!,IF($EW21=#REF!,#REF!,IF($EW21=#REF!,#REF!,IF($EW21=#REF!,#REF!,IF($EW21=#REF!,#REF!,IF($EW21=#REF!,#REF!,IF($EW21=#REF!,#REF!,IF($EW21=#REF!,#REF!,"")))))))))))))))))))))))))))) -> #REF! | FD21: =IF($FC21=$I$8,$I21,IF($FC21=$J$8,$J21,IF($FC21=$K$8,$K21,IF($FC21=$L$8,$L21,IF($FC21=$M$8,$M21,IF($FC21=$N$8,$N21,IF($FC21=$O$8,$O21,""))))))) -> #REF! | FE21: =IF($FC21=#REF!,#REF!,IF($FC21=#REF!,#REF!,IF($FC21=#REF!,#REF!,IF($FC21=#REF!,#REF!,IF($FC21=#REF!,#REF!,IF($FC21=#REF!,#REF!,IF($FC21=#REF!,#REF!,""))))))) -> #REF! | FF21: =IF($FC21=#REF!,#REF!,IF($FC21=#REF!,#REF!,IF($FC21=#REF!,#REF!,IF($FC21=#REF!,#REF!,IF($FC21=#REF!,#REF!,IF($FC21=#REF!,#REF!,IF($FC21=#REF!,#REF!,""))))))) -> #REF! | FG21: =IF($FC21=#REF!,#REF!,IF($FC21=#REF!,#REF!,IF($FC21=#REF!,#REF!,IF($FC21=#REF!,#REF!,IF($FC21=#REF!,#REF!,IF($FC21=#REF!,#REF!,IF($FC21=#REF!,#REF!,""))))))) -> #REF! | FH21: =IFERROR(INDEX(I21:O21,MATCH(FB21,$I$8:$O$8,0)),"DESIERTO") -> DESIERTO | FI21: =MAX(FD21:FG21) -> #REF! | FJ21: 13 | FK21: =IFERROR(IF(FH21>0,(G21-FH21),"F"),"D") -> D | FL21: =IF(FB21="DESIERTO",G21,"ADJUDICADO") -> 1572140
B22: CIENCIA Y EDUCACION | C22: LICENCIATURA EN EDUACIÓN ARTÍSTICA | D22: MACARENA A 705 - 706 | E22: KIT EDUCATIVO COMPLETO PARA PROCESOS DE SERIGRAFÍA ARTÍSTICA | F22: 14 | G22: 12300528 | H22: 14 | P22: 14 | Q22: =IF(I22="NC","NC",IF(I22<=$G22,I22,"")) -> 0 | R22: =IF(J22="NC","NC",IF(J22<=$G22,J22,"")) -> 0 | S22: =IF(K22="NC","NC",IF(K22<=$G22,K22,"")) -> 0 | T22: =IF(L22="NC","NC",IF(L22<=$G22,L22,"")) -> 0 | U22: =IF(M22="NC","NC",IF(M22<=$G22,M22,"")) -> 0 | V22: =IF(N22="NC","NC",IF(N22<=$G22,N22,"")) -> 0 | W22: =IF(O22="NC","NC",IF(O22<=$G22,O22,"")) -> 0 | X22: 14 | Y22: NO CUMPLE | Z22: NO CUMPLE | AA22: NO CUMPLE | AB22: NO CUMPLE | AC22: NO CUMPLE | AD22: NO CUMPLE | AE22: NO CUMPLE | AF22: 14 | AG22: CUMPLE | AH22: CUMPLE | AI22: CUMPLE | AJ22: CUMPLE | AK22: CUMPLE | AL22: CUMPLE | AM22: CUMPLE | AN22: 14 | AO22: CUMPLE | AP22: CUMPLE | AQ22: CUMPLE | AR22: CUMPLE | AS22: CUMPLE | AT22: CUMPLE | AU22: CUMPLE | AV22: 14 | AW22: =IF(Y22="NO CUMPLE","NO CUMPLE",IF(AG22="NO CUMPLE","NO CUMPLE",IF(AO22="NO CUMPLE","NO CUMPLE",IF(AO22="CUMPLE","CUMPLE")))) -> NO CUMPLE | AX22: =IF(Z22="NO CUMPLE","NO CUMPLE",IF(AH22="NO CUMPLE","NO CUMPLE",IF(AP22="NO CUMPLE","NO CUMPLE",IF(AP22="CUMPLE","CUMPLE")))) -> NO CUMPLE | AY22: =IF(AA22="NO CUMPLE","NO CUMPLE",IF(AI22="NO CUMPLE","NO CUMPLE",IF(AQ22="NO CUMPLE","NO CUMPLE",IF(AQ22="CUMPLE","CUMPLE")))) -> NO CUMPLE | AZ22: =IF(AB22="NO CUMPLE","NO CUMPLE",IF(AJ22="NO CUMPLE","NO CUMPLE",IF(AR22="NO CUMPLE","NO CUMPLE",IF(AR22="CUMPLE","CUMPLE")))) -> NO CUMPLE | BA22: =IF(AC22="NO CUMPLE","NO CUMPLE",IF(AK22="NO CUMPLE","NO CUMPLE",IF(AS22="NO CUMPLE","NO CUMPLE",IF(AS22="CUMPLE","CUMPLE")))) -> NO CUMPLE | BB22: =IF(AD22="NO CUMPLE","NO CUMPLE",IF(AL22="NO CUMPLE","NO CUMPLE",IF(AT22="NO CUMPLE","NO CUMPLE",IF(AT22="CUMPLE","CUMPLE")))) -> NO CUMPLE | BC22: =IF(AE22="NO CUMPLE","NO CUMPLE",IF(AM22="NO CUMPLE","NO CUMPLE",IF(AU22="NO CUMPLE","NO CUMPLE",IF(AU22="CUMPLE","CUMPLE")))) -> NO CUMPLE | BD22: 14 | BE22: NC | BF22: NC | BG22: NC | BH22: NC | BI22: NC | BJ22: NC | BK22: NC | BL22: 14 | BM22: NC | BN22: NC | BO22: NC | BP22: NC | BQ22: NC | BR22: NC | BS22: NC | BT22: 14 | BU22: =IF(AW22="NO CUMPLE","",IF(BE22="NO CUMPLE","",IF(BM22="NO CUMPLE","",IF(BE22="NC","",IF(BM22="CUMPLE",I22))))) | BV22: =IF(AX22="NO CUMPLE","",IF(BF22="NO CUMPLE","",IF(BN22="NO CUMPLE","",IF(BF22="NC","",IF(BN22="CUMPLE",J22))))) | BW22: =IF(AY22="NO CUMPLE","",IF(BG22="NO CUMPLE","",IF(BO22="NO CUMPLE","",IF(BG22="NC","",IF(BO22="CUMPLE",K22))))) | BX22: =IF(AZ22="NO CUMPLE","",IF(BH22="NO CUMPLE","",IF(BP22="NO CUMPLE","",IF(BH22="NC","",IF(BP22="CUMPLE",L22))))) | BY22: =IF(BA22="NO CUMPLE","",IF(BI22="NO CUMPLE","",IF(BQ22="NO CUMPLE","",IF(BI22="NC","",IF(BQ22="CUMPLE",M22))))) | BZ22: =IF(BB22="NO CUMPLE","",IF(BJ22="NO CUMPLE","",IF(BR22="NO CUMPLE","",IF(BJ22="NC","",IF(BR22="CUMPLE",N22))))) | CA22: =IF(BC22="NO CUMPLE","",IF(BK22="NO CUMPLE","",IF(BS22="NO CUMPLE","",IF(BK22="NC","",IF(BS22="CUMPLE",O22))))) | CB22: 12300528 | CC22: 12300528 | CD22: =COUNT(BU22:CA22) -> 0 | CE22: =IF(CD22=2,1,IF(CD22=3,2,IF(CD22=4,3,IF(CD22>5,5,)))) -> 0 | CF22: =IFERROR(MEDIAN(BU22:CA22),"") | CG22: =IF(COUNT(BU22:CA22)=0,"",MOD(COUNT(BU22:CA22),2)) | CH22: =IF(COUNT(BU22:CA22)<2,"", IF(MOD(COUNT(BU22:CA22),2)=1,"", SMALL(BU22:CA22, COUNT(BU22:CA22)/2 ) )) | CI22: =IF(CG22=1, CF22, CH22) | CJ22: 14 | CK22: =IF(BU22="","", (1 - ABS((BU22 - $CI22)/$CI22)) * 40) | CL22: =IF(BV22="","", (1 - ABS((BV22 - $CI22)/$CI22)) * 40) | CM22: =IF(BW22="","", (1 - ABS((BW22 - $CI22)/$CI22)) * 40) | CN22: =IF(BX22="","", (1 - ABS((BX22 - $CI22)/$CI22)) * 40) | CO22: =IF(BY22="","", (1 - ABS((BY22 - $CI22)/$CI22)) * 40) | CP22: =IF(BZ22="","", (1 - ABS((BZ22 - $CI22)/$CI22)) * 40) | CQ22: =IF(CA22="","", (1 - ABS((CA22 - $CI22)/$CI22)) * 40) | CR22: 14 | CS22: =IF(BU22="","",ABS((BU22 - $CI22)/$CI22)) | CT22: =IF(BV22="","",ABS((BV22 - $CI22)/$CI22)) | CU22: =IF(BW22="","",ABS((BW22 - $CI22)/$CI22)) | CV22: =IF(BX22="","",ABS((BX22 - $CI22)/$CI22)) | CW22: =IF(BY22="","",ABS((BY22 - $CI22)/$CI22)) | CX22: =IF(BZ22="","",ABS((BZ22 - $CI22)/$CI22)) | CY22: =IF(CA22="","",ABS((CA22 - $CI22)/$CI22)) | CZ22: 14 | DA22: =IF(CK22="","",ABS(BU22-$CF22)) | DB22: =IF(CL22="","",ABS(BV22-$CF22)) | DC22: =IF(CM22="","",ABS(BW22-$CF22)) | DD22: =IF(CN22="","",ABS(BX22-$CF22)) | DE22: =IF(CO22="","",ABS(BY22-$CF22)) | DF22: =IF(CP22="","",ABS(BZ22-$CF22)) | DG22: =IF(CQ22="","",ABS(CA22-$CF22)) | DH22: 14 | DI22: =IF(BU22="","",(BU22-$CI22)^2) | DJ22: =IF(BV22="","",(BV22-$CI22)^2) | DK22: =IF(BW22="","",(BW22-$CI22)^2) | DL22: =IF(BX22="","",(BX22-$CI22)^2) | DM22: =IF(BY22="","",(BY22-$CI22)^2) | DN22: =IF(BZ22="","",(BZ22-$CI22)^2) | DO22: =IF(CA22="","",(CA22-$CI22)^2) | DP22: =MIN(DI22:DO22) -> 0 | DQ22: 14 | DR22: =IF(BU22="","", (1 - ABS((BU22-$CI22)/$CI22))*40) | DS22: =IF(BV22="","", (1 - ABS((BV22-$CI22)/$CI22))*40) | DT22: =IF(BW22="","", (1 - ABS((BW22-$CI22)/$CI22))*40) | DU22: =IF(BX22="","", (1 - ABS((BX22-$CI22)/$CI22))*40) | DV22: =IF(BY22="","", (1 - ABS((BY22-$CI22)/$CI22))*40) | DW22: =IF(BZ22="","", (1 - ABS((BZ22-$CI22)/$CI22))*40) | DX22: =IF(CA22="","", (1 - ABS((CA22-$CI22)/$CI22))*40) | DY22: 14 | EG22: 14 | EH22: =IF(DZ22<36,0,IF(DZ22>=72,60,IF(DZ22>=66,40,IF(DZ22>=60,30,IF(DZ22>=48,20,IF(DZ22>=36,10,0)))))) -> 0 | EI22: =IF(EA22<36,0,IF(EA22>=72,60,IF(EA22>=66,40,IF(EA22>=60,30,IF(EA22>=48,20,IF(EA22>=36,10,0)))))) -> 0 | EJ22: =IF(EB22<36,0,IF(EB22>=72,60,IF(EB22>=66,40,IF(EB22>=60,30,IF(EB22>=48,20,IF(EB22>=36,10,0)))))) -> 0 | EK22: =IF(EC22<36,0,IF(EC22>=72,60,IF(EC22>=66,40,IF(EC22>=60,30,IF(EC22>=48,20,IF(EC22>=36,10,0)))))) -> 0 | EL22: =IF(ED22<36,0,IF(ED22>=72,60,IF(ED22>=66,40,IF(ED22>=60,30,IF(ED22>=48,20,IF(ED22>=36,10,0)))))) -> 0 | EM22: =IF(EE22<36,0,IF(EE22>=72,60,IF(EE22>=66,40,IF(EE22>=60,30,IF(EE22>=48,20,IF(EE22>=36,10,0)))))) -> 0 | EN22: =IF(EF22<36,0,IF(EF22>=72,60,IF(EF22>=66,40,IF(EF22>=60,30,IF(EF22>=48,20,IF(EF22>=36,10,0)))))) -> 0 | EO22: 14 | EP22: =IF(DR22="","",(EH22+DR22)) | EQ22: =IF(DS22="","",(EI22+DS22)) | ER22: =IF(DT22="","",(EJ22+DT22)) | ES22: =IF(DU22="","",(EK22+DU22)) | ET22: =IF(DV22="","",(EL22+DV22)) | EU22: =IF(DW22="","",(EM22+DW22)) | EV22: =IF(DX22="","",(EN22+DX22)) | EW22: =MAX(EP22:EV22) -> 0 | EX22: =IF($EW22=EP22,EP$8,IF($EW22=EQ22,EQ$8,IF($EW22=ER22,ER$8,IF($EW22=ES22,ES$8,IF($EW22=ET22,ET$8,IF($EW22=EU22,EU$8,IF($EW22=EV22,EV$8,""))))))) | EY22: =IF($EW22=#REF!,#REF!,IF($EW22=#REF!,#REF!,IF($EW22=#REF!,#REF!,IF($EW22=#REF!,#REF!,IF($EW22=#REF!,#REF!,IF($EW22=#REF!,#REF!,IF($EW22=#REF!,#REF!,""))))))) -> #REF! | EZ22: =IF($EW22=#REF!,#REF!,IF($EW22=#REF!,#REF!,IF($EW22=#REF!,#REF!,IF($EW22=#REF!,#REF!,IF($EW22=#REF!,#REF!,IF($EW22=#REF!,#REF!,IF($EW22=#REF!,#REF!,""))))))) -> #REF! | FA22: =IF($EW22=#REF!,#REF!,IF($EW22=#REF!,#REF!,IF($EW22=#REF!,#REF!,IF($EW22=#REF!,#REF!,IF($EW22=#REF!,#REF!,IF($EW22=#REF!,#REF!,IF($EW22=#REF!,#REF!,""))))))) -> #REF! | FB22: =IFERROR(INDEX($EP$8:$EV$8,MATCH(EW22,EP22:EV22,0)), "DESIERTO") -> DESIERTO | FC22: =IF($EW22=EP22,EP$8,IF($EW22=EQ22,EQ$8,IF($EW22=ER22,ER$8,IF($EW22=ES22,ES$8,IF($EW22=ET22,ET$8,IF($EW22=EU22,EU$8,IF($EW22=EV22,EV$8,IF($EW22=#REF!,#REF!,IF($EW22=#REF!,#REF!,IF($EW22=#REF!,#REF!,IF($EW22=#REF!,#REF!,IF($EW22=#REF!,#REF!,IF($EW22=#REF!,#REF!,IF($EW22=#REF!,#REF!,IF($EW22=#REF!,#REF!,IF($EW22=#REF!,#REF!,IF($EW22=#REF!,#REF!,IF($EW22=#REF!,#REF!,IF($EW22=#REF!,#REF!,IF($EW22=#REF!,#REF!,IF($EW22=#REF!,#REF!,IF($EW22=#REF!,#REF!,IF($EW22=#REF!,#REF!,IF($EW22=#REF!,#REF!,IF($EW22=#REF!,#REF!,IF($EW22=#REF!,#REF!,IF($EW22=#REF!,#REF!,IF($EW22=#REF!,#REF!,"")))))))))))))))))))))))))))) -> #REF! | FD22: =IF($FC22=$I$8,$I22,IF($FC22=$J$8,$J22,IF($FC22=$K$8,$K22,IF($FC22=$L$8,$L22,IF($FC22=$M$8,$M22,IF($FC22=$N$8,$N22,IF($FC22=$O$8,$O22,""))))))) -> #REF! | FE22: =IF($FC22=#REF!,#REF!,IF($FC22=#REF!,#REF!,IF($FC22=#REF!,#REF!,IF($FC22=#REF!,#REF!,IF($FC22=#REF!,#REF!,IF($FC22=#REF!,#REF!,IF($FC22=#REF!,#REF!,""))))))) -> #REF! | FF22: =IF($FC22=#REF!,#REF!,IF($FC22=#REF!,#REF!,IF($FC22=#REF!,#REF!,IF($FC22=#REF!,#REF!,IF($FC22=#REF!,#REF!,IF($FC22=#REF!,#REF!,IF($FC22=#REF!,#REF!,""))))))) -> #REF! | FG22: =IF($FC22=#REF!,#REF!,IF($FC22=#REF!,#REF!,IF($FC22=#REF!,#REF!,IF($FC22=#REF!,#REF!,IF($FC22=#REF!,#REF!,IF($FC22=#REF!,#REF!,IF($FC22=#REF!,#REF!,""))))))) -> #REF! | FH22: =IFERROR(INDEX(I22:O22,MATCH(FB22,$I$8:$O$8,0)),"DESIERTO") -> DESIERTO | FI22: =MAX(FD22:FG22) -> #REF! | FJ22: 14 | FK22: =IFERROR(IF(FH22>0,(G22-FH22),"F"),"D") -> D | FL22: =IF(FB22="DESIERTO",G22,"ADJUDICADO") -> 12300528
B23: CIENCIA Y EDUCACION | C23: LABORATORIO DE ARCHIVISTICA Y HUMANIDADES DIGITALES | D23: BOSA PORVENIR | E23: SCANNER DEPARTAMENTAL | F23: 2 | G23: 23307208 | H23: 15 | P23: 15 | Q23: =IF(I23="NC","NC",IF(I23<=$G23,I23,"")) -> 0 | R23: =IF(J23="NC","NC",IF(J23<=$G23,J23,"")) -> 0 | S23: =IF(K23="NC","NC",IF(K23<=$G23,K23,"")) -> 0 | T23: =IF(L23="NC","NC",IF(L23<=$G23,L23,"")) -> 0 | U23: =IF(M23="NC","NC",IF(M23<=$G23,M23,"")) -> 0 | V23: =IF(N23="NC","NC",IF(N23<=$G23,N23,"")) -> 0 | W23: =IF(O23="NC","NC",IF(O23<=$G23,O23,"")) -> 0 | X23: 15 | Y23: NO CUMPLE | Z23: NO CUMPLE | AA23: NO CUMPLE | AB23: NO CUMPLE | AC23: NO CUMPLE | AD23: NO CUMPLE | AE23: NO CUMPLE | AF23: 15 | AG23: CUMPLE | AH23: CUMPLE | AI23: CUMPLE | AJ23: CUMPLE | AK23: CUMPLE | AL23: CUMPLE | AM23: CUMPLE | AN23: 15 | AO23: CUMPLE | AP23: CUMPLE | AQ23: CUMPLE | AR23: CUMPLE | AS23: CUMPLE | AT23: CUMPLE | AU23: CUMPLE | AV23: 15 | AW23: =IF(Y23="NO CUMPLE","NO CUMPLE",IF(AG23="NO CUMPLE","NO CUMPLE",IF(AO23="NO CUMPLE","NO CUMPLE",IF(AO23="CUMPLE","CUMPLE")))) -> NO CUMPLE | AX23: =IF(Z23="NO CUMPLE","NO CUMPLE",IF(AH23="NO CUMPLE","NO CUMPLE",IF(AP23="NO CUMPLE","NO CUMPLE",IF(AP23="CUMPLE","CUMPLE")))) -> NO CUMPLE | AY23: =IF(AA23="NO CUMPLE","NO CUMPLE",IF(AI23="NO CUMPLE","NO CUMPLE",IF(AQ23="NO CUMPLE","NO CUMPLE",IF(AQ23="CUMPLE","CUMPLE")))) -> NO CUMPLE | AZ23: =IF(AB23="NO CUMPLE","NO CUMPLE",IF(AJ23="NO CUMPLE","NO CUMPLE",IF(AR23="NO CUMPLE","NO CUMPLE",IF(AR23="CUMPLE","CUMPLE")))) -> NO CUMPLE | BA23: =IF(AC23="NO CUMPLE","NO CUMPLE",IF(AK23="NO CUMPLE","NO CUMPLE",IF(AS23="NO CUMPLE","NO CUMPLE",IF(AS23="CUMPLE","CUMPLE")))) -> NO CUMPLE | BB23: =IF(AD23="NO CUMPLE","NO CUMPLE",IF(AL23="NO CUMPLE","NO CUMPLE",IF(AT23="NO CUMPLE","NO CUMPLE",IF(AT23="CUMPLE","CUMPLE")))) -> NO CUMPLE | BC23: =IF(AE23="NO CUMPLE","NO CUMPLE",IF(AM23="NO CUMPLE","NO CUMPLE",IF(AU23="NO CUMPLE","NO CUMPLE",IF(AU23="CUMPLE","CUMPLE")))) -> NO CUMPLE | BD23: 15 | BE23: NC | BF23: NC | BG23: NC | BH23: NC | BI23: NC | BJ23: NC | BK23: NC | BL23: 15 | BM23: NC | BN23: NC | BO23: NC | BP23: NC | BQ23: NC | BR23: NC | BS23: NC | BT23: 15 | BU23: =IF(AW23="NO CUMPLE","",IF(BE23="NO CUMPLE","",IF(BM23="NO CUMPLE","",IF(BE23="NC","",IF(BM23="CUMPLE",I23))))) | BV23: =IF(AX23="NO CUMPLE","",IF(BF23="NO CUMPLE","",IF(BN23="NO CUMPLE","",IF(BF23="NC","",IF(BN23="CUMPLE",J23))))) | BW23: =IF(AY23="NO CUMPLE","",IF(BG23="NO CUMPLE","",IF(BO23="NO CUMPLE","",IF(BG23="NC","",IF(BO23="CUMPLE",K23))))) | BX23: =IF(AZ23="NO CUMPLE","",IF(BH23="NO CUMPLE","",IF(BP23="NO CUMPLE","",IF(BH23="NC","",IF(BP23="CUMPLE",L23))))) | BY23: =IF(BA23="NO CUMPLE","",IF(BI23="NO CUMPLE","",IF(BQ23="NO CUMPLE","",IF(BI23="NC","",IF(BQ23="CUMPLE",M23))))) | BZ23: =IF(BB23="NO CUMPLE","",IF(BJ23="NO CUMPLE","",IF(BR23="NO CUMPLE","",IF(BJ23="NC","",IF(BR23="CUMPLE",N23))))) | CA23: =IF(BC23="NO CUMPLE","",IF(BK23="NO CUMPLE","",IF(BS23="NO CUMPLE","",IF(BK23="NC","",IF(BS23="CUMPLE",O23))))) | CB23: 23307208 | CC23: 23307208 | CD23: =COUNT(BU23:CA23) -> 0 | CE23: =IF(CD23=2,1,IF(CD23=3,2,IF(CD23=4,3,IF(CD23>5,5,)))) -> 0 | CF23: =IFERROR(MEDIAN(BU23:CA23),"") | CG23: =IF(COUNT(BU23:CA23)=0,"",MOD(COUNT(BU23:CA23),2)) | CH23: =IF(COUNT(BU23:CA23)<2,"", IF(MOD(COUNT(BU23:CA23),2)=1,"", SMALL(BU23:CA23, COUNT(BU23:CA23)/2 ) )) | CI23: =IF(CG23=1, CF23, CH23) | CJ23: 15 | CK23: =IF(BU23="","", (1 - ABS((BU23 - $CI23)/$CI23)) * 40) | CL23: =IF(BV23="","", (1 - ABS((BV23 - $CI23)/$CI23)) * 40) | CM23: =IF(BW23="","", (1 - ABS((BW23 - $CI23)/$CI23)) * 40) | CN23: =IF(BX23="","", (1 - ABS((BX23 - $CI23)/$CI23)) * 40) | CO23: =IF(BY23="","", (1 - ABS((BY23 - $CI23)/$CI23)) * 40) | CP23: =IF(BZ23="","", (1 - ABS((BZ23 - $CI23)/$CI23)) * 40) | CQ23: =IF(CA23="","", (1 - ABS((CA23 - $CI23)/$CI23)) * 40) | CR23: 15 | CS23: =IF(BU23="","",ABS((BU23 - $CI23)/$CI23)) | CT23: =IF(BV23="","",ABS((BV23 - $CI23)/$CI23)) | CU23: =IF(BW23="","",ABS((BW23 - $CI23)/$CI23)) | CV23: =IF(BX23="","",ABS((BX23 - $CI23)/$CI23)) | CW23: =IF(BY23="","",ABS((BY23 - $CI23)/$CI23)) | CX23: =IF(BZ23="","",ABS((BZ23 - $CI23)/$CI23)) | CY23: =IF(CA23="","",ABS((CA23 - $CI23)/$CI23)) | CZ23: 15 | DA23: =IF(CK23="","",ABS(BU23-$CF23)) | DB23: =IF(CL23="","",ABS(BV23-$CF23)) | DC23: =IF(CM23="","",ABS(BW23-$CF23)) | DD23: =IF(CN23="","",ABS(BX23-$CF23)) | DE23: =IF(CO23="","",ABS(BY23-$CF23)) | DF23: =IF(CP23="","",ABS(BZ23-$CF23)) | DG23: =IF(CQ23="","",ABS(CA23-$CF23)) | DH23: 15 | DI23: =IF(BU23="","",(BU23-$CI23)^2) | DJ23: =IF(BV23="","",(BV23-$CI23)^2) | DK23: =IF(BW23="","",(BW23-$CI23)^2) | DL23: =IF(BX23="","",(BX23-$CI23)^2) | DM23: =IF(BY23="","",(BY23-$CI23)^2) | DN23: =IF(BZ23="","",(BZ23-$CI23)^2) | DO23: =IF(CA23="","",(CA23-$CI23)^2) | DP23: =MIN(DI23:DO23) -> 0 | DQ23: 15 | DR23: =IF(BU23="","", (1 - ABS((BU23-$CI23)/$CI23))*40) | DS23: =IF(BV23="","", (1 - ABS((BV23-$CI23)/$CI23))*40) | DT23: =IF(BW23="","", (1 - ABS((BW23-$CI23)/$CI23))*40) | DU23: =IF(BX23="","", (1 - ABS((BX23-$CI23)/$CI23))*40) | DV23: =IF(BY23="","", (1 - ABS((BY23-$CI23)/$CI23))*40) | DW23: =IF(BZ23="","", (1 - ABS((BZ23-$CI23)/$CI23))*40) | DX23: =IF(CA23="","", (1 - ABS((CA23-$CI23)/$CI23))*40) | DY23: 15 | EG23: 15 | EH23: =IF(DZ23<36,0,IF(DZ23>=72,60,IF(DZ23>=66,40,IF(DZ23>=60,30,IF(DZ23>=48,20,IF(DZ23>=36,10,0)))))) -> 0 | EI23: =IF(EA23<36,0,IF(EA23>=72,60,IF(EA23>=66,40,IF(EA23>=60,30,IF(EA23>=48,20,IF(EA23>=36,10,0)))))) -> 0 | EJ23: =IF(EB23<36,0,IF(EB23>=72,60,IF(EB23>=66,40,IF(EB23>=60,30,IF(EB23>=48,20,IF(EB23>=36,10,0)))))) -> 0 | EK23: =IF(EC23<36,0,IF(EC23>=72,60,IF(EC23>=66,40,IF(EC23>=60,30,IF(EC23>=48,20,IF(EC23>=36,10,0)))))) -> 0 | EL23: =IF(ED23<36,0,IF(ED23>=72,60,IF(ED23>=66,40,IF(ED23>=60,30,IF(ED23>=48,20,IF(ED23>=36,10,0)))))) -> 0 | EM23: =IF(EE23<36,0,IF(EE23>=72,60,IF(EE23>=66,40,IF(EE23>=60,30,IF(EE23>=48,20,IF(EE23>=36,10,0)))))) -> 0 | EN23: =IF(EF23<36,0,IF(EF23>=72,60,IF(EF23>=66,40,IF(EF23>=60,30,IF(EF23>=48,20,IF(EF23>=36,10,0)))))) -> 0 | EO23: 15 | EP23: =IF(DR23="","",(EH23+DR23)) | EQ23: =IF(DS23="","",(EI23+DS23)) | ER23: =IF(DT23="","",(EJ23+DT23)) | ES23: =IF(DU23="","",(EK23+DU23)) | ET23: =IF(DV23="","",(EL23+DV23)) | EU23: =IF(DW23="","",(EM23+DW23)) | EV23: =IF(DX23="","",(EN23+DX23)) | EW23: =MAX(EP23:EV23) -> 0 | EX23: =IF($EW23=EP23,EP$8,IF($EW23=EQ23,EQ$8,IF($EW23=ER23,ER$8,IF($EW23=ES23,ES$8,IF($EW23=ET23,ET$8,IF($EW23=EU23,EU$8,IF($EW23=EV23,EV$8,""))))))) | EY23: =IF($EW23=#REF!,#REF!,IF($EW23=#REF!,#REF!,IF($EW23=#REF!,#REF!,IF($EW23=#REF!,#REF!,IF($EW23=#REF!,#REF!,IF($EW23=#REF!,#REF!,IF($EW23=#REF!,#REF!,""))))))) -> #REF! | EZ23: =IF($EW23=#REF!,#REF!,IF($EW23=#REF!,#REF!,IF($EW23=#REF!,#REF!,IF($EW23=#REF!,#REF!,IF($EW23=#REF!,#REF!,IF($EW23=#REF!,#REF!,IF($EW23=#REF!,#REF!,""))))))) -> #REF! | FA23: =IF($EW23=#REF!,#REF!,IF($EW23=#REF!,#REF!,IF($EW23=#REF!,#REF!,IF($EW23=#REF!,#REF!,IF($EW23=#REF!,#REF!,IF($EW23=#REF!,#REF!,IF($EW23=#REF!,#REF!,""))))))) -> #REF! | FB23: =IFERROR(INDEX($EP$8:$EV$8,MATCH(EW23,EP23:EV23,0)), "DESIERTO") -> DESIERTO | FC23: =IF($EW23=EP23,EP$8,IF($EW23=EQ23,EQ$8,IF($EW23=ER23,ER$8,IF($EW23=ES23,ES$8,IF($EW23=ET23,ET$8,IF($EW23=EU23,EU$8,IF($EW23=EV23,EV$8,IF($EW23=#REF!,#REF!,IF($EW23=#REF!,#REF!,IF($EW23=#REF!,#REF!,IF($EW23=#REF!,#REF!,IF($EW23=#REF!,#REF!,IF($EW23=#REF!,#REF!,IF($EW23=#REF!,#REF!,IF($EW23=#REF!,#REF!,IF($EW23=#REF!,#REF!,IF($EW23=#REF!,#REF!,IF($EW23=#REF!,#REF!,IF($EW23=#REF!,#REF!,IF($EW23=#REF!,#REF!,IF($EW23=#REF!,#REF!,IF($EW23=#REF!,#REF!,IF($EW23=#REF!,#REF!,IF($EW23=#REF!,#REF!,IF($EW23=#REF!,#REF!,IF($EW23=#REF!,#REF!,IF($EW23=#REF!,#REF!,IF($EW23=#REF!,#REF!,"")))))))))))))))))))))))))))) -> #REF! | FD23: =IF($FC23=$I$8,$I23,IF($FC23=$J$8,$J23,IF($FC23=$K$8,$K23,IF($FC23=$L$8,$L23,IF($FC23=$M$8,$M23,IF($FC23=$N$8,$N23,IF($FC23=$O$8,$O23,""))))))) -> #REF! | FE23: =IF($FC23=#REF!,#REF!,IF($FC23=#REF!,#REF!,IF($FC23=#REF!,#REF!,IF($FC23=#REF!,#REF!,IF($FC23=#REF!,#REF!,IF($FC23=#REF!,#REF!,IF($FC23=#REF!,#REF!,""))))))) -> #REF! | FF23: =IF($FC23=#REF!,#REF!,IF($FC23=#REF!,#REF!,IF($FC23=#REF!,#REF!,IF($FC23=#REF!,#REF!,IF($FC23=#REF!,#REF!,IF($FC23=#REF!,#REF!,IF($FC23=#REF!,#REF!,""))))))) -> #REF! | FG23: =IF($FC23=#REF!,#REF!,IF($FC23=#REF!,#REF!,IF($FC23=#REF!,#REF!,IF($FC23=#REF!,#REF!,IF($FC23=#REF!,#REF!,IF($FC23=#REF!,#REF!,IF($FC23=#REF!,#REF!,""))))))) -> #REF! | FH23: =IFERROR(INDEX(I23:O23,MATCH(FB23,$I$8:$O$8,0)),"DESIERTO") -> DESIERTO | FI23: =MAX(FD23:FG23) -> #REF! | FJ23: 15 | FK23: =IFERROR(IF(FH23>0,(G23-FH23),"F"),"D") -> D | FL23: =IF(FB23="DESIERTO",G23,"ADJUDICADO") -> 23307208
B24: CIENCIA Y EDUCACION | C24: LABORATORIO DE ARCHIVISTICA Y HUMANIDADES DIGITALES | D24: BOSA PORVENIR | E24: SCANNER DE LIBROS | F24: 2 | G24: 13523854 | H24: 16 | P24: 16 | Q24: =IF(I24="NC","NC",IF(I24<=$G24,I24,"")) -> 0 | R24: =IF(J24="NC","NC",IF(J24<=$G24,J24,"")) -> 0 | S24: =IF(K24="NC","NC",IF(K24<=$G24,K24,"")) -> 0 | T24: =IF(L24="NC","NC",IF(L24<=$G24,L24,"")) -> 0 | U24: =IF(M24="NC","NC",IF(M24<=$G24,M24,"")) -> 0 | V24: =IF(N24="NC","NC",IF(N24<=$G24,N24,"")) -> 0 | W24: =IF(O24="NC","NC",IF(O24<=$G24,O24,"")) -> 0 | X24: 16 | Y24: NO CUMPLE | Z24: NO CUMPLE | AA24: NO CUMPLE | AB24: NO CUMPLE | AC24: NO CUMPLE | AD24: NO CUMPLE | AE24: NO CUMPLE | AF24: 16 | AG24: CUMPLE | AH24: CUMPLE | AI24: CUMPLE | AJ24: CUMPLE | AK24: CUMPLE | AL24: CUMPLE | AM24: CUMPLE | AN24: 16 | AO24: CUMPLE | AP24: CUMPLE | AQ24: CUMPLE | AR24: CUMPLE | AS24: CUMPLE | AT24: CUMPLE | AU24: CUMPLE | AV24: 16 | AW24: =IF(Y24="NO CUMPLE","NO CUMPLE",IF(AG24="NO CUMPLE","NO CUMPLE",IF(AO24="NO CUMPLE","NO CUMPLE",IF(AO24="CUMPLE","CUMPLE")))) -> NO CUMPLE | AX24: =IF(Z24="NO CUMPLE","NO CUMPLE",IF(AH24="NO CUMPLE","NO CUMPLE",IF(AP24="NO CUMPLE","NO CUMPLE",IF(AP24="CUMPLE","CUMPLE")))) -> NO CUMPLE | AY24: =IF(AA24="NO CUMPLE","NO CUMPLE",IF(AI24="NO CUMPLE","NO CUMPLE",IF(AQ24="NO CUMPLE","NO CUMPLE",IF(AQ24="CUMPLE","CUMPLE")))) -> NO CUMPLE | AZ24: =IF(AB24="NO CUMPLE","NO CUMPLE",IF(AJ24="NO CUMPLE","NO CUMPLE",IF(AR24="NO CUMPLE","NO CUMPLE",IF(AR24="CUMPLE","CUMPLE")))) -> NO CUMPLE | BA24: =IF(AC24="NO CUMPLE","NO CUMPLE",IF(AK24="NO CUMPLE","NO CUMPLE",IF(AS24="NO CUMPLE","NO CUMPLE",IF(AS24="CUMPLE","CUMPLE")))) -> NO CUMPLE | BB24: =IF(AD24="NO CUMPLE","NO CUMPLE",IF(AL24="NO CUMPLE","NO CUMPLE",IF(AT24="NO CUMPLE","NO CUMPLE",IF(AT24="CUMPLE","CUMPLE")))) -> NO CUMPLE | BC24: =IF(AE24="NO CUMPLE","NO CUMPLE",IF(AM24="NO CUMPLE","NO CUMPLE",IF(AU24="NO CUMPLE","NO CUMPLE",IF(AU24="CUMPLE","CUMPLE")))) -> NO CUMPLE | BD24: 16 | BE24: NC | BF24: NC | BG24: NC | BH24: NC | BI24: NC | BJ24: NC | BK24: NC | BL24: 16 | BM24: NC | BN24: NC | BO24: NC | BP24: NC | BQ24: NC | BR24: NC | BS24: NC | BT24: 16 | BU24: =IF(AW24="NO CUMPLE","",IF(BE24="NO CUMPLE","",IF(BM24="NO CUMPLE","",IF(BE24="NC","",IF(BM24="CUMPLE",I24))))) | BV24: =IF(AX24="NO CUMPLE","",IF(BF24="NO CUMPLE","",IF(BN24="NO CUMPLE","",IF(BF24="NC","",IF(BN24="CUMPLE",J24))))) | BW24: =IF(AY24="NO CUMPLE","",IF(BG24="NO CUMPLE","",IF(BO24="NO CUMPLE","",IF(BG24="NC","",IF(BO24="CUMPLE",K24))))) | BX24: =IF(AZ24="NO CUMPLE","",IF(BH24="NO CUMPLE","",IF(BP24="NO CUMPLE","",IF(BH24="NC","",IF(BP24="CUMPLE",L24))))) | BY24: =IF(BA24="NO CUMPLE","",IF(BI24="NO CUMPLE","",IF(BQ24="NO CUMPLE","",IF(BI24="NC","",IF(BQ24="CUMPLE",M24))))) | BZ24: =IF(BB24="NO CUMPLE","",IF(BJ24="NO CUMPLE","",IF(BR24="NO CUMPLE","",IF(BJ24="NC","",IF(BR24="CUMPLE",N24))))) | CA24: =IF(BC24="NO CUMPLE","",IF(BK24="NO CUMPLE","",IF(BS24="NO CUMPLE","",IF(BK24="NC","",IF(BS24="CUMPLE",O24))))) | CB24: 13523854 | CC24: 13523854 | CD24: =COUNT(BU24:CA24) -> 0 | CE24: =IF(CD24=2,1,IF(CD24=3,2,IF(CD24=4,3,IF(CD24>5,5,)))) -> 0 | CF24: =IFERROR(MEDIAN(BU24:CA24),"") | CG24: =IF(COUNT(BU24:CA24)=0,"",MOD(COUNT(BU24:CA24),2)) | CH24: =IF(COUNT(BU24:CA24)<2,"", IF(MOD(COUNT(BU24:CA24),2)=1,"", SMALL(BU24:CA24, COUNT(BU24:CA24)/2 ) )) | CI24: =IF(CG24=1, CF24, CH24) | CJ24: 16 | CK24: =IF(BU24="","", (1 - ABS((BU24 - $CI24)/$CI24)) * 40) | CL24: =IF(BV24="","", (1 - ABS((BV24 - $CI24)/$CI24)) * 40) | CM24: =IF(BW24="","", (1 - ABS((BW24 - $CI24)/$CI24)) * 40) | CN24: =IF(BX24="","", (1 - ABS((BX24 - $CI24)/$CI24)) * 40) | CO24: =IF(BY24="","", (1 - ABS((BY24 - $CI24)/$CI24)) * 40) | CP24: =IF(BZ24="","", (1 - ABS((BZ24 - $CI24)/$CI24)) * 40) | CQ24: =IF(CA24="","", (1 - ABS((CA24 - $CI24)/$CI24)) * 40) | CR24: 16 | CS24: =IF(BU24="","",ABS((BU24 - $CI24)/$CI24)) | CT24: =IF(BV24="","",ABS((BV24 - $CI24)/$CI24)) | CU24: =IF(BW24="","",ABS((BW24 - $CI24)/$CI24)) | CV24: =IF(BX24="","",ABS((BX24 - $CI24)/$CI24)) | CW24: =IF(BY24="","",ABS((BY24 - $CI24)/$CI24)) | CX24: =IF(BZ24="","",ABS((BZ24 - $CI24)/$CI24)) | CY24: =IF(CA24="","",ABS((CA24 - $CI24)/$CI24)) | CZ24: 16 | DA24: =IF(CK24="","",ABS(BU24-$CF24)) | DB24: =IF(CL24="","",ABS(BV24-$CF24)) | DC24: =IF(CM24="","",ABS(BW24-$CF24)) | DD24: =IF(CN24="","",ABS(BX24-$CF24)) | DE24: =IF(CO24="","",ABS(BY24-$CF24)) | DF24: =IF(CP24="","",ABS(BZ24-$CF24)) | DG24: =IF(CQ24="","",ABS(CA24-$CF24)) | DH24: 16 | DI24: =IF(BU24="","",(BU24-$CI24)^2) | DJ24: =IF(BV24="","",(BV24-$CI24)^2) | DK24: =IF(BW24="","",(BW24-$CI24)^2) | DL24: =IF(BX24="","",(BX24-$CI24)^2) | DM24: =IF(BY24="","",(BY24-$CI24)^2) | DN24: =IF(BZ24="","",(BZ24-$CI24)^2) | DO24: =IF(CA24="","",(CA24-$CI24)^2) | DP24: =MIN(DI24:DO24) -> 0 | DQ24: 16 | DR24: =IF(BU24="","", (1 - ABS((BU24-$CI24)/$CI24))*40) | DS24: =IF(BV24="","", (1 - ABS((BV24-$CI24)/$CI24))*40) | DT24: =IF(BW24="","", (1 - ABS((BW24-$CI24)/$CI24))*40) | DU24: =IF(BX24="","", (1 - ABS((BX24-$CI24)/$CI24))*40) | DV24: =IF(BY24="","", (1 - ABS((BY24-$CI24)/$CI24))*40) | DW24: =IF(BZ24="","", (1 - ABS((BZ24-$CI24)/$CI24))*40) | DX24: =IF(CA24="","", (1 - ABS((CA24-$CI24)/$CI24))*40) | DY24: 16 | EG24: 16 | EH24: =IF(DZ24<36,0,IF(DZ24>=72,60,IF(DZ24>=66,40,IF(DZ24>=60,30,IF(DZ24>=48,20,IF(DZ24>=36,10,0)))))) -> 0 | EI24: =IF(EA24<36,0,IF(EA24>=72,60,IF(EA24>=66,40,IF(EA24>=60,30,IF(EA24>=48,20,IF(EA24>=36,10,0)))))) -> 0 | EJ24: =IF(EB24<36,0,IF(EB24>=72,60,IF(EB24>=66,40,IF(EB24>=60,30,IF(EB24>=48,20,IF(EB24>=36,10,0)))))) -> 0 | EK24: =IF(EC24<36,0,IF(EC24>=72,60,IF(EC24>=66,40,IF(EC24>=60,30,IF(EC24>=48,20,IF(EC24>=36,10,0)))))) -> 0 | EL24: =IF(ED24<36,0,IF(ED24>=72,60,IF(ED24>=66,40,IF(ED24>=60,30,IF(ED24>=48,20,IF(ED24>=36,10,0)))))) -> 0 | EM24: =IF(EE24<36,0,IF(EE24>=72,60,IF(EE24>=66,40,IF(EE24>=60,30,IF(EE24>=48,20,IF(EE24>=36,10,0)))))) -> 0 | EN24: =IF(EF24<36,0,IF(EF24>=72,60,IF(EF24>=66,40,IF(EF24>=60,30,IF(EF24>=48,20,IF(EF24>=36,10,0)))))) -> 0 | EO24: 16 | EP24: =IF(DR24="","",(EH24+DR24)) | EQ24: =IF(DS24="","",(EI24+DS24)) | ER24: =IF(DT24="","",(EJ24+DT24)) | ES24: =IF(DU24="","",(EK24+DU24)) | ET24: =IF(DV24="","",(EL24+DV24)) | EU24: =IF(DW24="","",(EM24+DW24)) | EV24: =IF(DX24="","",(EN24+DX24)) | EW24: =MAX(EP24:EV24) -> 0 | EX24: =IF($EW24=EP24,EP$8,IF($EW24=EQ24,EQ$8,IF($EW24=ER24,ER$8,IF($EW24=ES24,ES$8,IF($EW24=ET24,ET$8,IF($EW24=EU24,EU$8,IF($EW24=EV24,EV$8,""))))))) | EY24: =IF($EW24=#REF!,#REF!,IF($EW24=#REF!,#REF!,IF($EW24=#REF!,#REF!,IF($EW24=#REF!,#REF!,IF($EW24=#REF!,#REF!,IF($EW24=#REF!,#REF!,IF($EW24=#REF!,#REF!,""))))))) -> #REF! | EZ24: =IF($EW24=#REF!,#REF!,IF($EW24=#REF!,#REF!,IF($EW24=#REF!,#REF!,IF($EW24=#REF!,#REF!,IF($EW24=#REF!,#REF!,IF($EW24=#REF!,#REF!,IF($EW24=#REF!,#REF!,""))))))) -> #REF! | FA24: =IF($EW24=#REF!,#REF!,IF($EW24=#REF!,#REF!,IF($EW24=#REF!,#REF!,IF($EW24=#REF!,#REF!,IF($EW24=#REF!,#REF!,IF($EW24=#REF!,#REF!,IF($EW24=#REF!,#REF!,""))))))) -> #REF! | FB24: =IFERROR(INDEX($EP$8:$EV$8,MATCH(EW24,EP24:EV24,0)), "DESIERTO") -> DESIERTO | FC24: =IF($EW24=EP24,EP$8,IF($EW24=EQ24,EQ$8,IF($EW24=ER24,ER$8,IF($EW24=ES24,ES$8,IF($EW24=ET24,ET$8,IF($EW24=EU24,EU$8,IF($EW24=EV24,EV$8,IF($EW24=#REF!,#REF!,IF($EW24=#REF!,#REF!,IF($EW24=#REF!,#REF!,IF($EW24=#REF!,#REF!,IF($EW24=#REF!,#REF!,IF($EW24=#REF!,#REF!,IF($EW24=#REF!,#REF!,IF($EW24=#REF!,#REF!,IF($EW24=#REF!,#REF!,IF($EW24=#REF!,#REF!,IF($EW24=#REF!,#REF!,IF($EW24=#REF!,#REF!,IF($EW24=#REF!,#REF!,IF($EW24=#REF!,#REF!,IF($EW24=#REF!,#REF!,IF($EW24=#REF!,#REF!,IF($EW24=#REF!,#REF!,IF($EW24=#REF!,#REF!,IF($EW24=#REF!,#REF!,IF($EW24=#REF!,#REF!,IF($EW24=#REF!,#REF!,"")))))))))))))))))))))))))))) -> #REF! | FD24: =IF($FC24=$I$8,$I24,IF($FC24=$J$8,$J24,IF($FC24=$K$8,$K24,IF($FC24=$L$8,$L24,IF($FC24=$M$8,$M24,IF($FC24=$N$8,$N24,IF($FC24=$O$8,$O24,""))))))) -> #REF! | FE24: =IF($FC24=#REF!,#REF!,IF($FC24=#REF!,#REF!,IF($FC24=#REF!,#REF!,IF($FC24=#REF!,#REF!,IF($FC24=#REF!,#REF!,IF($FC24=#REF!,#REF!,IF($FC24=#REF!,#REF!,""))))))) -> #REF! | FF24: =IF($FC24=#REF!,#REF!,IF($FC24=#REF!,#REF!,IF($FC24=#REF!,#REF!,IF($FC24=#REF!,#REF!,IF($FC24=#REF!,#REF!,IF($FC24=#REF!,#REF!,IF($FC24=#REF!,#REF!,""))))))) -> #REF! | FG24: =IF($FC24=#REF!,#REF!,IF($FC24=#REF!,#REF!,IF($FC24=#REF!,#REF!,IF($FC24=#REF!,#REF!,IF($FC24=#REF!,#REF!,IF($FC24=#REF!,#REF!,IF($FC24=#REF!,#REF!,""))))))) -> #REF! | FH24: =IFERROR(INDEX(I24:O24,MATCH(FB24,$I$8:$O$8,0)),"DESIERTO") -> DESIERTO | FI24: =MAX(FD24:FG24) -> #REF! | FJ24: 16 | FK24: =IFERROR(IF(FH24>0,(G24-FH24),"F"),"D") -> D | FL24: =IF(FB24="DESIERTO",G24,"ADJUDICADO") -> 13523854
B25: CIENCIA Y EDUCACION | C25: LABORATORIO DE ARCHIVISTICA Y HUMANIDADES DIGITALES | D25: BOSA PORVENIR | E25: LECTORES DE CD Y DVD | F25: 10 | G25: 3164873 | H25: 17 | P25: 17 | Q25: =IF(I25="NC","NC",IF(I25<=$G25,I25,"")) -> 0 | R25: =IF(J25="NC","NC",IF(J25<=$G25,J25,"")) -> 0 | S25: =IF(K25="NC","NC",IF(K25<=$G25,K25,"")) -> 0 | T25: =IF(L25="NC","NC",IF(L25<=$G25,L25,"")) -> 0 | U25: =IF(M25="NC","NC",IF(M25<=$G25,M25,"")) -> 0 | V25: =IF(N25="NC","NC",IF(N25<=$G25,N25,"")) -> 0 | W25: =IF(O25="NC","NC",IF(O25<=$G25,O25,"")) -> 0 | X25: 17 | Y25: NO CUMPLE | Z25: NO CUMPLE | AA25: NO CUMPLE | AB25: NO CUMPLE | AC25: NO CUMPLE | AD25: NO CUMPLE | AE25: NO CUMPLE | AF25: 17 | AG25: CUMPLE | AH25: CUMPLE | AI25: CUMPLE | AJ25: CUMPLE | AK25: CUMPLE | AL25: CUMPLE | AM25: CUMPLE | AN25: 17 | AO25: CUMPLE | AP25: CUMPLE | AQ25: CUMPLE | AR25: CUMPLE | AS25: CUMPLE | AT25: CUMPLE | AU25: CUMPLE | AV25: 17 | AW25: =IF(Y25="NO CUMPLE","NO CUMPLE",IF(AG25="NO CUMPLE","NO CUMPLE",IF(AO25="NO CUMPLE","NO CUMPLE",IF(AO25="CUMPLE","CUMPLE")))) -> NO CUMPLE | AX25: =IF(Z25="NO CUMPLE","NO CUMPLE",IF(AH25="NO CUMPLE","NO CUMPLE",IF(AP25="NO CUMPLE","NO CUMPLE",IF(AP25="CUMPLE","CUMPLE")))) -> NO CUMPLE | AY25: =IF(AA25="NO CUMPLE","NO CUMPLE",IF(AI25="NO CUMPLE","NO CUMPLE",IF(AQ25="NO CUMPLE","NO CUMPLE",IF(AQ25="CUMPLE","CUMPLE")))) -> NO CUMPLE | AZ25: =IF(AB25="NO CUMPLE","NO CUMPLE",IF(AJ25="NO CUMPLE","NO CUMPLE",IF(AR25="NO CUMPLE","NO CUMPLE",IF(AR25="CUMPLE","CUMPLE")))) -> NO CUMPLE | BA25: =IF(AC25="NO CUMPLE","NO CUMPLE",IF(AK25="NO CUMPLE","NO CUMPLE",IF(AS25="NO CUMPLE","NO CUMPLE",IF(AS25="CUMPLE","CUMPLE")))) -> NO CUMPLE | BB25: =IF(AD25="NO CUMPLE","NO CUMPLE",IF(AL25="NO CUMPLE","NO CUMPLE",IF(AT25="NO CUMPLE","NO CUMPLE",IF(AT25="CUMPLE","CUMPLE")))) -> NO CUMPLE | BC25: =IF(AE25="NO CUMPLE","NO CUMPLE",IF(AM25="NO CUMPLE","NO CUMPLE",IF(AU25="NO CUMPLE","NO CUMPLE",IF(AU25="CUMPLE","CUMPLE")))) -> NO CUMPLE | BD25: 17 | BE25: NC | BF25: NC | BG25: NC | BH25: NC | BI25: NC | BJ25: NC | BK25: NC | BL25: 17 | BM25: NC | BN25: NC | BO25: NC | BP25: NC | BQ25: NC | BR25: NC | BS25: NC | BT25: 17 | BU25: =IF(AW25="NO CUMPLE","",IF(BE25="NO CUMPLE","",IF(BM25="NO CUMPLE","",IF(BE25="NC","",IF(BM25="CUMPLE",I25))))) | BV25: =IF(AX25="NO CUMPLE","",IF(BF25="NO CUMPLE","",IF(BN25="NO CUMPLE","",IF(BF25="NC","",IF(BN25="CUMPLE",J25))))) | BW25: =IF(AY25="NO CUMPLE","",IF(BG25="NO CUMPLE","",IF(BO25="NO CUMPLE","",IF(BG25="NC","",IF(BO25="CUMPLE",K25))))) | BX25: =IF(AZ25="NO CUMPLE","",IF(BH25="NO CUMPLE","",IF(BP25="NO CUMPLE","",IF(BH25="NC","",IF(BP25="CUMPLE",L25))))) | BY25: =IF(BA25="NO CUMPLE","",IF(BI25="NO CUMPLE","",IF(BQ25="NO CUMPLE","",IF(BI25="NC","",IF(BQ25="CUMPLE",M25))))) | BZ25: =IF(BB25="NO CUMPLE","",IF(BJ25="NO CUMPLE","",IF(BR25="NO CUMPLE","",IF(BJ25="NC","",IF(BR25="CUMPLE",N25))))) | CA25: =IF(BC25="NO CUMPLE","",IF(BK25="NO CUMPLE","",IF(BS25="NO CUMPLE","",IF(BK25="NC","",IF(BS25="CUMPLE",O25))))) | CB25: 3164873 | CC25: 3164873 | CD25: =COUNT(BU25:CA25) -> 0 | CE25: =IF(CD25=2,1,IF(CD25=3,2,IF(CD25=4,3,IF(CD25>5,5,)))) -> 0 | CF25: =IFERROR(MEDIAN(BU25:CA25),"") | CG25: =IF(COUNT(BU25:CA25)=0,"",MOD(COUNT(BU25:CA25),2)) | CH25: =IF(COUNT(BU25:CA25)<2,"", IF(MOD(COUNT(BU25:CA25),2)=1,"", SMALL(BU25:CA25, COUNT(BU25:CA25)/2 ) )) | CI25: =IF(CG25=1, CF25, CH25) | CJ25: 17 | CK25: =IF(BU25="","", (1 - ABS((BU25 - $CI25)/$CI25)) * 40) | CL25: =IF(BV25="","", (1 - ABS((BV25 - $CI25)/$CI25)) * 40) | CM25: =IF(BW25="","", (1 - ABS((BW25 - $CI25)/$CI25)) * 40) | CN25: =IF(BX25="","", (1 - ABS((BX25 - $CI25)/$CI25)) * 40) | CO25: =IF(BY25="","", (1 - ABS((BY25 - $CI25)/$CI25)) * 40) | CP25: =IF(BZ25="","", (1 - ABS((BZ25 - $CI25)/$CI25)) * 40) | CQ25: =IF(CA25="","", (1 - ABS((CA25 - $CI25)/$CI25)) * 40) | CR25: 17 | CS25: =IF(BU25="","",ABS((BU25 - $CI25)/$CI25)) | CT25: =IF(BV25="","",ABS((BV25 - $CI25)/$CI25)) | CU25: =IF(BW25="","",ABS((BW25 - $CI25)/$CI25)) | CV25: =IF(BX25="","",ABS((BX25 - $CI25)/$CI25)) | CW25: =IF(BY25="","",ABS((BY25 - $CI25)/$CI25)) | CX25: =IF(BZ25="","",ABS((BZ25 - $CI25)/$CI25)) | CY25: =IF(CA25="","",ABS((CA25 - $CI25)/$CI25)) | CZ25: 17 | DA25: =IF(CK25="","",ABS(BU25-$CF25)) | DB25: =IF(CL25="","",ABS(BV25-$CF25)) | DC25: =IF(CM25="","",ABS(BW25-$CF25)) | DD25: =IF(CN25="","",ABS(BX25-$CF25)) | DE25: =IF(CO25="","",ABS(BY25-$CF25)) | DF25: =IF(CP25="","",ABS(BZ25-$CF25)) | DG25: =IF(CQ25="","",ABS(CA25-$CF25)) | DH25: 17 | DI25: =IF(BU25="","",(BU25-$CI25)^2) | DJ25: =IF(BV25="","",(BV25-$CI25)^2) | DK25: =IF(BW25="","",(BW25-$CI25)^2) | DL25: =IF(BX25="","",(BX25-$CI25)^2) | DM25: =IF(BY25="","",(BY25-$CI25)^2) | DN25: =IF(BZ25="","",(BZ25-$CI25)^2) | DO25: =IF(CA25="","",(CA25-$CI25)^2) | DP25: =MIN(DI25:DO25) -> 0 | DQ25: 17 | DR25: =IF(BU25="","", (1 - ABS((BU25-$CI25)/$CI25))*40) | DS25: =IF(BV25="","", (1 - ABS((BV25-$CI25)/$CI25))*40) | DT25: =IF(BW25="","", (1 - ABS((BW25-$CI25)/$CI25))*40) | DU25: =IF(BX25="","", (1 - ABS((BX25-$CI25)/$CI25))*40) | DV25: =IF(BY25="","", (1 - ABS((BY25-$CI25)/$CI25))*40) | DW25: =IF(BZ25="","", (1 - ABS((BZ25-$CI25)/$CI25))*40) | DX25: =IF(CA25="","", (1 - ABS((CA25-$CI25)/$CI25))*40) | DY25: 17 | EG25: 17 | EH25: =IF(DZ25<36,0,IF(DZ25>=72,60,IF(DZ25>=66,40,IF(DZ25>=60,30,IF(DZ25>=48,20,IF(DZ25>=36,10,0)))))) -> 0 | EI25: =IF(EA25<36,0,IF(EA25>=72,60,IF(EA25>=66,40,IF(EA25>=60,30,IF(EA25>=48,20,IF(EA25>=36,10,0)))))) -> 0 | EJ25: =IF(EB25<36,0,IF(EB25>=72,60,IF(EB25>=66,40,IF(EB25>=60,30,IF(EB25>=48,20,IF(EB25>=36,10,0)))))) -> 0 | EK25: =IF(EC25<36,0,IF(EC25>=72,60,IF(EC25>=66,40,IF(EC25>=60,30,IF(EC25>=48,20,IF(EC25>=36,10,0)))))) -> 0 | EL25: =IF(ED25<36,0,IF(ED25>=72,60,IF(ED25>=66,40,IF(ED25>=60,30,IF(ED25>=48,20,IF(ED25>=36,10,0)))))) -> 0 | EM25: =IF(EE25<36,0,IF(EE25>=72,60,IF(EE25>=66,40,IF(EE25>=60,30,IF(EE25>=48,20,IF(EE25>=36,10,0)))))) -> 0 | EN25: =IF(EF25<36,0,IF(EF25>=72,60,IF(EF25>=66,40,IF(EF25>=60,30,IF(EF25>=48,20,IF(EF25>=36,10,0)))))) -> 0 | EO25: 17 | EP25: =IF(DR25="","",(EH25+DR25)) | EQ25: =IF(DS25="","",(EI25+DS25)) | ER25: =IF(DT25="","",(EJ25+DT25)) | ES25: =IF(DU25="","",(EK25+DU25)) | ET25: =IF(DV25="","",(EL25+DV25)) | EU25: =IF(DW25="","",(EM25+DW25)) | EV25: =IF(DX25="","",(EN25+DX25)) | EW25: =MAX(EP25:EV25) -> 0 | EX25: =IF($EW25=EP25,EP$8,IF($EW25=EQ25,EQ$8,IF($EW25=ER25,ER$8,IF($EW25=ES25,ES$8,IF($EW25=ET25,ET$8,IF($EW25=EU25,EU$8,IF($EW25=EV25,EV$8,""))))))) | EY25: =IF($EW25=#REF!,#REF!,IF($EW25=#REF!,#REF!,IF($EW25=#REF!,#REF!,IF($EW25=#REF!,#REF!,IF($EW25=#REF!,#REF!,IF($EW25=#REF!,#REF!,IF($EW25=#REF!,#REF!,""))))))) -> #REF! | EZ25: =IF($EW25=#REF!,#REF!,IF($EW25=#REF!,#REF!,IF($EW25=#REF!,#REF!,IF($EW25=#REF!,#REF!,IF($EW25=#REF!,#REF!,IF($EW25=#REF!,#REF!,IF($EW25=#REF!,#REF!,""))))))) -> #REF! | FA25: =IF($EW25=#REF!,#REF!,IF($EW25=#REF!,#REF!,IF($EW25=#REF!,#REF!,IF($EW25=#REF!,#REF!,IF($EW25=#REF!,#REF!,IF($EW25=#REF!,#REF!,IF($EW25=#REF!,#REF!,""))))))) -> #REF! | FB25: =IFERROR(INDEX($EP$8:$EV$8,MATCH(EW25,EP25:EV25,0)), "DESIERTO") -> DESIERTO | FC25: =IF($EW25=EP25,EP$8,IF($EW25=EQ25,EQ$8,IF($EW25=ER25,ER$8,IF($EW25=ES25,ES$8,IF($EW25=ET25,ET$8,IF($EW25=EU25,EU$8,IF($EW25=EV25,EV$8,IF($EW25=#REF!,#REF!,IF($EW25=#REF!,#REF!,IF($EW25=#REF!,#REF!,IF($EW25=#REF!,#REF!,IF($EW25=#REF!,#REF!,IF($EW25=#REF!,#REF!,IF($EW25=#REF!,#REF!,IF($EW25=#REF!,#REF!,IF($EW25=#REF!,#REF!,IF($EW25=#REF!,#REF!,IF($EW25=#REF!,#REF!,IF($EW25=#REF!,#REF!,IF($EW25=#REF!,#REF!,IF($EW25=#REF!,#REF!,IF($EW25=#REF!,#REF!,IF($EW25=#REF!,#REF!,IF($EW25=#REF!,#REF!,IF($EW25=#REF!,#REF!,IF($EW25=#REF!,#REF!,IF($EW25=#REF!,#REF!,IF($EW25=#REF!,#REF!,"")))))))))))))))))))))))))))) -> #REF! | FD25: =IF($FC25=$I$8,$I25,IF($FC25=$J$8,$J25,IF($FC25=$K$8,$K25,IF($FC25=$L$8,$L25,IF($FC25=$M$8,$M25,IF($FC25=$N$8,$N25,IF($FC25=$O$8,$O25,""))))))) -> #REF! | FE25: =IF($FC25=#REF!,#REF!,IF($FC25=#REF!,#REF!,IF($FC25=#REF!,#REF!,IF($FC25=#REF!,#REF!,IF($FC25=#REF!,#REF!,IF($FC25=#REF!,#REF!,IF($FC25=#REF!,#REF!,""))))))) -> #REF! | FF25: =IF($FC25=#REF!,#REF!,IF($FC25=#REF!,#REF!,IF($FC25=#REF!,#REF!,IF($FC25=#REF!,#REF!,IF($FC25=#REF!,#REF!,IF($FC25=#REF!,#REF!,IF($FC25=#REF!,#REF!,""))))))) -> #REF! | FG25: =IF($FC25=#REF!,#REF!,IF($FC25=#REF!,#REF!,IF($FC25=#REF!,#REF!,IF($FC25=#REF!,#REF!,IF($FC25=#REF!,#REF!,IF($FC25=#REF!,#REF!,IF($FC25=#REF!,#REF!,""))))))) -> #REF! | FH25: =IFERROR(INDEX(I25:O25,MATCH(FB25,$I$8:$O$8,0)),"DESIERTO") -> DESIERTO | FI25: =MAX(FD25:FG25) -> #REF! | FJ25: 17 | FK25: =IFERROR(IF(FH25>0,(G25-FH25),"F"),"D") -> D | FL25: =IF(FB25="DESIERTO",G25,"ADJUDICADO") -> 3164873
B26: CIENCIA Y EDUCACION | C26: LABORATORIO DE ARCHIVISTICA Y HUMANIDADES DIGITALES | D26: BOSA PORVENIR | E26: DESHUMIDIFICADOR | F26: 1 | G26: 2319777 | H26: 18 | P26: 18 | Q26: =IF(I26="NC","NC",IF(I26<=$G26,I26,"")) -> 0 | R26: =IF(J26="NC","NC",IF(J26<=$G26,J26,"")) -> 0 | S26: =IF(K26="NC","NC",IF(K26<=$G26,K26,"")) -> 0 | T26: =IF(L26="NC","NC",IF(L26<=$G26,L26,"")) -> 0 | U26: =IF(M26="NC","NC",IF(M26<=$G26,M26,"")) -> 0 | V26: =IF(N26="NC","NC",IF(N26<=$G26,N26,"")) -> 0 | W26: =IF(O26="NC","NC",IF(O26<=$G26,O26,"")) -> 0 | X26: 18 | Y26: NO CUMPLE | Z26: NO CUMPLE | AA26: NO CUMPLE | AB26: NO CUMPLE | AC26: NO CUMPLE | AD26: NO CUMPLE | AE26: NO CUMPLE | AF26: 18 | AG26: CUMPLE | AH26: CUMPLE | AI26: CUMPLE | AJ26: CUMPLE | AK26: CUMPLE | AL26: CUMPLE | AM26: CUMPLE | AN26: 18 | AO26: CUMPLE | AP26: CUMPLE | AQ26: CUMPLE | AR26: CUMPLE | AS26: CUMPLE | AT26: CUMPLE | AU26: CUMPLE | AV26: 18 | AW26: =IF(Y26="NO CUMPLE","NO CUMPLE",IF(AG26="NO CUMPLE","NO CUMPLE",IF(AO26="NO CUMPLE","NO CUMPLE",IF(AO26="CUMPLE","CUMPLE")))) -> NO CUMPLE | AX26: =IF(Z26="NO CUMPLE","NO CUMPLE",IF(AH26="NO CUMPLE","NO CUMPLE",IF(AP26="NO CUMPLE","NO CUMPLE",IF(AP26="CUMPLE","CUMPLE")))) -> NO CUMPLE | AY26: =IF(AA26="NO CUMPLE","NO CUMPLE",IF(AI26="NO CUMPLE","NO CUMPLE",IF(AQ26="NO CUMPLE","NO CUMPLE",IF(AQ26="CUMPLE","CUMPLE")))) -> NO CUMPLE | AZ26: =IF(AB26="NO CUMPLE","NO CUMPLE",IF(AJ26="NO CUMPLE","NO CUMPLE",IF(AR26="NO CUMPLE","NO CUMPLE",IF(AR26="CUMPLE","CUMPLE")))) -> NO CUMPLE | BA26: =IF(AC26="NO CUMPLE","NO CUMPLE",IF(AK26="NO CUMPLE","NO CUMPLE",IF(AS26="NO CUMPLE","NO CUMPLE",IF(AS26="CUMPLE","CUMPLE")))) -> NO CUMPLE | BB26: =IF(AD26="NO CUMPLE","NO CUMPLE",IF(AL26="NO CUMPLE","NO CUMPLE",IF(AT26="NO CUMPLE","NO CUMPLE",IF(AT26="CUMPLE","CUMPLE")))) -> NO CUMPLE | BC26: =IF(AE26="NO CUMPLE","NO CUMPLE",IF(AM26="NO CUMPLE","NO CUMPLE",IF(AU26="NO CUMPLE","NO CUMPLE",IF(AU26="CUMPLE","CUMPLE")))) -> NO CUMPLE | BD26: 18 | BE26: NC | BF26: NC | BG26: NC | BH26: NC | BI26: NC | BJ26: NC | BK26: NC | BL26: 18 | BM26: NC | BN26: NC | BO26: NC | BP26: NC | BQ26: NC | BR26: NC | BS26: NC | BT26: 18 | BU26: =IF(AW26="NO CUMPLE","",IF(BE26="NO CUMPLE","",IF(BM26="NO CUMPLE","",IF(BE26="NC","",IF(BM26="CUMPLE",I26))))) | BV26: =IF(AX26="NO CUMPLE","",IF(BF26="NO CUMPLE","",IF(BN26="NO CUMPLE","",IF(BF26="NC","",IF(BN26="CUMPLE",J26))))) | BW26: =IF(AY26="NO CUMPLE","",IF(BG26="NO CUMPLE","",IF(BO26="NO CUMPLE","",IF(BG26="NC","",IF(BO26="CUMPLE",K26))))) | BX26: =IF(AZ26="NO CUMPLE","",IF(BH26="NO CUMPLE","",IF(BP26="NO CUMPLE","",IF(BH26="NC","",IF(BP26="CUMPLE",L26))))) | BY26: =IF(BA26="NO CUMPLE","",IF(BI26="NO CUMPLE","",IF(BQ26="NO CUMPLE","",IF(BI26="NC","",IF(BQ26="CUMPLE",M26))))) | BZ26: =IF(BB26="NO CUMPLE","",IF(BJ26="NO CUMPLE","",IF(BR26="NO CUMPLE","",IF(BJ26="NC","",IF(BR26="CUMPLE",N26))))) | CA26: =IF(BC26="NO CUMPLE","",IF(BK26="NO CUMPLE","",IF(BS26="NO CUMPLE","",IF(BK26="NC","",IF(BS26="CUMPLE",O26))))) | CB26: 2319777 | CC26: 2319777 | CD26: =COUNT(BU26:CA26) -> 0 | CE26: =IF(CD26=2,1,IF(CD26=3,2,IF(CD26=4,3,IF(CD26>5,5,)))) -> 0 | CF26: =IFERROR(MEDIAN(BU26:CA26),"") | CG26: =IF(COUNT(BU26:CA26)=0,"",MOD(COUNT(BU26:CA26),2)) | CH26: =IF(COUNT(BU26:CA26)<2,"", IF(MOD(COUNT(BU26:CA26),2)=1,"", SMALL(BU26:CA26, COUNT(BU26:CA26)/2 ) )) | CI26: =IF(CG26=1, CF26, CH26) | CJ26: 18 | CK26: =IF(BU26="","", (1 - ABS((BU26 - $CI26)/$CI26)) * 40) | CL26: =IF(BV26="","", (1 - ABS((BV26 - $CI26)/$CI26)) * 40) | CM26: =IF(BW26="","", (1 - ABS((BW26 - $CI26)/$CI26)) * 40) | CN26: =IF(BX26="","", (1 - ABS((BX26 - $CI26)/$CI26)) * 40) | CO26: =IF(BY26="","", (1 - ABS((BY26 - $CI26)/$CI26)) * 40) | CP26: =IF(BZ26="","", (1 - ABS((BZ26 - $CI26)/$CI26)) * 40) | CQ26: =IF(CA26="","", (1 - ABS((CA26 - $CI26)/$CI26)) * 40) | CR26: 18 | CS26: =IF(BU26="","",ABS((BU26 - $CI26)/$CI26)) | CT26: =IF(BV26="","",ABS((BV26 - $CI26)/$CI26)) | CU26: =IF(BW26="","",ABS((BW26 - $CI26)/$CI26)) | CV26: =IF(BX26="","",ABS((BX26 - $CI26)/$CI26)) | CW26: =IF(BY26="","",ABS((BY26 - $CI26)/$CI26)) | CX26: =IF(BZ26="","",ABS((BZ26 - $CI26)/$CI26)) | CY26: =IF(CA26="","",ABS((CA26 - $CI26)/$CI26)) | CZ26: 18 | DA26: =IF(CK26="","",ABS(BU26-$CF26)) | DB26: =IF(CL26="","",ABS(BV26-$CF26)) | DC26: =IF(CM26="","",ABS(BW26-$CF26)) | DD26: =IF(CN26="","",ABS(BX26-$CF26)) | DE26: =IF(CO26="","",ABS(BY26-$CF26)) | DF26: =IF(CP26="","",ABS(BZ26-$CF26)) | DG26: =IF(CQ26="","",ABS(CA26-$CF26)) | DH26: 18 | DI26: =IF(BU26="","",(BU26-$CI26)^2) | DJ26: =IF(BV26="","",(BV26-$CI26)^2) | DK26: =IF(BW26="","",(BW26-$CI26)^2) | DL26: =IF(BX26="","",(BX26-$CI26)^2) | DM26: =IF(BY26="","",(BY26-$CI26)^2) | DN26: =IF(BZ26="","",(BZ26-$CI26)^2) | DO26: =IF(CA26="","",(CA26-$CI26)^2) | DP26: =MIN(DI26:DO26) -> 0 | DQ26: 18 | DR26: =IF(BU26="","", (1 - ABS((BU26-$CI26)/$CI26))*40) | DS26: =IF(BV26="","", (1 - ABS((BV26-$CI26)/$CI26))*40) | DT26: =IF(BW26="","", (1 - ABS((BW26-$CI26)/$CI26))*40) | DU26: =IF(BX26="","", (1 - ABS((BX26-$CI26)/$CI26))*40) | DV26: =IF(BY26="","", (1 - ABS((BY26-$CI26)/$CI26))*40) | DW26: =IF(BZ26="","", (1 - ABS((BZ26-$CI26)/$CI26))*40) | DX26: =IF(CA26="","", (1 - ABS((CA26-$CI26)/$CI26))*40) | DY26: 18 | EG26: 18 | EH26: =IF(DZ26<36,0,IF(DZ26>=72,60,IF(DZ26>=66,40,IF(DZ26>=60,30,IF(DZ26>=48,20,IF(DZ26>=36,10,0)))))) -> 0 | EI26: =IF(EA26<36,0,IF(EA26>=72,60,IF(EA26>=66,40,IF(EA26>=60,30,IF(EA26>=48,20,IF(EA26>=36,10,0)))))) -> 0 | EJ26: =IF(EB26<36,0,IF(EB26>=72,60,IF(EB26>=66,40,IF(EB26>=60,30,IF(EB26>=48,20,IF(EB26>=36,10,0)))))) -> 0 | EK26: =IF(EC26<36,0,IF(EC26>=72,60,IF(EC26>=66,40,IF(EC26>=60,30,IF(EC26>=48,20,IF(EC26>=36,10,0)))))) -> 0 | EL26: =IF(ED26<36,0,IF(ED26>=72,60,IF(ED26>=66,40,IF(ED26>=60,30,IF(ED26>=48,20,IF(ED26>=36,10,0)))))) -> 0 | EM26: =IF(EE26<36,0,IF(EE26>=72,60,IF(EE26>=66,40,IF(EE26>=60,30,IF(EE26>=48,20,IF(EE26>=36,10,0)))))) -> 0 | EN26: =IF(EF26<36,0,IF(EF26>=72,60,IF(EF26>=66,40,IF(EF26>=60,30,IF(EF26>=48,20,IF(EF26>=36,10,0)))))) -> 0 | EO26: 18 | EP26: =IF(DR26="","",(EH26+DR26)) | EQ26: =IF(DS26="","",(EI26+DS26)) | ER26: =IF(DT26="","",(EJ26+DT26)) | ES26: =IF(DU26="","",(EK26+DU26)) | ET26: =IF(DV26="","",(EL26+DV26)) | EU26: =IF(DW26="","",(EM26+DW26)) | EV26: =IF(DX26="","",(EN26+DX26)) | EW26: =MAX(EP26:EV26) -> 0 | EX26: =IF($EW26=EP26,EP$8,IF($EW26=EQ26,EQ$8,IF($EW26=ER26,ER$8,IF($EW26=ES26,ES$8,IF($EW26=ET26,ET$8,IF($EW26=EU26,EU$8,IF($EW26=EV26,EV$8,""))))))) | EY26: =IF($EW26=#REF!,#REF!,IF($EW26=#REF!,#REF!,IF($EW26=#REF!,#REF!,IF($EW26=#REF!,#REF!,IF($EW26=#REF!,#REF!,IF($EW26=#REF!,#REF!,IF($EW26=#REF!,#REF!,""))))))) -> #REF! | EZ26: =IF($EW26=#REF!,#REF!,IF($EW26=#REF!,#REF!,IF($EW26=#REF!,#REF!,IF($EW26=#REF!,#REF!,IF($EW26=#REF!,#REF!,IF($EW26=#REF!,#REF!,IF($EW26=#REF!,#REF!,""))))))) -> #REF! | FA26: =IF($EW26=#REF!,#REF!,IF($EW26=#REF!,#REF!,IF($EW26=#REF!,#REF!,IF($EW26=#REF!,#REF!,IF($EW26=#REF!,#REF!,IF($EW26=#REF!,#REF!,IF($EW26=#REF!,#REF!,""))))))) -> #REF! | FB26: =IFERROR(INDEX($EP$8:$EV$8,MATCH(EW26,EP26:EV26,0)), "DESIERTO") -> DESIERTO | FC26: =IF($EW26=EP26,EP$8,IF($EW26=EQ26,EQ$8,IF($EW26=ER26,ER$8,IF($EW26=ES26,ES$8,IF($EW26=ET26,ET$8,IF($EW26=EU26,EU$8,IF($EW26=EV26,EV$8,IF($EW26=#REF!,#REF!,IF($EW26=#REF!,#REF!,IF($EW26=#REF!,#REF!,IF($EW26=#REF!,#REF!,IF($EW26=#REF!,#REF!,IF($EW26=#REF!,#REF!,IF($EW26=#REF!,#REF!,IF($EW26=#REF!,#REF!,IF($EW26=#REF!,#REF!,IF($EW26=#REF!,#REF!,IF($EW26=#REF!,#REF!,IF($EW26=#REF!,#REF!,IF($EW26=#REF!,#REF!,IF($EW26=#REF!,#REF!,IF($EW26=#REF!,#REF!,IF($EW26=#REF!,#REF!,IF($EW26=#REF!,#REF!,IF($EW26=#REF!,#REF!,IF($EW26=#REF!,#REF!,IF($EW26=#REF!,#REF!,IF($EW26=#REF!,#REF!,"")))))))))))))))))))))))))))) -> #REF! | FD26: =IF($FC26=$I$8,$I26,IF($FC26=$J$8,$J26,IF($FC26=$K$8,$K26,IF($FC26=$L$8,$L26,IF($FC26=$M$8,$M26,IF($FC26=$N$8,$N26,IF($FC26=$O$8,$O26,""))))))) -> #REF! | FE26: =IF($FC26=#REF!,#REF!,IF($FC26=#REF!,#REF!,IF($FC26=#REF!,#REF!,IF($FC26=#REF!,#REF!,IF($FC26=#REF!,#REF!,IF($FC26=#REF!,#REF!,IF($FC26=#REF!,#REF!,""))))))) -> #REF! | FF26: =IF($FC26=#REF!,#REF!,IF($FC26=#REF!,#REF!,IF($FC26=#REF!,#REF!,IF($FC26=#REF!,#REF!,IF($FC26=#REF!,#REF!,IF($FC26=#REF!,#REF!,IF($FC26=#REF!,#REF!,""))))))) -> #REF! | FG26: =IF($FC26=#REF!,#REF!,IF($FC26=#REF!,#REF!,IF($FC26=#REF!,#REF!,IF($FC26=#REF!,#REF!,IF($FC26=#REF!,#REF!,IF($FC26=#REF!,#REF!,IF($FC26=#REF!,#REF!,""))))))) -> #REF! | FH26: =IFERROR(INDEX(I26:O26,MATCH(FB26,$I$8:$O$8,0)),"DESIERTO") -> DESIERTO | FI26: =MAX(FD26:FG26) -> #REF! | FJ26: 18 | FK26: =IFERROR(IF(FH26>0,(G26-FH26),"F"),"D") -> D | FL26: =IF(FB26="DESIERTO",G26,"ADJUDICADO") -> 2319777
B27: CIENCIA Y EDUCACION | C27: CENTRO AUDIOVISUALES Y AUDITORIOS | D27: MACARENA A OFICIAN 340 | E27: DMX INALÁMBRICO DE 8 PIEZAS | F27: 2 | G27: 4120280 | H27: 19 | P27: 19 | Q27: =IF(I27="NC","NC",IF(I27<=$G27,I27,"")) -> 0 | R27: =IF(J27="NC","NC",IF(J27<=$G27,J27,"")) -> 0 | S27: =IF(K27="NC","NC",IF(K27<=$G27,K27,"")) -> 0 | T27: =IF(L27="NC","NC",IF(L27<=$G27,L27,"")) -> 0 | U27: =IF(M27="NC","NC",IF(M27<=$G27,M27,"")) -> 0 | V27: =IF(N27="NC","NC",IF(N27<=$G27,N27,"")) -> 0 | W27: =IF(O27="NC","NC",IF(O27<=$G27,O27,"")) -> 0 | X27: 19 | Y27: NO CUMPLE | Z27: NO CUMPLE | AA27: NO CUMPLE | AB27: NO CUMPLE | AC27: NO CUMPLE | AD27: NO CUMPLE | AE27: NO CUMPLE | AF27: 19 | AG27: CUMPLE | AH27: CUMPLE | AI27: CUMPLE | AJ27: CUMPLE | AK27: CUMPLE | AL27: CUMPLE | AM27: CUMPLE | AN27: 19 | AO27: CUMPLE | AP27: CUMPLE | AQ27: CUMPLE | AR27: CUMPLE | AS27: CUMPLE | AT27: CUMPLE | AU27: CUMPLE | AV27: 19 | AW27: =IF(Y27="NO CUMPLE","NO CUMPLE",IF(AG27="NO CUMPLE","NO CUMPLE",IF(AO27="NO CUMPLE","NO CUMPLE",IF(AO27="CUMPLE","CUMPLE")))) -> NO CUMPLE | AX27: =IF(Z27="NO CUMPLE","NO CUMPLE",IF(AH27="NO CUMPLE","NO CUMPLE",IF(AP27="NO CUMPLE","NO CUMPLE",IF(AP27="CUMPLE","CUMPLE")))) -> NO CUMPLE | AY27: =IF(AA27="NO CUMPLE","NO CUMPLE",IF(AI27="NO CUMPLE","NO CUMPLE",IF(AQ27="NO CUMPLE","NO CUMPLE",IF(AQ27="CUMPLE","CUMPLE")))) -> NO CUMPLE | AZ27: =IF(AB27="NO CUMPLE","NO CUMPLE",IF(AJ27="NO CUMPLE","NO CUMPLE",IF(AR27="NO CUMPLE","NO CUMPLE",IF(AR27="CUMPLE","CUMPLE")))) -> NO CUMPLE | BA27: =IF(AC27="NO CUMPLE","NO CUMPLE",IF(AK27="NO CUMPLE","NO CUMPLE",IF(AS27="NO CUMPLE","NO CUMPLE",IF(AS27="CUMPLE","CUMPLE")))) -> NO CUMPLE | BB27: =IF(AD27="NO CUMPLE","NO CUMPLE",IF(AL27="NO CUMPLE","NO CUMPLE",IF(AT27="NO CUMPLE","NO CUMPLE",IF(AT27="CUMPLE","CUMPLE")))) -> NO CUMPLE | BC27: =IF(AE27="NO CUMPLE","NO CUMPLE",IF(AM27="NO CUMPLE","NO CUMPLE",IF(AU27="NO CUMPLE","NO CUMPLE",IF(AU27="CUMPLE","CUMPLE")))) -> NO CUMPLE | BD27: 19 | BE27: NC | BF27: NC | BG27: NC | BH27: NC | BI27: NC | BJ27: NC | BK27: NC | BL27: 19 | BM27: NC | BN27: NC | BO27: NC | BP27: NC | BQ27: NC | BR27: NC | BS27: NC | BT27: 19 | BU27: =IF(AW27="NO CUMPLE","",IF(BE27="NO CUMPLE","",IF(BM27="NO CUMPLE","",IF(BE27="NC","",IF(BM27="CUMPLE",I27))))) | BV27: =IF(AX27="NO CUMPLE","",IF(BF27="NO CUMPLE","",IF(BN27="NO CUMPLE","",IF(BF27="NC","",IF(BN27="CUMPLE",J27))))) | BW27: =IF(AY27="NO CUMPLE","",IF(BG27="NO CUMPLE","",IF(BO27="NO CUMPLE","",IF(BG27="NC","",IF(BO27="CUMPLE",K27))))) | BX27: =IF(AZ27="NO CUMPLE","",IF(BH27="NO CUMPLE","",IF(BP27="NO CUMPLE","",IF(BH27="NC","",IF(BP27="CUMPLE",L27))))) | BY27: =IF(BA27="NO CUMPLE","",IF(BI27="NO CUMPLE","",IF(BQ27="NO CUMPLE","",IF(BI27="NC","",IF(BQ27="CUMPLE",M27))))) | BZ27: =IF(BB27="NO CUMPLE","",IF(BJ27="NO CUMPLE","",IF(BR27="NO CUMPLE","",IF(BJ27="NC","",IF(BR27="CUMPLE",N27))))) | CA27: =IF(BC27="NO CUMPLE","",IF(BK27="NO CUMPLE","",IF(BS27="NO CUMPLE","",IF(BK27="NC","",IF(BS27="CUMPLE",O27))))) | CB27: 4120280 | CC27: 4120280 | CD27: =COUNT(BU27:CA27) -> 0 | CE27: =IF(CD27=2,1,IF(CD27=3,2,IF(CD27=4,3,IF(CD27>5,5,)))) -> 0 | CF27: =IFERROR(MEDIAN(BU27:CA27),"") | CG27: =IF(COUNT(BU27:CA27)=0,"",MOD(COUNT(BU27:CA27),2)) | CH27: =IF(COUNT(BU27:CA27)<2,"", IF(MOD(COUNT(BU27:CA27),2)=1,"", SMALL(BU27:CA27, COUNT(BU27:CA27)/2 ) )) | CI27: =IF(CG27=1, CF27, CH27) | CJ27: 19 | CK27: =IF(BU27="","", (1 - ABS((BU27 - $CI27)/$CI27)) * 40) | CL27: =IF(BV27="","", (1 - ABS((BV27 - $CI27)/$CI27)) * 40) | CM27: =IF(BW27="","", (1 - ABS((BW27 - $CI27)/$CI27)) * 40) | CN27: =IF(BX27="","", (1 - ABS((BX27 - $CI27)/$CI27)) * 40) | CO27: =IF(BY27="","", (1 - ABS((BY27 - $CI27)/$CI27)) * 40) | CP27: =IF(BZ27="","", (1 - ABS((BZ27 - $CI27)/$CI27)) * 40) | CQ27: =IF(CA27="","", (1 - ABS((CA27 - $CI27)/$CI27)) * 40) | CR27: 19 | CS27: =IF(BU27="","",ABS((BU27 - $CI27)/$CI27)) | CT27: =IF(BV27="","",ABS((BV27 - $CI27)/$CI27)) | CU27: =IF(BW27="","",ABS((BW27 - $CI27)/$CI27)) | CV27: =IF(BX27="","",ABS((BX27 - $CI27)/$CI27)) | CW27: =IF(BY27="","",ABS((BY27 - $CI27)/$CI27)) | CX27: =IF(BZ27="","",ABS((BZ27 - $CI27)/$CI27)) | CY27: =IF(CA27="","",ABS((CA27 - $CI27)/$CI27)) | CZ27: 19 | DA27: =IF(CK27="","",ABS(BU27-$CF27)) | DB27: =IF(CL27="","",ABS(BV27-$CF27)) | DC27: =IF(CM27="","",ABS(BW27-$CF27)) | DD27: =IF(CN27="","",ABS(BX27-$CF27)) | DE27: =IF(CO27="","",ABS(BY27-$CF27)) | DF27: =IF(CP27="","",ABS(BZ27-$CF27)) | DG27: =IF(CQ27="","",ABS(CA27-$CF27)) | DH27: 19 | DI27: =IF(BU27="","",(BU27-$CI27)^2) | DJ27: =IF(BV27="","",(BV27-$CI27)^2) | DK27: =IF(BW27="","",(BW27-$CI27)^2) | DL27: =IF(BX27="","",(BX27-$CI27)^2) | DM27: =IF(BY27="","",(BY27-$CI27)^2) | DN27: =IF(BZ27="","",(BZ27-$CI27)^2) | DO27: =IF(CA27="","",(CA27-$CI27)^2) | DP27: =MIN(DI27:DO27) -> 0 | DQ27: 19 | DR27: =IF(BU27="","", (1 - ABS((BU27-$CI27)/$CI27))*40) | DS27: =IF(BV27="","", (1 - ABS((BV27-$CI27)/$CI27))*40) | DT27: =IF(BW27="","", (1 - ABS((BW27-$CI27)/$CI27))*40) | DU27: =IF(BX27="","", (1 - ABS((BX27-$CI27)/$CI27))*40) | DV27: =IF(BY27="","", (1 - ABS((BY27-$CI27)/$CI27))*40) | DW27: =IF(BZ27="","", (1 - ABS((BZ27-$CI27)/$CI27))*40) | DX27: =IF(CA27="","", (1 - ABS((CA27-$CI27)/$CI27))*40) | DY27: 19 | EG27: 19 | EH27: =IF(DZ27<36,0,IF(DZ27>=72,60,IF(DZ27>=66,40,IF(DZ27>=60,30,IF(DZ27>=48,20,IF(DZ27>=36,10,0)))))) -> 0 | EI27: =IF(EA27<36,0,IF(EA27>=72,60,IF(EA27>=66,40,IF(EA27>=60,30,IF(EA27>=48,20,IF(EA27>=36,10,0)))))) -> 0 | EJ27: =IF(EB27<36,0,IF(EB27>=72,60,IF(EB27>=66,40,IF(EB27>=60,30,IF(EB27>=48,20,IF(EB27>=36,10,0)))))) -> 0 | EK27: =IF(EC27<36,0,IF(EC27>=72,60,IF(EC27>=66,40,IF(EC27>=60,30,IF(EC27>=48,20,IF(EC27>=36,10,0)))))) -> 0 | EL27: =IF(ED27<36,0,IF(ED27>=72,60,IF(ED27>=66,40,IF(ED27>=60,30,IF(ED27>=48,20,IF(ED27>=36,10,0)))))) -> 0 | EM27: =IF(EE27<36,0,IF(EE27>=72,60,IF(EE27>=66,40,IF(EE27>=60,30,IF(EE27>=48,20,IF(EE27>=36,10,0)))))) -> 0 | EN27: =IF(EF27<36,0,IF(EF27>=72,60,IF(EF27>=66,40,IF(EF27>=60,30,IF(EF27>=48,20,IF(EF27>=36,10,0)))))) -> 0 | EO27: 19 | EP27: =IF(DR27="","",(EH27+DR27)) | EQ27: =IF(DS27="","",(EI27+DS27)) | ER27: =IF(DT27="","",(EJ27+DT27)) | ES27: =IF(DU27="","",(EK27+DU27)) | ET27: =IF(DV27="","",(EL27+DV27)) | EU27: =IF(DW27="","",(EM27+DW27)) | EV27: =IF(DX27="","",(EN27+DX27)) | EW27: =MAX(EP27:EV27) -> 0 | EX27: =IF($EW27=EP27,EP$8,IF($EW27=EQ27,EQ$8,IF($EW27=ER27,ER$8,IF($EW27=ES27,ES$8,IF($EW27=ET27,ET$8,IF($EW27=EU27,EU$8,IF($EW27=EV27,EV$8,""))))))) | EY27: =IF($EW27=#REF!,#REF!,IF($EW27=#REF!,#REF!,IF($EW27=#REF!,#REF!,IF($EW27=#REF!,#REF!,IF($EW27=#REF!,#REF!,IF($EW27=#REF!,#REF!,IF($EW27=#REF!,#REF!,""))))))) -> #REF! | EZ27: =IF($EW27=#REF!,#REF!,IF($EW27=#REF!,#REF!,IF($EW27=#REF!,#REF!,IF($EW27=#REF!,#REF!,IF($EW27=#REF!,#REF!,IF($EW27=#REF!,#REF!,IF($EW27=#REF!,#REF!,""))))))) -> #REF! | FA27: =IF($EW27=#REF!,#REF!,IF($EW27=#REF!,#REF!,IF($EW27=#REF!,#REF!,IF($EW27=#REF!,#REF!,IF($EW27=#REF!,#REF!,IF($EW27=#REF!,#REF!,IF($EW27=#REF!,#REF!,""))))))) -> #REF! | FB27: =IFERROR(INDEX($EP$8:$EV$8,MATCH(EW27,EP27:EV27,0)), "DESIERTO") -> DESIERTO | FC27: =IF($EW27=EP27,EP$8,IF($EW27=EQ27,EQ$8,IF($EW27=ER27,ER$8,IF($EW27=ES27,ES$8,IF($EW27=ET27,ET$8,IF($EW27=EU27,EU$8,IF($EW27=EV27,EV$8,IF($EW27=#REF!,#REF!,IF($EW27=#REF!,#REF!,IF($EW27=#REF!,#REF!,IF($EW27=#REF!,#REF!,IF($EW27=#REF!,#REF!,IF($EW27=#REF!,#REF!,IF($EW27=#REF!,#REF!,IF($EW27=#REF!,#REF!,IF($EW27=#REF!,#REF!,IF($EW27=#REF!,#REF!,IF($EW27=#REF!,#REF!,IF($EW27=#REF!,#REF!,IF($EW27=#REF!,#REF!,IF($EW27=#REF!,#REF!,IF($EW27=#REF!,#REF!,IF($EW27=#REF!,#REF!,IF($EW27=#REF!,#REF!,IF($EW27=#REF!,#REF!,IF($EW27=#REF!,#REF!,IF($EW27=#REF!,#REF!,IF($EW27=#REF!,#REF!,"")))))))))))))))))))))))))))) -> #REF! | FD27: =IF($FC27=$I$8,$I27,IF($FC27=$J$8,$J27,IF($FC27=$K$8,$K27,IF($FC27=$L$8,$L27,IF($FC27=$M$8,$M27,IF($FC27=$N$8,$N27,IF($FC27=$O$8,$O27,""))))))) -> #REF! | FE27: =IF($FC27=#REF!,#REF!,IF($FC27=#REF!,#REF!,IF($FC27=#REF!,#REF!,IF($FC27=#REF!,#REF!,IF($FC27=#REF!,#REF!,IF($FC27=#REF!,#REF!,IF($FC27=#REF!,#REF!,""))))))) -> #REF! | FF27: =IF($FC27=#REF!,#REF!,IF($FC27=#REF!,#REF!,IF($FC27=#REF!,#REF!,IF($FC27=#REF!,#REF!,IF($FC27=#REF!,#REF!,IF($FC27=#REF!,#REF!,IF($FC27=#REF!,#REF!,""))))))) -> #REF! | FG27: =IF($FC27=#REF!,#REF!,IF($FC27=#REF!,#REF!,IF($FC27=#REF!,#REF!,IF($FC27=#REF!,#REF!,IF($FC27=#REF!,#REF!,IF($FC27=#REF!,#REF!,IF($FC27=#REF!,#REF!,""))))))) -> #REF! | FH27: =IFERROR(INDEX(I27:O27,MATCH(FB27,$I$8:$O$8,0)),"DESIERTO") -> DESIERTO | FI27: =MAX(FD27:FG27) -> #REF! | FJ27: 19 | FK27: =IFERROR(IF(FH27>0,(G27-FH27),"F"),"D") -> D | FL27: =IF(FB27="DESIERTO",G27,"ADJUDICADO") -> 4120280
B28: CIENCIA Y EDUCACION | C28: CENTRO AUDIOVISUALES Y AUDITORIOS | D28: MACARENA A OFICIAN 340 | E28: INTERFAZ SISTEMA DE CONTROLADOR DMX | F28: 1 | G28: 1629121 | H28: 20 | P28: 20 | Q28: =IF(I28="NC","NC",IF(I28<=$G28,I28,"")) -> 0 | R28: =IF(J28="NC","NC",IF(J28<=$G28,J28,"")) -> 0 | S28: =IF(K28="NC","NC",IF(K28<=$G28,K28,"")) -> 0 | T28: =IF(L28="NC","NC",IF(L28<=$G28,L28,"")) -> 0 | U28: =IF(M28="NC","NC",IF(M28<=$G28,M28,"")) -> 0 | V28: =IF(N28="NC","NC",IF(N28<=$G28,N28,"")) -> 0 | W28: =IF(O28="NC","NC",IF(O28<=$G28,O28,"")) -> 0 | X28: 20 | Y28: NO CUMPLE | Z28: NO CUMPLE | AA28: NO CUMPLE | AB28: NO CUMPLE | AC28: NO CUMPLE | AD28: NO CUMPLE | AE28: NO CUMPLE | AF28: 20 | AG28: CUMPLE | AH28: CUMPLE | AI28: CUMPLE | AJ28: CUMPLE | AK28: CUMPLE | AL28: CUMPLE | AM28: CUMPLE | AN28: 20 | AO28: CUMPLE | AP28: CUMPLE | AQ28: CUMPLE | AR28: CUMPLE | AS28: CUMPLE | AT28: CUMPLE | AU28: CUMPLE | AV28: 20 | AW28: =IF(Y28="NO CUMPLE","NO CUMPLE",IF(AG28="NO CUMPLE","NO CUMPLE",IF(AO28="NO CUMPLE","NO CUMPLE",IF(AO28="CUMPLE","CUMPLE")))) -> NO CUMPLE | AX28: =IF(Z28="NO CUMPLE","NO CUMPLE",IF(AH28="NO CUMPLE","NO CUMPLE",IF(AP28="NO CUMPLE","NO CUMPLE",IF(AP28="CUMPLE","CUMPLE")))) -> NO CUMPLE | AY28: =IF(AA28="NO CUMPLE","NO CUMPLE",IF(AI28="NO CUMPLE","NO CUMPLE",IF(AQ28="NO CUMPLE","NO CUMPLE",IF(AQ28="CUMPLE","CUMPLE")))) -> NO CUMPLE | AZ28: =IF(AB28="NO CUMPLE","NO CUMPLE",IF(AJ28="NO CUMPLE","NO CUMPLE",IF(AR28="NO CUMPLE","NO CUMPLE",IF(AR28="CUMPLE","CUMPLE")))) -> NO CUMPLE | BA28: =IF(AC28="NO CUMPLE","NO CUMPLE",IF(AK28="NO CUMPLE","NO CUMPLE",IF(AS28="NO CUMPLE","NO CUMPLE",IF(AS28="CUMPLE","CUMPLE")))) -> NO CUMPLE | BB28: =IF(AD28="NO CUMPLE","NO CUMPLE",IF(AL28="NO CUMPLE","NO CUMPLE",IF(AT28="NO CUMPLE","NO CUMPLE",IF(AT28="CUMPLE","CUMPLE")))) -> NO CUMPLE | BC28: =IF(AE28="NO CUMPLE","NO CUMPLE",IF(AM28="NO CUMPLE","NO CUMPLE",IF(AU28="NO CUMPLE","NO CUMPLE",IF(AU28="CUMPLE","CUMPLE")))) -> NO CUMPLE | BD28: 20 | BE28: NC | BF28: NC | BG28: NC | BH28: NC | BI28: NC | BJ28: NC | BK28: NC | BL28: 20 | BM28: NC | BN28: NC | BO28: NC | BP28: NC | BQ28: NC | BR28: NC | BS28: NC | BT28: 20 | BU28: =IF(AW28="NO CUMPLE","",IF(BE28="NO CUMPLE","",IF(BM28="NO CUMPLE","",IF(BE28="NC","",IF(BM28="CUMPLE",I28))))) | BV28: =IF(AX28="NO CUMPLE","",IF(BF28="NO CUMPLE","",IF(BN28="NO CUMPLE","",IF(BF28="NC","",IF(BN28="CUMPLE",J28))))) | BW28: =IF(AY28="NO CUMPLE","",IF(BG28="NO CUMPLE","",IF(BO28="NO CUMPLE","",IF(BG28="NC","",IF(BO28="CUMPLE",K28))))) | BX28: =IF(AZ28="NO CUMPLE","",IF(BH28="NO CUMPLE","",IF(BP28="NO CUMPLE","",IF(BH28="NC","",IF(BP28="CUMPLE",L28))))) | BY28: =IF(BA28="NO CUMPLE","",IF(BI28="NO CUMPLE","",IF(BQ28="NO CUMPLE","",IF(BI28="NC","",IF(BQ28="CUMPLE",M28))))) | BZ28: =IF(BB28="NO CUMPLE","",IF(BJ28="NO CUMPLE","",IF(BR28="NO CUMPLE","",IF(BJ28="NC","",IF(BR28="CUMPLE",N28))))) | CA28: =IF(BC28="NO CUMPLE","",IF(BK28="NO CUMPLE","",IF(BS28="NO CUMPLE","",IF(BK28="NC","",IF(BS28="CUMPLE",O28))))) | CB28: 1629121 | CC28: 1629121 | CD28: =COUNT(BU28:CA28) -> 0 | CE28: =IF(CD28=2,1,IF(CD28=3,2,IF(CD28=4,3,IF(CD28>5,5,)))) -> 0 | CF28: =IFERROR(MEDIAN(BU28:CA28),"") | CG28: =IF(COUNT(BU28:CA28)=0,"",MOD(COUNT(BU28:CA28),2)) | CH28: =IF(COUNT(BU28:CA28)<2,"", IF(MOD(COUNT(BU28:CA28),2)=1,"", SMALL(BU28:CA28, COUNT(BU28:CA28)/2 ) )) | CI28: =IF(CG28=1, CF28, CH28) | CJ28: 20 | CK28: =IF(BU28="","", (1 - ABS((BU28 - $CI28)/$CI28)) * 40) | CL28: =IF(BV28="","", (1 - ABS((BV28 - $CI28)/$CI28)) * 40) | CM28: =IF(BW28="","", (1 - ABS((BW28 - $CI28)/$CI28)) * 40) | CN28: =IF(BX28="","", (1 - ABS((BX28 - $CI28)/$CI28)) * 40) | CO28: =IF(BY28="","", (1 - ABS((BY28 - $CI28)/$CI28)) * 40) | CP28: =IF(BZ28="","", (1 - ABS((BZ28 - $CI28)/$CI28)) * 40) | CQ28: =IF(CA28="","", (1 - ABS((CA28 - $CI28)/$CI28)) * 40) | CR28: 20 | CS28: =IF(BU28="","",ABS((BU28 - $CI28)/$CI28)) | CT28: =IF(BV28="","",ABS((BV28 - $CI28)/$CI28)) | CU28: =IF(BW28="","",ABS((BW28 - $CI28)/$CI28)) | CV28: =IF(BX28="","",ABS((BX28 - $CI28)/$CI28)) | CW28: =IF(BY28="","",ABS((BY28 - $CI28)/$CI28)) | CX28: =IF(BZ28="","",ABS((BZ28 - $CI28)/$CI28)) | CY28: =IF(CA28="","",ABS((CA28 - $CI28)/$CI28)) | CZ28: 20 | DA28: =IF(CK28="","",ABS(BU28-$CF28)) | DB28: =IF(CL28="","",ABS(BV28-$CF28)) | DC28: =IF(CM28="","",ABS(BW28-$CF28)) | DD28: =IF(CN28="","",ABS(BX28-$CF28)) | DE28: =IF(CO28="","",ABS(BY28-$CF28)) | DF28: =IF(CP28="","",ABS(BZ28-$CF28)) | DG28: =IF(CQ28="","",ABS(CA28-$CF28)) | DH28: 20 | DI28: =IF(BU28="","",(BU28-$CI28)^2) | DJ28: =IF(BV28="","",(BV28-$CI28)^2) | DK28: =IF(BW28="","",(BW28-$CI28)^2) | DL28: =IF(BX28="","",(BX28-$CI28)^2) | DM28: =IF(BY28="","",(BY28-$CI28)^2) | DN28: =IF(BZ28="","",(BZ28-$CI28)^2) | DO28: =IF(CA28="","",(CA28-$CI28)^2) | DP28: =MIN(DI28:DO28) -> 0 | DQ28: 20 | DR28: =IF(BU28="","", (1 - ABS((BU28-$CI28)/$CI28))*40) | DS28: =IF(BV28="","", (1 - ABS((BV28-$CI28)/$CI28))*40) | DT28: =IF(BW28="","", (1 - ABS((BW28-$CI28)/$CI28))*40) | DU28: =IF(BX28="","", (1 - ABS((BX28-$CI28)/$CI28))*40) | DV28: =IF(BY28="","", (1 - ABS((BY28-$CI28)/$CI28))*40) | DW28: =IF(BZ28="","", (1 - ABS((BZ28-$CI28)/$CI28))*40) | DX28: =IF(CA28="","", (1 - ABS((CA28-$CI28)/$CI28))*40) | DY28: 20 | EG28: 20 | EH28: =IF(DZ28<36,0,IF(DZ28>=72,60,IF(DZ28>=66,40,IF(DZ28>=60,30,IF(DZ28>=48,20,IF(DZ28>=36,10,0)))))) -> 0 | EI28: =IF(EA28<36,0,IF(EA28>=72,60,IF(EA28>=66,40,IF(EA28>=60,30,IF(EA28>=48,20,IF(EA28>=36,10,0)))))) -> 0 | EJ28: =IF(EB28<36,0,IF(EB28>=72,60,IF(EB28>=66,40,IF(EB28>=60,30,IF(EB28>=48,20,IF(EB28>=36,10,0)))))) -> 0 | EK28: =IF(EC28<36,0,IF(EC28>=72,60,IF(EC28>=66,40,IF(EC28>=60,30,IF(EC28>=48,20,IF(EC28>=36,10,0)))))) -> 0 | EL28: =IF(ED28<36,0,IF(ED28>=72,60,IF(ED28>=66,40,IF(ED28>=60,30,IF(ED28>=48,20,IF(ED28>=36,10,0)))))) -> 0 | EM28: =IF(EE28<36,0,IF(EE28>=72,60,IF(EE28>=66,40,IF(EE28>=60,30,IF(EE28>=48,20,IF(EE28>=36,10,0)))))) -> 0 | EN28: =IF(EF28<36,0,IF(EF28>=72,60,IF(EF28>=66,40,IF(EF28>=60,30,IF(EF28>=48,20,IF(EF28>=36,10,0)))))) -> 0 | EO28: 20 | EP28: =IF(DR28="","",(EH28+DR28)) | EQ28: =IF(DS28="","",(EI28+DS28)) | ER28: =IF(DT28="","",(EJ28+DT28)) | ES28: =IF(DU28="","",(EK28+DU28)) | ET28: =IF(DV28="","",(EL28+DV28)) | EU28: =IF(DW28="","",(EM28+DW28)) | EV28: =IF(DX28="","",(EN28+DX28)) | EW28: =MAX(EP28:EV28) -> 0 | EX28: =IF($EW28=EP28,EP$8,IF($EW28=EQ28,EQ$8,IF($EW28=ER28,ER$8,IF($EW28=ES28,ES$8,IF($EW28=ET28,ET$8,IF($EW28=EU28,EU$8,IF($EW28=EV28,EV$8,""))))))) | EY28: =IF($EW28=#REF!,#REF!,IF($EW28=#REF!,#REF!,IF($EW28=#REF!,#REF!,IF($EW28=#REF!,#REF!,IF($EW28=#REF!,#REF!,IF($EW28=#REF!,#REF!,IF($EW28=#REF!,#REF!,""))))))) -> #REF! | EZ28: =IF($EW28=#REF!,#REF!,IF($EW28=#REF!,#REF!,IF($EW28=#REF!,#REF!,IF($EW28=#REF!,#REF!,IF($EW28=#REF!,#REF!,IF($EW28=#REF!,#REF!,IF($EW28=#REF!,#REF!,""))))))) -> #REF! | FA28: =IF($EW28=#REF!,#REF!,IF($EW28=#REF!,#REF!,IF($EW28=#REF!,#REF!,IF($EW28=#REF!,#REF!,IF($EW28=#REF!,#REF!,IF($EW28=#REF!,#REF!,IF($EW28=#REF!,#REF!,""))))))) -> #REF! | FB28: =IFERROR(INDEX($EP$8:$EV$8,MATCH(EW28,EP28:EV28,0)), "DESIERTO") -> DESIERTO | FC28: =IF($EW28=EP28,EP$8,IF($EW28=EQ28,EQ$8,IF($EW28=ER28,ER$8,IF($EW28=ES28,ES$8,IF($EW28=ET28,ET$8,IF($EW28=EU28,EU$8,IF($EW28=EV28,EV$8,IF($EW28=#REF!,#REF!,IF($EW28=#REF!,#REF!,IF($EW28=#REF!,#REF!,IF($EW28=#REF!,#REF!,IF($EW28=#REF!,#REF!,IF($EW28=#REF!,#REF!,IF($EW28=#REF!,#REF!,IF($EW28=#REF!,#REF!,IF($EW28=#REF!,#REF!,IF($EW28=#REF!,#REF!,IF($EW28=#REF!,#REF!,IF($EW28=#REF!,#REF!,IF($EW28=#REF!,#REF!,IF($EW28=#REF!,#REF!,IF($EW28=#REF!,#REF!,IF($EW28=#REF!,#REF!,IF($EW28=#REF!,#REF!,IF($EW28=#REF!,#REF!,IF($EW28=#REF!,#REF!,IF($EW28=#REF!,#REF!,IF($EW28=#REF!,#REF!,"")))))))))))))))))))))))))))) -> #REF! | FD28: =IF($FC28=$I$8,$I28,IF($FC28=$J$8,$J28,IF($FC28=$K$8,$K28,IF($FC28=$L$8,$L28,IF($FC28=$M$8,$M28,IF($FC28=$N$8,$N28,IF($FC28=$O$8,$O28,""))))))) -> #REF! | FE28: =IF($FC28=#REF!,#REF!,IF($FC28=#REF!,#REF!,IF($FC28=#REF!,#REF!,IF($FC28=#REF!,#REF!,IF($FC28=#REF!,#REF!,IF($FC28=#REF!,#REF!,IF($FC28=#REF!,#REF!,""))))))) -> #REF! | FF28: =IF($FC28=#REF!,#REF!,IF($FC28=#REF!,#REF!,IF($FC28=#REF!,#REF!,IF($FC28=#REF!,#REF!,IF($FC28=#REF!,#REF!,IF($FC28=#REF!,#REF!,IF($FC28=#REF!,#REF!,""))))))) -> #REF! | FG28: =IF($FC28=#REF!,#REF!,IF($FC28=#REF!,#REF!,IF($FC28=#REF!,#REF!,IF($FC28=#REF!,#REF!,IF($FC28=#REF!,#REF!,IF($FC28=#REF!,#REF!,IF($FC28=#REF!,#REF!,""))))))) -> #REF! | FH28: =IFERROR(INDEX(I28:O28,MATCH(FB28,$I$8:$O$8,0)),"DESIERTO") -> DESIERTO | FI28: =MAX(FD28:FG28) -> #REF! | FJ28: 20 | FK28: =IFERROR(IF(FH28>0,(G28-FH28),"F"),"D") -> D | FL28: =IF(FB28="DESIERTO",G28,"ADJUDICADO") -> 1629121
B29: CIENCIA Y EDUCACION | C29: CENTRO AUDIOVISUALES Y AUDITORIOS | D29: MACARENA A OFICIAN 340 | E29: PAR LED PROFESIONAL | F29: 3 | G29: 20064359 | H29: 21 | P29: 21 | Q29: =IF(I29="NC","NC",IF(I29<=$G29,I29,"")) -> 0 | R29: =IF(J29="NC","NC",IF(J29<=$G29,J29,"")) -> 0 | S29: =IF(K29="NC","NC",IF(K29<=$G29,K29,"")) -> 0 | T29: =IF(L29="NC","NC",IF(L29<=$G29,L29,"")) -> 0 | U29: =IF(M29="NC","NC",IF(M29<=$G29,M29,"")) -> 0 | V29: =IF(N29="NC","NC",IF(N29<=$G29,N29,"")) -> 0 | W29: =IF(O29="NC","NC",IF(O29<=$G29,O29,"")) -> 0 | X29: 21 | Y29: NO CUMPLE | Z29: NO CUMPLE | AA29: NO CUMPLE | AB29: NO CUMPLE | AC29: NO CUMPLE | AD29: NO CUMPLE | AE29: NO CUMPLE | AF29: 21 | AG29: CUMPLE | AH29: CUMPLE | AI29: CUMPLE | AJ29: CUMPLE | AK29: CUMPLE | AL29: CUMPLE | AM29: CUMPLE | AN29: 21 | AO29: CUMPLE | AP29: CUMPLE | AQ29: CUMPLE | AR29: CUMPLE | AS29: CUMPLE | AT29: CUMPLE | AU29: CUMPLE | AV29: 21 | AW29: =IF(Y29="NO CUMPLE","NO CUMPLE",IF(AG29="NO CUMPLE","NO CUMPLE",IF(AO29="NO CUMPLE","NO CUMPLE",IF(AO29="CUMPLE","CUMPLE")))) -> NO CUMPLE | AX29: =IF(Z29="NO CUMPLE","NO CUMPLE",IF(AH29="NO CUMPLE","NO CUMPLE",IF(AP29="NO CUMPLE","NO CUMPLE",IF(AP29="CUMPLE","CUMPLE")))) -> NO CUMPLE | AY29: =IF(AA29="NO CUMPLE","NO CUMPLE",IF(AI29="NO CUMPLE","NO CUMPLE",IF(AQ29="NO CUMPLE","NO CUMPLE",IF(AQ29="CUMPLE","CUMPLE")))) -> NO CUMPLE | AZ29: =IF(AB29="NO CUMPLE","NO CUMPLE",IF(AJ29="NO CUMPLE","NO CUMPLE",IF(AR29="NO CUMPLE","NO CUMPLE",IF(AR29="CUMPLE","CUMPLE")))) -> NO CUMPLE | BA29: =IF(AC29="NO CUMPLE","NO CUMPLE",IF(AK29="NO CUMPLE","NO CUMPLE",IF(AS29="NO CUMPLE","NO CUMPLE",IF(AS29="CUMPLE","CUMPLE")))) -> NO CUMPLE | BB29: =IF(AD29="NO CUMPLE","NO CUMPLE",IF(AL29="NO CUMPLE","NO CUMPLE",IF(AT29="NO CUMPLE","NO CUMPLE",IF(AT29="CUMPLE","CUMPLE")))) -> NO CUMPLE | BC29: =IF(AE29="NO CUMPLE","NO CUMPLE",IF(AM29="NO CUMPLE","NO CUMPLE",IF(AU29="NO CUMPLE","NO CUMPLE",IF(AU29="CUMPLE","CUMPLE")))) -> NO CUMPLE | BD29: 21 | BE29: NC | BF29: NC | BG29: NC | BH29: NC | BI29: NC | BJ29: NC | BK29: NC | BL29: 21 | BM29: NC | BN29: NC | BO29: NC | BP29: NC | BQ29: NC | BR29: NC | BS29: NC | BT29: 21 | BU29: =IF(AW29="NO CUMPLE","",IF(BE29="NO CUMPLE","",IF(BM29="NO CUMPLE","",IF(BE29="NC","",IF(BM29="CUMPLE",I29))))) | BV29: =IF(AX29="NO CUMPLE","",IF(BF29="NO CUMPLE","",IF(BN29="NO CUMPLE","",IF(BF29="NC","",IF(BN29="CUMPLE",J29))))) | BW29: =IF(AY29="NO CUMPLE","",IF(BG29="NO CUMPLE","",IF(BO29="NO CUMPLE","",IF(BG29="NC","",IF(BO29="CUMPLE",K29))))) | BX29: =IF(AZ29="NO CUMPLE","",IF(BH29="NO CUMPLE","",IF(BP29="NO CUMPLE","",IF(BH29="NC","",IF(BP29="CUMPLE",L29))))) | BY29: =IF(BA29="NO CUMPLE","",IF(BI29="NO CUMPLE","",IF(BQ29="NO CUMPLE","",IF(BI29="NC","",IF(BQ29="CUMPLE",M29))))) | BZ29: =IF(BB29="NO CUMPLE","",IF(BJ29="NO CUMPLE","",IF(BR29="NO CUMPLE","",IF(BJ29="NC","",IF(BR29="CUMPLE",N29))))) | CA29: =IF(BC29="NO CUMPLE","",IF(BK29="NO CUMPLE","",IF(BS29="NO CUMPLE","",IF(BK29="NC","",IF(BS29="CUMPLE",O29))))) | CB29: 20064359 | CC29: 20064359 | CD29: =COUNT(BU29:CA29) -> 0 | CE29: =IF(CD29=2,1,IF(CD29=3,2,IF(CD29=4,3,IF(CD29>5,5,)))) -> 0 | CF29: =IFERROR(MEDIAN(BU29:CA29),"") | CG29: =IF(COUNT(BU29:CA29)=0,"",MOD(COUNT(BU29:CA29),2)) | CH29: =IF(COUNT(BU29:CA29)<2,"", IF(MOD(COUNT(BU29:CA29),2)=1,"", SMALL(BU29:CA29, COUNT(BU29:CA29)/2 ) )) | CI29: =IF(CG29=1, CF29, CH29) | CJ29: 21 | CK29: =IF(BU29="","", (1 - ABS((BU29 - $CI29)/$CI29)) * 40) | CL29: =IF(BV29="","", (1 - ABS((BV29 - $CI29)/$CI29)) * 40) | CM29: =IF(BW29="","", (1 - ABS((BW29 - $CI29)/$CI29)) * 40) | CN29: =IF(BX29="","", (1 - ABS((BX29 - $CI29)/$CI29)) * 40) | CO29: =IF(BY29="","", (1 - ABS((BY29 - $CI29)/$CI29)) * 40) | CP29: =IF(BZ29="","", (1 - ABS((BZ29 - $CI29)/$CI29)) * 40) | CQ29: =IF(CA29="","", (1 - ABS((CA29 - $CI29)/$CI29)) * 40) | CR29: 21 | CS29: =IF(BU29="","",ABS((BU29 - $CI29)/$CI29)) | CT29: =IF(BV29="","",ABS((BV29 - $CI29)/$CI29)) | CU29: =IF(BW29="","",ABS((BW29 - $CI29)/$CI29)) | CV29: =IF(BX29="","",ABS((BX29 - $CI29)/$CI29)) | CW29: =IF(BY29="","",ABS((BY29 - $CI29)/$CI29)) | CX29: =IF(BZ29="","",ABS((BZ29 - $CI29)/$CI29)) | CY29: =IF(CA29="","",ABS((CA29 - $CI29)/$CI29)) | CZ29: 21 | DA29: =IF(CK29="","",ABS(BU29-$CF29)) | DB29: =IF(CL29="","",ABS(BV29-$CF29)) | DC29: =IF(CM29="","",ABS(BW29-$CF29)) | DD29: =IF(CN29="","",ABS(BX29-$CF29)) | DE29: =IF(CO29="","",ABS(BY29-$CF29)) | DF29: =IF(CP29="","",ABS(BZ29-$CF29)) | DG29: =IF(CQ29="","",ABS(CA29-$CF29)) | DH29: 21 | DI29: =IF(BU29="","",(BU29-$CI29)^2) | DJ29: =IF(BV29="","",(BV29-$CI29)^2) | DK29: =IF(BW29="","",(BW29-$CI29)^2) | DL29: =IF(BX29="","",(BX29-$CI29)^2) | DM29: =IF(BY29="","",(BY29-$CI29)^2) | DN29: =IF(BZ29="","",(BZ29-$CI29)^2) | DO29: =IF(CA29="","",(CA29-$CI29)^2) | DP29: =MIN(DI29:DO29) -> 0 | DQ29: 21 | DR29: =IF(BU29="","", (1 - ABS((BU29-$CI29)/$CI29))*40) | DS29: =IF(BV29="","", (1 - ABS((BV29-$CI29)/$CI29))*40) | DT29: =IF(BW29="","", (1 - ABS((BW29-$CI29)/$CI29))*40) | DU29: =IF(BX29="","", (1 - ABS((BX29-$CI29)/$CI29))*40) | DV29: =IF(BY29="","", (1 - ABS((BY29-$CI29)/$CI29))*40) | DW29: =IF(BZ29="","", (1 - ABS((BZ29-$CI29)/$CI29))*40) | DX29: =IF(CA29="","", (1 - ABS((CA29-$CI29)/$CI29))*40) | DY29: 21 | EG29: 21 | EH29: =IF(DZ29<36,0,IF(DZ29>=72,60,IF(DZ29>=66,40,IF(DZ29>=60,30,IF(DZ29>=48,20,IF(DZ29>=36,10,0)))))) -> 0 | EI29: =IF(EA29<36,0,IF(EA29>=72,60,IF(EA29>=66,40,IF(EA29>=60,30,IF(EA29>=48,20,IF(EA29>=36,10,0)))))) -> 0 | EJ29: =IF(EB29<36,0,IF(EB29>=72,60,IF(EB29>=66,40,IF(EB29>=60,30,IF(EB29>=48,20,IF(EB29>=36,10,0)))))) -> 0 | EK29: =IF(EC29<36,0,IF(EC29>=72,60,IF(EC29>=66,40,IF(EC29>=60,30,IF(EC29>=48,20,IF(EC29>=36,10,0)))))) -> 0 | EL29: =IF(ED29<36,0,IF(ED29>=72,60,IF(ED29>=66,40,IF(ED29>=60,30,IF(ED29>=48,20,IF(ED29>=36,10,0)))))) -> 0 | EM29: =IF(EE29<36,0,IF(EE29>=72,60,IF(EE29>=66,40,IF(EE29>=60,30,IF(EE29>=48,20,IF(EE29>=36,10,0)))))) -> 0 | EN29: =IF(EF29<36,0,IF(EF29>=72,60,IF(EF29>=66,40,IF(EF29>=60,30,IF(EF29>=48,20,IF(EF29>=36,10,0)))))) -> 0 | EO29: 21 | EP29: =IF(DR29="","",(EH29+DR29)) | EQ29: =IF(DS29="","",(EI29+DS29)) | ER29: =IF(DT29="","",(EJ29+DT29)) | ES29: =IF(DU29="","",(EK29+DU29)) | ET29: =IF(DV29="","",(EL29+DV29)) | EU29: =IF(DW29="","",(EM29+DW29)) | EV29: =IF(DX29="","",(EN29+DX29)) | EW29: =MAX(EP29:EV29) -> 0 | EX29: =IF($EW29=EP29,EP$8,IF($EW29=EQ29,EQ$8,IF($EW29=ER29,ER$8,IF($EW29=ES29,ES$8,IF($EW29=ET29,ET$8,IF($EW29=EU29,EU$8,IF($EW29=EV29,EV$8,""))))))) | EY29: =IF($EW29=#REF!,#REF!,IF($EW29=#REF!,#REF!,IF($EW29=#REF!,#REF!,IF($EW29=#REF!,#REF!,IF($EW29=#REF!,#REF!,IF($EW29=#REF!,#REF!,IF($EW29=#REF!,#REF!,""))))))) -> #REF! | EZ29: =IF($EW29=#REF!,#REF!,IF($EW29=#REF!,#REF!,IF($EW29=#REF!,#REF!,IF($EW29=#REF!,#REF!,IF($EW29=#REF!,#REF!,IF($EW29=#REF!,#REF!,IF($EW29=#REF!,#REF!,""))))))) -> #REF! | FA29: =IF($EW29=#REF!,#REF!,IF($EW29=#REF!,#REF!,IF($EW29=#REF!,#REF!,IF($EW29=#REF!,#REF!,IF($EW29=#REF!,#REF!,IF($EW29=#REF!,#REF!,IF($EW29=#REF!,#REF!,""))))))) -> #REF! | FB29: =IFERROR(INDEX($EP$8:$EV$8,MATCH(EW29,EP29:EV29,0)), "DESIERTO") -> DESIERTO | FC29: =IF($EW29=EP29,EP$8,IF($EW29=EQ29,EQ$8,IF($EW29=ER29,ER$8,IF($EW29=ES29,ES$8,IF($EW29=ET29,ET$8,IF($EW29=EU29,EU$8,IF($EW29=EV29,EV$8,IF($EW29=#REF!,#REF!,IF($EW29=#REF!,#REF!,IF($EW29=#REF!,#REF!,IF($EW29=#REF!,#REF!,IF($EW29=#REF!,#REF!,IF($EW29=#REF!,#REF!,IF($EW29=#REF!,#REF!,IF($EW29=#REF!,#REF!,IF($EW29=#REF!,#REF!,IF($EW29=#REF!,#REF!,IF($EW29=#REF!,#REF!,IF($EW29=#REF!,#REF!,IF($EW29=#REF!,#REF!,IF($EW29=#REF!,#REF!,IF($EW29=#REF!,#REF!,IF($EW29=#REF!,#REF!,IF($EW29=#REF!,#REF!,IF($EW29=#REF!,#REF!,IF($EW29=#REF!,#REF!,IF($EW29=#REF!,#REF!,IF($EW29=#REF!,#REF!,"")))))))))))))))))))))))))))) -> #REF! | FD29: =IF($FC29=$I$8,$I29,IF($FC29=$J$8,$J29,IF($FC29=$K$8,$K29,IF($FC29=$L$8,$L29,IF($FC29=$M$8,$M29,IF($FC29=$N$8,$N29,IF($FC29=$O$8,$O29,""))))))) -> #REF! | FE29: =IF($FC29=#REF!,#REF!,IF($FC29=#REF!,#REF!,IF($FC29=#REF!,#REF!,IF($FC29=#REF!,#REF!,IF($FC29=#REF!,#REF!,IF($FC29=#REF!,#REF!,IF($FC29=#REF!,#REF!,""))))))) -> #REF! | FF29: =IF($FC29=#REF!,#REF!,IF($FC29=#REF!,#REF!,IF($FC29=#REF!,#REF!,IF($FC29=#REF!,#REF!,IF($FC29=#REF!,#REF!,IF($FC29=#REF!,#REF!,IF($FC29=#REF!,#REF!,""))))))) -> #REF! | FG29: =IF($FC29=#REF!,#REF!,IF($FC29=#REF!,#REF!,IF($FC29=#REF!,#REF!,IF($FC29=#REF!,#REF!,IF($FC29=#REF!,#REF!,IF($FC29=#REF!,#REF!,IF($FC29=#REF!,#REF!,""))))))) -> #REF! | FH29: =IFERROR(INDEX(I29:O29,MATCH(FB29,$I$8:$O$8,0)),"DESIERTO") -> DESIERTO | FI29: =MAX(FD29:FG29) -> #REF! | FJ29: 21 | FK29: =IFERROR(IF(FH29>0,(G29-FH29),"F"),"D") -> D | FL29: =IF(FB29="DESIERTO",G29,"ADJUDICADO") -> 20064359
B30: CIENCIA Y EDUCACION | C30: CENTRO AUDIOVISUALES Y AUDITORIOS | D30: MACARENA A OFICIAN 340 | E30: BARRA LED PROFESIONAL HEX (RGBWA+UV) | F30: 2 | G30: 5958569 | H30: 22 | P30: 22 | Q30: =IF(I30="NC","NC",IF(I30<=$G30,I30,"")) -> 0 | R30: =IF(J30="NC","NC",IF(J30<=$G30,J30,"")) -> 0 | S30: =IF(K30="NC","NC",IF(K30<=$G30,K30,"")) -> 0 | T30: =IF(L30="NC","NC",IF(L30<=$G30,L30,"")) -> 0 | U30: =IF(M30="NC","NC",IF(M30<=$G30,M30,"")) -> 0 | V30: =IF(N30="NC","NC",IF(N30<=$G30,N30,"")) -> 0 | W30: =IF(O30="NC","NC",IF(O30<=$G30,O30,"")) -> 0 | X30: 22 | Y30: NO CUMPLE | Z30: NO CUMPLE | AA30: NO CUMPLE | AB30: NO CUMPLE | AC30: NO CUMPLE | AD30: NO CUMPLE | AE30: NO CUMPLE | AF30: 22 | AG30: CUMPLE | AH30: CUMPLE | AI30: CUMPLE | AJ30: CUMPLE | AK30: CUMPLE | AL30: CUMPLE | AM30: CUMPLE | AN30: 22 | AO30: CUMPLE | AP30: CUMPLE | AQ30: CUMPLE | AR30: CUMPLE | AS30: CUMPLE | AT30: CUMPLE | AU30: CUMPLE | AV30: 22 | AW30: =IF(Y30="NO CUMPLE","NO CUMPLE",IF(AG30="NO CUMPLE","NO CUMPLE",IF(AO30="NO CUMPLE","NO CUMPLE",IF(AO30="CUMPLE","CUMPLE")))) -> NO CUMPLE | AX30: =IF(Z30="NO CUMPLE","NO CUMPLE",IF(AH30="NO CUMPLE","NO CUMPLE",IF(AP30="NO CUMPLE","NO CUMPLE",IF(AP30="CUMPLE","CUMPLE")))) -> NO CUMPLE | AY30: =IF(AA30="NO CUMPLE","NO CUMPLE",IF(AI30="NO CUMPLE","NO CUMPLE",IF(AQ30="NO CUMPLE","NO CUMPLE",IF(AQ30="CUMPLE","CUMPLE")))) -> NO CUMPLE | AZ30: =IF(AB30="NO CUMPLE","NO CUMPLE",IF(AJ30="NO CUMPLE","NO CUMPLE",IF(AR30="NO CUMPLE","NO CUMPLE",IF(AR30="CUMPLE","CUMPLE")))) -> NO CUMPLE | BA30: =IF(AC30="NO CUMPLE","NO CUMPLE",IF(AK30="NO CUMPLE","NO CUMPLE",IF(AS30="NO CUMPLE","NO CUMPLE",IF(AS30="CUMPLE","CUMPLE")))) -> NO CUMPLE | BB30: =IF(AD30="NO CUMPLE","NO CUMPLE",IF(AL30="NO CUMPLE","NO CUMPLE",IF(AT30="NO CUMPLE","NO CUMPLE",IF(AT30="CUMPLE","CUMPLE")))) -> NO CUMPLE | BC30: =IF(AE30="NO CUMPLE","NO CUMPLE",IF(AM30="NO CUMPLE","NO CUMPLE",IF(AU30="NO CUMPLE","NO CUMPLE",IF(AU30="CUMPLE","CUMPLE")))) -> NO CUMPLE | BD30: 22 | BE30: NC | BF30: NC | BG30: NC | BH30: NC | BI30: NC | BJ30: NC | BK30: NC | BL30: 22 | BM30: NC | BN30: NC | BO30: NC | BP30: NC | BQ30: NC | BR30: NC | BS30: NC | BT30: 22 | BU30: =IF(AW30="NO CUMPLE","",IF(BE30="NO CUMPLE","",IF(BM30="NO CUMPLE","",IF(BE30="NC","",IF(BM30="CUMPLE",I30))))) | BV30: =IF(AX30="NO CUMPLE","",IF(BF30="NO CUMPLE","",IF(BN30="NO CUMPLE","",IF(BF30="NC","",IF(BN30="CUMPLE",J30))))) | BW30: =IF(AY30="NO CUMPLE","",IF(BG30="NO CUMPLE","",IF(BO30="NO CUMPLE","",IF(BG30="NC","",IF(BO30="CUMPLE",K30))))) | BX30: =IF(AZ30="NO CUMPLE","",IF(BH30="NO CUMPLE","",IF(BP30="NO CUMPLE","",IF(BH30="NC","",IF(BP30="CUMPLE",L30))))) | BY30: =IF(BA30="NO CUMPLE","",IF(BI30="NO CUMPLE","",IF(BQ30="NO CUMPLE","",IF(BI30="NC","",IF(BQ30="CUMPLE",M30))))) | BZ30: =IF(BB30="NO CUMPLE","",IF(BJ30="NO CUMPLE","",IF(BR30="NO CUMPLE","",IF(BJ30="NC","",IF(BR30="CUMPLE",N30))))) | CA30: =IF(BC30="NO CUMPLE","",IF(BK30="NO CUMPLE","",IF(BS30="NO CUMPLE","",IF(BK30="NC","",IF(BS30="CUMPLE",O30))))) | CB30: 5958569 | CC30: 5958569 | CD30: =COUNT(BU30:CA30) -> 0 | CE30: =IF(CD30=2,1,IF(CD30=3,2,IF(CD30=4,3,IF(CD30>5,5,)))) -> 0 | CF30: =IFERROR(MEDIAN(BU30:CA30),"") | CG30: =IF(COUNT(BU30:CA30)=0,"",MOD(COUNT(BU30:CA30),2)) | CH30: =IF(COUNT(BU30:CA30)<2,"", IF(MOD(COUNT(BU30:CA30),2)=1,"", SMALL(BU30:CA30, COUNT(BU30:CA30)/2 ) )) | CI30: =IF(CG30=1, CF30, CH30) | CJ30: 22 | CK30: =IF(BU30="","", (1 - ABS((BU30 - $CI30)/$CI30)) * 40) | CL30: =IF(BV30="","", (1 - ABS((BV30 - $CI30)/$CI30)) * 40) | CM30: =IF(BW30="","", (1 - ABS((BW30 - $CI30)/$CI30)) * 40) | CN30: =IF(BX30="","", (1 - ABS((BX30 - $CI30)/$CI30)) * 40) | CO30: =IF(BY30="","", (1 - ABS((BY30 - $CI30)/$CI30)) * 40) | CP30: =IF(BZ30="","", (1 - ABS((BZ30 - $CI30)/$CI30)) * 40) | CQ30: =IF(CA30="","", (1 - ABS((CA30 - $CI30)/$CI30)) * 40) | CR30: 22 | CS30: =IF(BU30="","",ABS((BU30 - $CI30)/$CI30)) | CT30: =IF(BV30="","",ABS((BV30 - $CI30)/$CI30)) | CU30: =IF(BW30="","",ABS((BW30 - $CI30)/$CI30)) | CV30: =IF(BX30="","",ABS((BX30 - $CI30)/$CI30)) | CW30: =IF(BY30="","",ABS((BY30 - $CI30)/$CI30)) | CX30: =IF(BZ30="","",ABS((BZ30 - $CI30)/$CI30)) | CY30: =IF(CA30="","",ABS((CA30 - $CI30)/$CI30)) | CZ30: 22 | DA30: =IF(CK30="","",ABS(BU30-$CF30)) | DB30: =IF(CL30="","",ABS(BV30-$CF30)) | DC30: =IF(CM30="","",ABS(BW30-$CF30)) | DD30: =IF(CN30="","",ABS(BX30-$CF30)) | DE30: =IF(CO30="","",ABS(BY30-$CF30)) | DF30: =IF(CP30="","",ABS(BZ30-$CF30)) | DG30: =IF(CQ30="","",ABS(CA30-$CF30)) | DH30: 22 | DI30: =IF(BU30="","",(BU30-$CI30)^2) | DJ30: =IF(BV30="","",(BV30-$CI30)^2) | DK30: =IF(BW30="","",(BW30-$CI30)^2) | DL30: =IF(BX30="","",(BX30-$CI30)^2) | DM30: =IF(BY30="","",(BY30-$CI30)^2) | DN30: =IF(BZ30="","",(BZ30-$CI30)^2) | DO30: =IF(CA30="","",(CA30-$CI30)^2) | DP30: =MIN(DI30:DO30) -> 0 | DQ30: 22 | DR30: =IF(BU30="","", (1 - ABS((BU30-$CI30)/$CI30))*40) | DS30: =IF(BV30="","", (1 - ABS((BV30-$CI30)/$CI30))*40) | DT30: =IF(BW30="","", (1 - ABS((BW30-$CI30)/$CI30))*40) | DU30: =IF(BX30="","", (1 - ABS((BX30-$CI30)/$CI30))*40) | DV30: =IF(BY30="","", (1 - ABS((BY30-$CI30)/$CI30))*40) | DW30: =IF(BZ30="","", (1 - ABS((BZ30-$CI30)/$CI30))*40) | DX30: =IF(CA30="","", (1 - ABS((CA30-$CI30)/$CI30))*40) | DY30: 22 | EG30: 22 | EH30: =IF(DZ30<36,0,IF(DZ30>=72,60,IF(DZ30>=66,40,IF(DZ30>=60,30,IF(DZ30>=48,20,IF(DZ30>=36,10,0)))))) -> 0 | EI30: =IF(EA30<36,0,IF(EA30>=72,60,IF(EA30>=66,40,IF(EA30>=60,30,IF(EA30>=48,20,IF(EA30>=36,10,0)))))) -> 0 | EJ30: =IF(EB30<36,0,IF(EB30>=72,60,IF(EB30>=66,40,IF(EB30>=60,30,IF(EB30>=48,20,IF(EB30>=36,10,0)))))) -> 0 | EK30: =IF(EC30<36,0,IF(EC30>=72,60,IF(EC30>=66,40,IF(EC30>=60,30,IF(EC30>=48,20,IF(EC30>=36,10,0)))))) -> 0 | EL30: =IF(ED30<36,0,IF(ED30>=72,60,IF(ED30>=66,40,IF(ED30>=60,30,IF(ED30>=48,20,IF(ED30>=36,10,0)))))) -> 0 | EM30: =IF(EE30<36,0,IF(EE30>=72,60,IF(EE30>=66,40,IF(EE30>=60,30,IF(EE30>=48,20,IF(EE30>=36,10,0)))))) -> 0 | EN30: =IF(EF30<36,0,IF(EF30>=72,60,IF(EF30>=66,40,IF(EF30>=60,30,IF(EF30>=48,20,IF(EF30>=36,10,0)))))) -> 0 | EO30: 22 | EP30: =IF(DR30="","",(EH30+DR30)) | EQ30: =IF(DS30="","",(EI30+DS30)) | ER30: =IF(DT30="","",(EJ30+DT30)) | ES30: =IF(DU30="","",(EK30+DU30)) | ET30: =IF(DV30="","",(EL30+DV30)) | EU30: =IF(DW30="","",(EM30+DW30)) | EV30: =IF(DX30="","",(EN30+DX30)) | EW30: =MAX(EP30:EV30) -> 0 | EX30: =IF($EW30=EP30,EP$8,IF($EW30=EQ30,EQ$8,IF($EW30=ER30,ER$8,IF($EW30=ES30,ES$8,IF($EW30=ET30,ET$8,IF($EW30=EU30,EU$8,IF($EW30=EV30,EV$8,""))))))) | EY30: =IF($EW30=#REF!,#REF!,IF($EW30=#REF!,#REF!,IF($EW30=#REF!,#REF!,IF($EW30=#REF!,#REF!,IF($EW30=#REF!,#REF!,IF($EW30=#REF!,#REF!,IF($EW30=#REF!,#REF!,""))))))) -> #REF! | EZ30: =IF($EW30=#REF!,#REF!,IF($EW30=#REF!,#REF!,IF($EW30=#REF!,#REF!,IF($EW30=#REF!,#REF!,IF($EW30=#REF!,#REF!,IF($EW30=#REF!,#REF!,IF($EW30=#REF!,#REF!,""))))))) -> #REF! | FA30: =IF($EW30=#REF!,#REF!,IF($EW30=#REF!,#REF!,IF($EW30=#REF!,#REF!,IF($EW30=#REF!,#REF!,IF($EW30=#REF!,#REF!,IF($EW30=#REF!,#REF!,IF($EW30=#REF!,#REF!,""))))))) -> #REF! | FB30: =IFERROR(INDEX($EP$8:$EV$8,MATCH(EW30,EP30:EV30,0)), "DESIERTO") -> DESIERTO | FC30: =IF($EW30=EP30,EP$8,IF($EW30=EQ30,EQ$8,IF($EW30=ER30,ER$8,IF($EW30=ES30,ES$8,IF($EW30=ET30,ET$8,IF($EW30=EU30,EU$8,IF($EW30=EV30,EV$8,IF($EW30=#REF!,#REF!,IF($EW30=#REF!,#REF!,IF($EW30=#REF!,#REF!,IF($EW30=#REF!,#REF!,IF($EW30=#REF!,#REF!,IF($EW30=#REF!,#REF!,IF($EW30=#REF!,#REF!,IF($EW30=#REF!,#REF!,IF($EW30=#REF!,#REF!,IF($EW30=#REF!,#REF!,IF($EW30=#REF!,#REF!,IF($EW30=#REF!,#REF!,IF($EW30=#REF!,#REF!,IF($EW30=#REF!,#REF!,IF($EW30=#REF!,#REF!,IF($EW30=#REF!,#REF!,IF($EW30=#REF!,#REF!,IF($EW30=#REF!,#REF!,IF($EW30=#REF!,#REF!,IF($EW30=#REF!,#REF!,IF($EW30=#REF!,#REF!,"")))))))))))))))))))))))))))) -> #REF! | FD30: =IF($FC30=$I$8,$I30,IF($FC30=$J$8,$J30,IF($FC30=$K$8,$K30,IF($FC30=$L$8,$L30,IF($FC30=$M$8,$M30,IF($FC30=$N$8,$N30,IF($FC30=$O$8,$O30,""))))))) -> #REF! | FE30: =IF($FC30=#REF!,#REF!,IF($FC30=#REF!,#REF!,IF($FC30=#REF!,#REF!,IF($FC30=#REF!,#REF!,IF($FC30=#REF!,#REF!,IF($FC30=#REF!,#REF!,IF($FC30=#REF!,#REF!,""))))))) -> #REF! | FF30: =IF($FC30=#REF!,#REF!,IF($FC30=#REF!,#REF!,IF($FC30=#REF!,#REF!,IF($FC30=#REF!,#REF!,IF($FC30=#REF!,#REF!,IF($FC30=#REF!,#REF!,IF($FC30=#REF!,#REF!,""))))))) -> #REF! | FG30: =IF($FC30=#REF!,#REF!,IF($FC30=#REF!,#REF!,IF($FC30=#REF!,#REF!,IF($FC30=#REF!,#REF!,IF($FC30=#REF!,#REF!,IF($FC30=#REF!,#REF!,IF($FC30=#REF!,#REF!,""))))))) -> #REF! | FH30: =IFERROR(INDEX(I30:O30,MATCH(FB30,$I$8:$O$8,0)),"DESIERTO") -> DESIERTO | FI30: =MAX(FD30:FG30) -> #REF! | FJ30: 22 | FK30: =IFERROR(IF(FH30>0,(G30-FH30),"F"),"D") -> D | FL30: =IF(FB30="DESIERTO",G30,"ADJUDICADO") -> 5958569
