Workbook
Name fk: 'ASIGNACION DE PUNTAJE OPCION 2'!$R$8

Sheet ASIGNACION DE PUNTAJE OPCION 2
A2: UNIVERSIDAD DISTRITAL FRANCISCO JOSE DE CALDAS
A3: CONVOCATORIA PÚBLICA No. 006 DE 2021
A4: CONVOCATORIA PÚBLICA No. 010 DE 2025 CONTRATAR LA ADQUISICIÓN, INSTALACIÓN DE EQUIPOS ROBUSTOS Y MENORES, DESTINADOS A LAS UNIDADES ACADÉMICAS DE LABORATORIOS DE LAS DIFERENTES FACULTADES DE LA UNIVERSIDAD DISTRITAL FRANCISCO JOSÉ DE CALDAS, DE ACUERDO CON LAS CONDICIONES Y ESPECIFICACIONES TÉCNICAS ESTABLECIDAS.
I7: OFERTA ECONOMICA | Q7: OFERTA ECONOMICA HABILITADA PRECIO BASE | Y7: REQUISITOS HABILITANTES | AG7: EVALUACION JURIDICA | AO7: EVALUACION FINANCIERA | AW7: CONSOLIDADO EVALUACION HABILITANTE FINACIERA, JURIDICA Y TECNICA | BE7: EVALUACION MARCAS | BM7: EVALUACION ITEM A ITEM | BU7: OFERTAS HABILITADAS | CK7: PUNTAJE DE LA OFERTA ECONÓMICA | CS7: PORCENTAJE DE LA MEDIANA | DA7: DESVIACIÓN DE LA MEDIANA | DI7: CUADRO DE DESVIACIÓN | DR7: PUNTAJE PARCIAL | DZ7: GARANTIA EN MESES | EH7: PUNTAJE GARANTIA | EP7: PUNTAJE OFERTA ECONÓMICA | EW7: PUNTAJE MAXIMO | EX7: PRE1 | EY7: PRE2 | EZ7: PRE3 | FA7: PRE4 | FB7: OFERENTE CON MAYOR PUNTAJE 1 | FC7: OFERENTE CON MAYOR PUNTAJE | FD7: PRE1 | FE7: PRE2 | FF7: PRE3 | FG7: PRE4 | FH7: VALOR ADJUDICADO 1 | FI7: VALOR ADJUDICADO
A8: ITEM | B8: FACULTAD Y/O DEPENDENCIA | C8: LABORATORIO Y/O DEPENDENCIA DESTINO | D8: UBICACIÓN | E8: NOMBRE EQUIPO | F8: CANTIDAD | G8: PRECIO BASE | H8: ITEM | I8: 1. SUCONEL NIT: 890.943.055-0 | J8: 2. C.I. GLOBAL SCIENTIFIC S.A.S NIT.: 830.067.880 - 4 | K8: 3. GALILEO INSTRUMENTS S.A.S NIT : 900393949-4 | L8: 4. CASA HERMES LTDA NIT: 890.204.286-5 | M8: 5. GEOINSTRUMENTOS TOPOGRAFICOS SAS NIT: 900.410.611-4 | N8: 6.DIDACTICOS Y LIBROS DIDACLIBROS LTDA NIT: 800.036.678-0 | O8: 7. INSTRUMENTACIÓN Y SERVICIOS S.A.S. - NIT.: 830505910-7 | P8: ITEM | Q8: 1. SUCONEL NIT: 890.943.055-0 | R8: 2. C.I. GLOBAL SCIENTIFIC S.A.S NIT.: 830.067.880 - 4 | S8: 3. GALILEO INSTRUMENTS S.A.S NIT : 900393949-4 | T8: 4. CASA HERMES LTDA NIT: 890.204.286-5 | U8: 5. GEOINSTRUMENTOS TOPOGRAFICOS SAS NIT: 900.410.611-4 | V8: 6.DIDACTICOS Y LIBROS DIDACLIBROS LTDA NIT: 800.036.678-0 | W8: 7. INSTRUMENTACIÓN Y SERVICIOS S.A.S. - NIT.: 830505910-7 | X8: ITEM | Y8: 1. SUCONEL NIT: 890.943.055-0 | Z8: 2. C.I. GLOBAL SCIENTIFIC S.A.S NIT.: 830.067.880 - 4 | AA8: 3. GALILEO INSTRUMENTS S.A.S NIT : 900393949-4 | AB8: 4. CASA HERMES LTDA NIT: 890.204.286-5 | AC8: 5. GEOINSTRUMENTOS TOPOGRAFICOS SAS NIT: 900.410.611-4 | AD8: 6.DIDACTICOS Y LIBROS DIDACLIBROS LTDA NIT: 800.036.678-0 | AE8: 7. INSTRUMENTACIÓN Y SERVICIOS S.A.S. - NIT.: 830505910-7 | AF8: ITEM | AG8: 1. SUCONEL NIT: 890.943.055-0 | AH8: 2. C.I. GLOBAL SCIENTIFIC S.A.S NIT.: 830.067.880 - 4 | AI8: 3. GALILEO INSTRUMENTS S.A.S NIT : 900393949-4 | AJ8: 4. CASA HERMES LTDA NIT: 890.204.286-5 | AK8: 5. GEOINSTRUMENTOS TOPOGRAFICOS SAS NIT: 900.410.611-4 | AL8: 6.DIDACTICOS Y LIBROS DIDACLIBROS LTDA NIT: 800.036.678-0 | AM8: 7. INSTRUMENTACIÓN Y SERVICIOS S.A.S. - NIT.: 830505910-7 | AN8: ITEM | AO8: 1. SUCONEL NIT: 890.943.055-0 | AP8: 2. C.I. GLOBAL SCIENTIFIC S.A.S NIT.: 830.067.880 - 4 | AQ8: 3. GALILEO INSTRUMENTS S.A.S NIT : 900393949-4 | AR8: 4. CASA HERMES LTDA NIT: 890.204.286-5 | AS8: 5. GEOINSTRUMENTOS TOPOGRAFICOS SAS NIT: 900.410.611-4 | AT8: 6.DIDACTICOS Y LIBROS DIDACLIBROS LTDA NIT: 800.036.678-0 | AU8: 7. INSTRUMENTACIÓN Y SERVICIOS S.A.S. - NIT.: 830505910-7 | AV8: ITEM | AW8: 1. SUCONEL NIT: 890.943.055-0 | AX8: 2. C.I. GLOBAL SCIENTIFIC S.A.S NIT.: 830.067.880 - 4 | AY8: 3. GALILEO INSTRUMENTS S.A.S NIT : 900393949-4 | AZ8: 4. CASA HERMES LTDA NIT: 890.204.286-5 | BA8: 5. GEOINSTRUMENTOS TOPOGRAFICOS SAS NIT: 900.410.611-4 | BB8: 6.DIDACTICOS Y LIBROS DIDACLIBROS LTDA NIT: 800.036.678-0 | BC8: 7. INSTRUMENTACIÓN Y SERVICIOS S.A.S. - NIT.: 830505910-7 | BD8: ITEM | BE8: 1. SUCONEL NIT: 890.943.055-0 | BF8: 2. C.I. GLOBAL SCIENTIFIC S.A.S NIT.: 830.067.880 - 4 | BG8: 3. GALILEO INSTRUMENTS S.A.S NIT : 900393949-4 | BH8: 4. CASA HERMES LTDA NIT: 890.204.286-5 | BI8: 5. GEOINSTRUMENTOS TOPOGRAFICOS SAS NIT: 900.410.611-4 | BJ8: 6.DIDACTICOS Y LIBROS DIDACLIBROS LTDA NIT: 800.036.678-0 | BK8: 7. INSTRUMENTACIÓN Y SERVICIOS S.A.S. - NIT.: 830505910-7 | BL8: ITEM | BM8: 1. SUCONEL NIT: 890.943.055-0 | BN8: 2. C.I. GLOBAL SCIENTIFIC S.A.S NIT.: 830.067.880 - 4 | BO8: 3. GALILEO INSTRUMENTS S.A.S NIT : 900393949-4 | BP8: 4. CASA HERMES LTDA NIT: 890.204.286-5 | BQ8: 5. GEOINSTRUMENTOS TOPOGRAFICOS SAS NIT: 900.410.611-4 | BR8: 6.DIDACTICOS Y LIBROS DIDACLIBROS LTDA NIT: 800.036.678-0 | BS8: 7. INSTRUMENTACIÓN Y SERVICIOS S.A.S. - NIT.: 830505910-7 | BT8: ITEM | BU8: 1. SUCONEL NIT: 890.943.055-0 | BV8: 2. C.I. GLOBAL SCIENTIFIC S.A.S NIT.: 830.067.880 - 4 | BW8: 3. GALILEO INSTRUMENTS S.A.S NIT : 900393949-4 | BX8: 4. CASA HERMES LTDA NIT: 890.204.286-5 | BY8: 5. GEOINSTRUMENTOS TOPOGRAFICOS SAS NIT: 900.410.611-4 | BZ8: 6.DIDACTICOS Y LIBROS DIDACLIBROS LTDA NIT: 800.036.678-0 | CA8: 7. INSTRUMENTACIÓN Y SERVICIOS S.A.S. - NIT.: 830505910-7 | CB8: VB | CC8: VB | CD8: NUMERO DE PROPUESTAS HABILITADAS | CE8: NUMERO DE VECES EN QUE INTERVIENE EL PPTO | CF8: MEDIANA OFERTAS HABILITADAS | CG8: CANTIDAD PAR O IMPAR | CH8: VALOR INFERIOR A LA MEDIANA (SI PAR) | CI8: VALOR DE REFERENCIA (EL QUE RECIBE PUNTAJE MÁXIMO) | CJ8: ITEM | CK8: 1. SUCONEL NIT: 890.943.055-0 | CL8: 2. C.I. GLOBAL SCIENTIFIC S.A.S NIT.: 830.067.880 - 4 | CM8: 3. GALILEO INSTRUMENTS S.A.S NIT : 900393949-4 | CN8: 4. CASA HERMES LTDA NIT: 890.204.286-5 | CO8: 5. GEOINSTRUMENTOS TOPOGRAFICOS SAS NIT: 900.410.611-4 | CP8: 6.DIDACTICOS Y LIBROS DIDACLIBROS LTDA NIT: 800.036.678-0 | CQ8: 7. INSTRUMENTACIÓN Y SERVICIOS S.A.S. - NIT.: 830505910-7 | CR8: ITEM | CS8: 1. SUCONEL NIT: 890.943.055-0 | CT8: 2. C.I. GLOBAL SCIENTIFIC S.A.S NIT.: 830.067.880 - 4 | CU8: 3. GALILEO INSTRUMENTS S.A.S NIT : 900393949-4 | CV8: 4. CASA HERMES LTDA NIT: 890.204.286-5 | CW8: 5. GEOINSTRUMENTOS TOPOGRAFICOS SAS NIT: 900.410.611-4 | CX8: 6.DIDACTICOS Y LIBROS DIDACLIBROS LTDA NIT: 800.036.678-0 | CY8: 7. INSTRUMENTACIÓN Y SERVICIOS S.A.S. - NIT.: 830505910-7 | CZ8: ITEM | DA8: 1. SUCONEL NIT: 890.943.055-0 | DB8: 2. C.I. GLOBAL SCIENTIFIC S.A.S NIT.: 830.067.880 - 4 | DC8: 3. GALILEO INSTRUMENTS S.A.S NIT : 900393949-4 | DD8: 4. CASA HERMES LTDA NIT: 890.204.286-5 | DE8: 5. GEOINSTRUMENTOS TOPOGRAFICOS SAS NIT: 900.410.611-4 | DF8: 6.DIDACTICOS Y LIBROS DIDACLIBROS LTDA NIT: 800.036.678-0 | DG8: 7. INSTRUMENTACIÓN Y SERVICIOS S.A.S. - NIT.: 830505910-7 | DH8: ITEM | DI8: 1. SUCONEL NIT: 890.943.055-0 | DJ8: 2. C.I. GLOBAL SCIENTIFIC S.A.S NIT.: 830.067.880 - 4 | DK8: 3. GALILEO INSTRUMENTS S.A.S NIT : 900393949-4 | DL8: 4. CASA HERMES LTDA NIT: 890.204.286-5 | DM8: 5. GEOINSTRUMENTOS TOPOGRAFICOS SAS NIT: 900.410.611-4 | DN8: 6.DIDACTICOS Y LIBROS DIDACLIBROS LTDA NIT: 800.036.678-0 | DO8: 7. INSTRUMENTACIÓN Y SERVICIOS S.A.S. - NIT.: 830505910-7 | DP8: MINIMA DESVIACIÓN | DQ8: ITEM | DR8: 1. SUCONEL NIT: 890.943.055-0 | DS8: 2. C.I. GLOBAL SCIENTIFIC S.A.S NIT.: 830.067.880 - 4 | DT8: 3. GALILEO INSTRUMENTS S.A.S NIT : 900393949-4 | DU8: 4. CASA HERMES LTDA NIT: 890.204.286-5 | DV8: 5. GEOINSTRUMENTOS TOPOGRAFICOS SAS NIT: 900.410.611-4 | DW8: 6.DIDACTICOS Y LIBROS DIDACLIBROS LTDA NIT: 800.036.678-0 | DX8: 7. INSTRUMENTACIÓN Y SERVICIOS S.A.S. - NIT.: 830505910-7 | DY8: ITEM | DZ8: 1. SUCONEL NIT: 890.943.055-0 | EA8: 2. C.I. GLOBAL SCIENTIFIC S.A.S NIT.: 830.067.880 - 4 | EB8: 3. GALILEO INSTRUMENTS S.A.S NIT : 900393949-4 | EC8: 4. CASA HERMES LTDA NIT: 890.204.286-5 | ED8: 5. GEOINSTRUMENTOS TOPOGRAFICOS SAS NIT: 900.410.611-4 | EE8: 6.DIDACTICOS Y LIBROS DIDACLIBROS LTDA NIT: 800.036.678-0 | EF8: 7. INSTRUMENTACIÓN Y SERVICIOS S.A.S. - NIT.: 830505910-7 | EG8: ITEM | EH8: 1. SUCONEL NIT: 890.943.055-0 | EI8: 2. C.I. GLOBAL SCIENTIFIC S.A.S NIT.: 830.067.880 - 4 | EJ8: 3. GALILEO INSTRUMENTS S.A.S NIT : 900393949-4 | EK8: 4. CASA HERMES LTDA NIT: 890.204.286-5 | EL8: 5. GEOINSTRUMENTOS TOPOGRAFICOS SAS NIT: 900.410.611-4 | EM8: 6.DIDACTICOS Y LIBROS DIDACLIBROS LTDA NIT: 800.036.678-0 | EN8: 7. INSTRUMENTACIÓN Y SERVICIOS S.A.S. - NIT.: 830505910-7 | EO8: ITEM | EP8: 1. SUCONEL NIT: 890.943.055-0 | EQ8: 2. C.I. GLOBAL SCIENTIFIC S.A.S NIT.: 830.067.880 - 4 | ER8: 3. GALILEO INSTRUMENTS S.A.S NIT : 900393949-4 | ES8: 4. CASA HERMES LTDA NIT: 890.204.286-5 | ET8: 5. GEOINSTRUMENTOS TOPOGRAFICOS SAS NIT: 900.410.611-4 | EU8: 6.DIDACTICOS Y LIBROS DIDACLIBROS LTDA NIT: 800.036.678-0 | EV8: 7. INSTRUMENTACIÓN Y SERVICIOS S.A.S. - NIT.: 830505910-7 | FJ8: ITEM | FK8: Ahorro | FL8: DESIERTO
B9: TECNOLÓGICA | C9: LABORATORIO DE ELECTRÓNICA | D9: EDIFICIO TECHNÉ, PISO 6 | E9: CALIBRADOR DE PROCESOS PORTATIL | F9: 2 | G9: 12810395 | H9: 1 | I9: 12556404 | L9: 8636544 | O9: 12605430 | P9: 1 | Q9: =IF(I9="NC","NC",IF(I9<=$G9,I9,"")) -> 12556404 | R9: =IF(J9="NC","NC",IF(J9<=$G9,J9,"")) -> 0 | S9: =IF(K9="NC","NC",IF(K9<=$G9,K9,"")) -> 0 | T9: =IF(L9="NC","NC",IF(L9<=$G9,L9,"")) -> 8636544 | U9: =IF(M9="NC","NC",IF(M9<=$G9,M9,"")) -> 0 | V9: =IF(N9="NC","NC",IF(N9<=$G9,N9,"")) -> 0 | W9: =IF(O9="NC","NC",IF(O9<=$G9,O9,"")) -> 12605430 | X9: 1 | Y9: CUMPLE | Z9: NO CUMPLE | AA9: NO CUMPLE | AB9: CUMPLE | AC9: NO CUMPLE | AD9: NO CUMPLE | AE9: CUMPLE | AF9: 1 | AG9: CUMPLE | AH9: CUMPLE | AI9: CUMPLE | AJ9: CUMPLE | AK9: CUMPLE | AL9: CUMPLE | AM9: CUMPLE | AN9: 1 | AO9: CUMPLE | AP9: CUMPLE | AQ9: CUMPLE | AR9: CUMPLE | AS9: CUMPLE | AT9: CUMPLE | AU9: CUMPLE | AV9: 1 | AW9: =IF(Y9="NO CUMPLE","NO CUMPLE",IF(AG9="NO CUMPLE","NO CUMPLE",IF(AO9="NO CUMPLE","NO CUMPLE",IF(AO9="CUMPLE","CUMPLE")))) -> CUMPLE | AX9: =IF(Z9="NO CUMPLE","NO CUMPLE",IF(AH9="NO CUMPLE","NO CUMPLE",IF(AP9="NO CUMPLE","NO CUMPLE",IF(AP9="CUMPLE","CUMPLE")))) -> NO CUMPLE | AY9: =IF(AA9="NO CUMPLE","NO CUMPLE",IF(AI9="NO CUMPLE","NO CUMPLE",IF(AQ9="NO CUMPLE","NO CUMPLE",IF(AQ9="CUMPLE","CUMPLE")))) -> NO CUMPLE | AZ9: =IF(AB9="NO CUMPLE","NO CUMPLE",IF(AJ9="NO CUMPLE","NO CUMPLE",IF(AR9="NO CUMPLE","NO CUMPLE",IF(AR9="CUMPLE","CUMPLE")))) -> CUMPLE | BA9: =IF(AC9="NO CUMPLE","NO CUMPLE",IF(AK9="NO CUMPLE","NO CUMPLE",IF(AS9="NO CUMPLE","NO CUMPLE",IF(AS9="CUMPLE","CUMPLE")))) -> NO CUMPLE | BB9: =IF(AD9="NO CUMPLE","NO CUMPLE",IF(AL9="NO CUMPLE","NO CUMPLE",IF(AT9="NO CUMPLE","NO CUMPLE",IF(AT9="CUMPLE","CUMPLE")))) -> NO CUMPLE | BC9: =IF(AE9="NO CUMPLE","NO CUMPLE",IF(AM9="NO CUMPLE","NO CUMPLE",IF(AU9="NO CUMPLE","NO CUMPLE",IF(AU9="CUMPLE","CUMPLE")))) -> CUMPLE | BD9: 1 | BE9: CUMPLE | BF9: NC | BG9: NC | BH9: CUMPLE | BI9: NC | BJ9: NC | BK9: CUMPLE | BL9: 1 | BM9: CUMPLE | BN9: NC | BO9: NC | BP9: CUMPLE | BQ9: NC | BR9: NC | BS9: CUMPLE | BT9: 1 | BU9: =IF(AW9="NO CUMPLE","",IF(BE9="NO CUMPLE","",IF(BM9="NO CUMPLE","",IF(BE9="NC","",IF(BM9="CUMPLE",I9))))) -> 12556404 | BV9: =IF(AX9="NO CUMPLE","",IF(BF9="NO CUMPLE","",IF(BN9="NO CUMPLE","",IF(BF9="NC","",IF(BN9="CUMPLE",J9))))) | BW9: =IF(AY9="NO CUMPLE","",IF(BG9="NO CUMPLE","",IF(BO9="NO CUMPLE","",IF(BG9="NC","",IF(BO9="CUMPLE",K9))))) | BX9: =IF(AZ9="NO CUMPLE","",IF(BH9="NO CUMPLE","",IF(BP9="NO CUMPLE","",IF(BH9="NC","",IF(BP9="CUMPLE",L9))))) -> 8636544 | BY9: =IF(BA9="NO CUMPLE","",IF(BI9="NO CUMPLE","",IF(BQ9="NO CUMPLE","",IF(BI9="NC","",IF(BQ9="CUMPLE",M9))))) | BZ9: =IF(BB9="NO CUMPLE","",IF(BJ9="NO CUMPLE","",IF(BR9="NO CUMPLE","",IF(BJ9="NC","",IF(BR9="CUMPLE",N9))))) | CA9: =IF(BC9="NO CUMPLE","",IF(BK9="NO CUMPLE","",IF(BS9="NO CUMPLE","",IF(BK9="NC","",IF(BS9="CUMPLE",O9))))) -> 12605430 | CB9: 12810395 | CC9: 12810395 | CD9: =COUNT(BU9:CA9) -> 3 | CE9: =IF(CD9=2,1,IF(CD9=3,2,IF(CD9=4,3,IF(CD9>5,5,)))) -> 2 | CF9: =IFERROR(MEDIAN(BU9:CA9),"") -> 12556404 | CG9: =IF(COUNT(BU9:CA9)=0,"",MOD(COUNT(BU9:CA9),2)) -> 1 | CH9: =IF(COUNT(BU9:CA9)<2,"", IF(MOD(COUNT(BU9:CA9),2)=1,"", SMALL(BU9:CA9, COUNT(BU9:CA9)/2 ) )) | CI9: =IF(CG9=1, CF9, CH9) -> 12556404 | CJ9: 1 | CK9: =IF(BU9="","", (1 - ABS((BU9 - $CI9)/$CI9)) * 40) -> 40 | CL9: =IF(BV9="","", (1 - ABS((BV9 - $CI9)/$CI9)) * 40) | CM9: =IF(BW9="","", (1 - ABS((BW9 - $CI9)/$CI9)) * 40) | CN9: =IF(BX9="","", (1 - ABS((BX9 - $CI9)/$CI9)) * 40) -> 27.512794 | CO9: =IF(BY9="","", (1 - ABS((BY9 - $CI9)/$CI9)) * 40) | CP9: =IF(BZ9="","", (1 - ABS((BZ9 - $CI9)/$CI9)) * 40) | CQ9: =IF(CA9="","", (1 - ABS((CA9 - $CI9)/$CI9)) * 40) -> 39.843822 | CR9: 1 | CS9: =IF(BU9="","",ABS((BU9 - $CI9)/$CI9)) -> 0 | CT9: =IF(BV9="","",ABS((BV9 - $CI9)/$CI9)) | CU9: =IF(BW9="","",ABS((BW9 - $CI9)/$CI9)) | CV9: =IF(BX9="","",ABS((BX9 - $CI9)/$CI9)) -> 0.31218014 | CW9: =IF(BY9="","",ABS((BY9 - $CI9)/$CI9)) | CX9: =IF(BZ9="","",ABS((BZ9 - $CI9)/$CI9)) | CY9: =IF(CA9="","",ABS((CA9 - $CI9)/$CI9)) -> 0.0039044618 | CZ9: 1 | DA9: =IF(CK9="","",ABS(BU9-$CF9)) -> 0 | DB9: =IF(CL9="","",ABS(BV9-$CF9)) | DC9: =IF(CM9="","",ABS(BW9-$CF9)) | DD9: =IF(CN9="","",ABS(BX9-$CF9)) -> 3919860 | DE9: =IF(CO9="","",ABS(BY9-$CF9)) | DF9: =IF(CP9="","",ABS(BZ9-$CF9)) | DG9: =IF(CQ9="","",ABS(CA9-$CF9)) -> 49026 | DH9: 1 | DI9: =IF(BU9="","",(BU9-$CI9)^2) -> 0 | DJ9: =IF(BV9="","",(BV9-$CI9)^2) | DK9: =IF(BW9="","",(BW9-$CI9)^2) | DL9: =IF(BX9="","",(BX9-$CI9)^2) -> 15365302419600 | DM9: =IF(BY9="","",(BY9-$CI9)^2) | DN9: =IF(BZ9="","",(BZ9-$CI9)^2) | DO9: =IF(CA9="","",(CA9-$CI9)^2) -> 2403548676 | DP9: =MIN(DI9:DO9) -> 0 | DQ9: 1 | DR9: =IF(BU9="","", (1 - ABS((BU9-$CI9)/$CI9))*40) -> 40 | DS9: =IF(BV9="","", (1 - ABS((BV9-$CI9)/$CI9))*40) | DT9: =IF(BW9="","", (1 - ABS((BW9-$CI9)/$CI9))*40) | DU9: =IF(BX9="","", (1 - ABS((BX9-$CI9)/$CI9))*40) -> 27.512794 | DV9: =IF(BY9="","", (1 - ABS((BY9-$CI9)/$CI9))*40) | DW9: =IF(BZ9="","", (1 - ABS((BZ9-$CI9)/$CI9))*40) | DX9: =IF(CA9="","", (1 - ABS((CA9-$CI9)/$CI9))*40) -> 39.843822 | DY9: 1 | DZ9: 24 | EC9: =3*12 -> 36 | EF9: =4*12 -> 48 | EG9: 1 | EH9: =IF(DZ9<36,0,IF(DZ9>=72,60,IF(DZ9>=66,40,IF(DZ9>=60,30,IF(DZ9>=48,20,IF(DZ9>=36,10,0)))))) -> 0 | EI9: =IF(EA9<36,0,IF(EA9>=72,60,IF(EA9>=66,40,IF(EA9>=60,30,IF(EA9>=48,20,IF(EA9>=36,10,0)))))) -> 0 | EJ9: =IF(EB9<36,0,IF(EB9>=72,60,IF(EB9>=66,40,IF(EB9>=60,30,IF(EB9>=48,20,IF(EB9>=36,10,0)))))) -> 0 | EK9: =IF(EC9<36,0,IF(EC9>=72,60,IF(EC9>=66,40,IF(EC9>=60,30,IF(EC9>=48,20,IF(EC9>=36,10,0)))))) -> 10 | EL9: =IF(ED9<36,0,IF(ED9>=72,60,IF(ED9>=66,40,IF(ED9>=60,30,IF(ED9>=48,20,IF(ED9>=36,10,0)))))) -> 0 | EM9: =IF(EE9<36,0,IF(EE9>=72,60,IF(EE9>=66,40,IF(EE9>=60,30,IF(EE9>=48,20,IF(EE9>=36,10,0)))))) -> 0 | EN9: =IF(EF9<36,0,IF(EF9>=72,60,IF(EF9>=66,40,IF(EF9>=60,30,IF(EF9>=48,20,IF(EF9>=36,10,0)))))) -> 20 | EO9: 1 | EP9: =IF(DR9="","",(EH9+DR9)) -> 40 | EQ9: =IF(DS9="","",(EI9+DS9)) | ER9: =IF(DT9="","",(EJ9+DT9)) | ES9: =IF(DU9="","",(EK9+DU9)) -> 37.512794 | ET9: =IF(DV9="","",(EL9+DV9)) | EU9: =IF(DW9="","",(EM9+DW9)) | EV9: =IF(DX9="","",(EN9+DX9)) -> 59.843822 | EW9: =MAX(EP9:EV9) -> 59.843822 | EX9: =IF($EW9=EP9,EP$8,IF($EW9=EQ9,EQ$8,IF($EW9=ER9,ER$8,IF($EW9=ES9,ES$8,IF($EW9=ET9,ET$8,IF($EW9=EU9,EU$8,IF($EW9=EV9,EV$8,""))))))) -> 7. INSTRUMENTACIÓN Y SERVICIOS S.A.S. - NIT.: 830505910-7 | EY9: =IF($EW9=#REF!,#REF!,IF($EW9=#REF!,#REF!,IF($EW9=#REF!,#REF!,IF($EW9=#REF!,#REF!,IF($EW9=#REF!,#REF!,IF($EW9=#REF!,#REF!,IF($EW9=#REF!,#REF!,""))))))) -> #REF! | EZ9: =IF($EW9=#REF!,#REF!,IF($EW9=#REF!,#REF!,IF($EW9=#REF!,#REF!,IF($EW9=#REF!,#REF!,IF($EW9=#REF!,#REF!,IF($EW9=#REF!,#REF!,IF($EW9=#REF!,#REF!,""))))))) -> #REF! | FA9: =IF($EW9=#REF!,#REF!,IF($EW9=#REF!,#REF!,IF($EW9=#REF!,#REF!,IF($EW9=#REF!,#REF!,IF($EW9=#REF!,#REF!,IF($EW9=#REF!,#REF!,IF($EW9=#REF!,#REF!,""))))))) -> #REF! | FB9: =IFERROR(INDEX($EP$8:$EV$8,MATCH(EW9,EP9:EV9,0)), "DESIERTO") -> 7. INSTRUMENTACIÓN Y SERVICIOS S.A.S. - NIT.: 830505910-7 | FC9: =IF($EW9=EP9,EP$8,IF($EW9=EQ9,EQ$8,IF($EW9=ER9,ER$8,IF($EW9=ES9,ES$8,IF($EW9=ET9,ET$8,IF($EW9=EU9,EU$8,IF($EW9=EV9,EV$8,IF($EW9=#REF!,#REF!,IF($EW9=#REF!,#REF!,IF($EW9=#REF!,#REF!,IF($EW9=#REF!,#REF!,IF($EW9=#REF!,#REF!,IF($EW9=#REF!,#REF!,IF($EW9=#REF!,#REF!,IF($EW9=#REF!,#REF!,IF($EW9=#REF!,#REF!,IF($EW9=#REF!,#REF!,IF($EW9=#REF!,#REF!,IF($EW9=#REF!,#REF!,IF($EW9=#REF!,#REF!,IF($EW9=#REF!,#REF!,IF($EW9=#REF!,#REF!,IF($EW9=#REF!,#REF!,IF($EW9=#REF!,#REF!,IF($EW9=#REF!,#REF!,IF($EW9=#REF!,#REF!,IF($EW9=#REF!,#REF!,IF($EW9=#REF!,#REF!,"")))))))))))))))))))))))))))) -> 7. INSTRUMENTACIÓN Y SERVICIOS S.A.S. - NIT.: 830505910-7 | FD9: =IF($FC9=$I$8,$I9,IF($FC9=$J$8,$J9,IF($FC9=$K$8,$K9,IF($FC9=$L$8,$L9,IF($FC9=$M$8,$M9,IF($FC9=$N$8,$N9,IF($FC9=$O$8,$O9,""))))))) -> 12605430 | FE9: =IF($FC9=#REF!,#REF!,IF($FC9=#REF!,#REF!,IF($FC9=#REF!,#REF!,IF($FC9=#REF!,#REF!,IF($FC9=#REF!,#REF!,IF($FC9=#REF!,#REF!,IF($FC9=#REF!,#REF!,""))))))) -> #REF! | FF9: =IF($FC9=#REF!,#REF!,IF($FC9=#REF!,#REF!,IF($FC9=#REF!,#REF!,IF($FC9=#REF!,#REF!,IF($FC9=#REF!,#REF!,IF($FC9=#REF!,#REF!,IF($FC9=#REF!,#REF!,""))))))) -> #REF! | FG9: =IF($FC9=#REF!,#REF!,IF($FC9=#REF!,#REF!,IF($FC9=#REF!,#REF!,IF($FC9=#REF!,#REF!,IF($FC9=#REF!,#REF!,IF($FC9=#REF!,#REF!,IF($FC9=#REF!,#REF!,""))))))) -> #REF! | FH9: =IFERROR(INDEX(I9:O9,MATCH(FB9,$I$8:$O$8,0)),"DESIERTO") -> 12605430 | FI9: =MAX(FD9:FG9) -> #REF! | FJ9: 1 | FK9: =IFERROR(IF(FH9>0,(G9-FH9),"F"),"D") -> 204965 | FL9: =IF(FB9="DESIERTO",G9,"ADJUDICADO") -> ADJUDICADO
B10: TECNOLÓGICA | C10: LABORATORIO DE ELECTRÓNICA | D10: EDIFICIO TECHNÉ, PISO 6 | E10: EMPALMADORA POR FUSIÓN DE NÚCLEO PARA FIBRA ÓPTICA | F10: 1 | G10: 35165293 | H10: 2 | L10: 34422892 | P10: 2 | Q10: =IF(I10="NC","NC",IF(I10<=$G10,I10,"")) -> 0 | R10: =IF(J10="NC","NC",IF(J10<=$G10,J10,"")) -> 0 | S10: =IF(K10="NC","NC",IF(K10<=$G10,K10,"")) -> 0 | T10: =IF(L10="NC","NC",IF(L10<=$G10,L10,"")) -> 34422892 | U10: =IF(M10="NC","NC",IF(M10<=$G10,M10,"")) -> 0 | V10: =IF(N10="NC","NC",IF(N10<=$G10,N10,"")) -> 0 | W10: =IF(O10="NC","NC",IF(O10<=$G10,O10,"")) -> 0 | X10: 2 | Y10: NO CUMPLE | Z10: NO CUMPLE | AA10: NO CUMPLE | AB10: CUMPLE | AC10: NO CUMPLE | AD10: NO CUMPLE | AE10: NO CUMPLE | AF10: 2 | AG10: CUMPLE | AH10: CUMPLE | AI10: CUMPLE | AJ10: CUMPLE | AK10: CUMPLE | AL10: CUMPLE | AM10: CUMPLE | AN10: 2 | AO10: CUMPLE | AP10: CUMPLE | AQ10: CUMPLE | AR10: CUMPLE | AS10: CUMPLE | AT10: CUMPLE | AU10: CUMPLE | AV10: 2 | AW10: =IF(Y10="NO CUMPLE","NO CUMPLE",IF(AG10="NO CUMPLE","NO CUMPLE",IF(AO10="NO CUMPLE","NO CUMPLE",IF(AO10="CUMPLE","CUMPLE")))) -> NO CUMPLE | AX10: =IF(Z10="NO CUMPLE","NO CUMPLE",IF(AH10="NO CUMPLE","NO CUMPLE",IF(AP10="NO CUMPLE","NO CUMPLE",IF(AP10="CUMPLE","CUMPLE")))) -> NO CUMPLE | AY10: =IF(AA10="NO CUMPLE","NO CUMPLE",IF(AI10="NO CUMPLE","NO CUMPLE",IF(AQ10="NO CUMPLE","NO CUMPLE",IF(AQ10="CUMPLE","CUMPLE")))) -> NO CUMPLE | AZ10: =IF(AB10="NO CUMPLE","NO CUMPLE",IF(AJ10="NO CUMPLE","NO CUMPLE",IF(AR10="NO CUMPLE","NO CUMPLE",IF(AR10="CUMPLE","CUMPLE")))) -> CUMPLE | BA10: =IF(AC10="NO CUMPLE","NO CUMPLE",IF(AK10="NO CUMPLE","NO CUMPLE",IF(AS10="NO CUMPLE","NO CUMPLE",IF(AS10="CUMPLE","CUMPLE")))) -> NO CUMPLE | BB10: =IF(AD10="NO CUMPLE","NO CUMPLE",IF(AL10="NO CUMPLE","NO CUMPLE",IF(AT10="NO CUMPLE","NO CUMPLE",IF(AT10="CUMPLE","CUMPLE")))) -> NO CUMPLE | BC10: =IF(AE10="NO CUMPLE","NO CUMPLE",IF(AM10="NO CUMPLE","NO CUMPLE",IF(AU10="NO CUMPLE","NO CUMPLE",IF(AU10="CUMPLE","CUMPLE")))) -> NO CUMPLE | BD10: 2 | BE10: NC | BF10: NC | BG10: NC | BH10: CUMPLE | BI10: NC | BJ10: NC | BK10: NC | BM10: NC | BN10: NC | BO10: NC | BP10: CUMPLE | BQ10: NC | BR10: NC | BS10: NC | BT10: 2 | BU10: =IF(AW10="NO CUMPLE","",IF(BE10="NO CUMPLE","",IF(BM10="NO CUMPLE","",IF(BE10="NC","",IF(BM10="CUMPLE",I10))))) | BV10: =IF(AX10="NO CUMPLE","",IF(BF10="NO CUMPLE","",IF(BN10="NO CUMPLE","",IF(BF10="NC","",IF(BN10="CUMPLE",J10))))) | BW10: =IF(AY10="NO CUMPLE","",IF(BG10="NO CUMPLE","",IF(BO10="NO CUMPLE","",IF(BG10="NC","",IF(BO10="CUMPLE",K10))))) | BX10: =IF(AZ10="NO CUMPLE","",IF(BH10="NO CUMPLE","",IF(BP10="NO CUMPLE","",IF(BH10="NC","",IF(BP10="CUMPLE",L10))))) -> 34422892 | BY10: =IF(BA10="NO CUMPLE","",IF(BI10="NO CUMPLE","",IF(BQ10="NO CUMPLE","",IF(BI10="NC","",IF(BQ10="CUMPLE",M10))))) | BZ10: =IF(BB10="NO CUMPLE","",IF(BJ10="NO CUMPLE","",IF(BR10="NO CUMPLE","",IF(BJ10="NC","",IF(BR10="CUMPLE",N10))))) | CA10: =IF(BC10="NO CUMPLE","",IF(BK10="NO CUMPLE","",IF(BS10="NO CUMPLE","",IF(BK10="NC","",IF(BS10="CUMPLE",O10))))) | CB10: 35165293 | CC10: 35165293 | CD10: =COUNT(BU10:CA10) -> 1 | CE10: =IF(CD10=2,1,IF(CD10=3,2,IF(CD10=4,3,IF(CD10>5,5,)))) -> 0 | CF10: =IFERROR(MEDIAN(BU10:CA10),"") -> 34422892 | CG10: =IF(COUNT(BU10:CA10)=0,"",MOD(COUNT(BU10:CA10),2)) -> 1 | CH10: =IF(COUNT(BU10:CA10)<2,"", IF(MOD(COUNT(BU10:CA10),2)=1,"", SMALL(BU10:CA10, COUNT(BU10:CA10)/2 ) )) | CI10: =IF(CG10=1, CF10, CH10) -> 34422892 | CJ10: 2 | CK10: =IF(BU10="","", (1 - ABS((BU10 - $CI10)/$CI10)) * 40) | CL10: =IF(BV10="","", (1 - ABS((BV10 - $CI10)/$CI10)) * 40) | CM10: =IF(BW10="","", (1 - ABS((BW10 - $CI10)/$CI10)) * 40) | CN10: =IF(BX10="","", (1 - ABS((BX10 - $CI10)/$CI10)) * 40) -> 40 | CO10: =IF(BY10="","", (1 - ABS((BY10 - $CI10)/$CI10)) * 40) | CP10: =IF(BZ10="","", (1 - ABS((BZ10 - $CI10)/$CI10)) * 40) | CQ10: =IF(CA10="","", (1 - ABS((CA10 - $CI10)/$CI10)) * 40) | CR10: 2 | CS10: =IF(BU10="","",ABS((BU10 - $CI10)/$CI10)) | CT10: =IF(BV10="","",ABS((BV10 - $CI10)/$CI10)) | CU10: =IF(BW10="","",ABS((BW10 - $CI10)/$CI10)) | CV10: =IF(BX10="","",ABS((BX10 - $CI10)/$CI10)) -> 0 | CW10: =IF(BY10="","",ABS((BY10 - $CI10)/$CI10)) | CX10: =IF(BZ10="","",ABS((BZ10 - $CI10)/$CI10)) | CY10: =IF(CA10="","",ABS((CA10 - $CI10)/$CI10)) | CZ10: 2 | DA10: =IF(CK10="","",ABS(BU10-$CF10)) | DB10: =IF(CL10="","",ABS(BV10-$CF10)) | DC10: =IF(CM10="","",ABS(BW10-$CF10)) | DD10: =IF(CN10="","",ABS(BX10-$CF10)) -> 0 | DE10: =IF(CO10="","",ABS(BY10-$CF10)) | DF10: =IF(CP10="","",ABS(BZ10-$CF10)) | DG10: =IF(CQ10="","",ABS(CA10-$CF10)) | DH10: 2 | DI10: =IF(BU10="","",(BU10-$CI10)^2) | DJ10: =IF(BV10="","",(BV10-$CI10)^2) | DK10: =IF(BW10="","",(BW10-$CI10)^2) | DL10: =IF(BX10="","",(BX10-$CI10)^2) -> 0 | DM10: =IF(BY10="","",(BY10-$CI10)^2) | DN10: =IF(BZ10="","",(BZ10-$CI10)^2) | DO10: =IF(CA10="","",(CA10-$CI10)^2) | DP10: =MIN(DI10:DO10) -> 0 | DQ10: 2 | DR10: =IF(BU10="","", (1 - ABS((BU10-$CI10)/$CI10))*40) | DS10: =IF(BV10="","", (1 - ABS((BV10-$CI10)/$CI10))*40) | DT10: =IF(BW10="","", (1 - ABS((BW10-$CI10)/$CI10))*40) | DU10: =IF(BX10="","", (1 - ABS((BX10-$CI10)/$CI10))*40) -> 40 | DV10: =IF(BY10="","", (1 - ABS((BY10-$CI10)/$CI10))*40) | DW10: =IF(BZ10="","", (1 - ABS((BZ10-$CI10)/$CI10))*40) | DX10: =IF(CA10="","", (1 - ABS((CA10-$CI10)/$CI10))*40) | DY10: 2 | EC10: =2*12 -> 24 | EG10: 2 | EH10: =IF(DZ10<36,0,IF(DZ10>=72,60,IF(DZ10>=66,40,IF(DZ10>=60,30,IF(DZ10>=48,20,IF(DZ10>=36,10,0)))))) -> 0 | EI10: =IF(EA10<36,0,IF(EA10>=72,60,IF(EA10>=66,40,IF(EA10>=60,30,IF(EA10>=48,20,IF(EA10>=36,10,0)))))) -> 0 | EJ10: =IF(EB10<36,0,IF(EB10>=72,60,IF(EB10>=66,40,IF(EB10>=60,30,IF(EB10>=48,20,IF(EB10>=36,10,0)))))) -> 0 | EK10: =IF(EC10<36,0,IF(EC10>=72,60,IF(EC10>=66,40,IF(EC10>=60,30,IF(EC10>=48,20,IF(EC10>=36,10,0)))))) -> 0 | EL10: =IF(ED10<36,0,IF(ED10>=72,60,IF(ED10>=66,40,IF(ED10>=60,30,IF(ED10>=48,20,IF(ED10>=36,10,0)))))) -> 0 | EM10: =IF(EE10<36,0,IF(EE10>=72,60,IF(EE10>=66,40,IF(EE10>=60,30,IF(EE10>=48,20,IF(EE10>=36,10,0)))))) -> 0 | EN10: =IF(EF10<36,0,IF(EF10>=72,60,IF(EF10>=66,40,IF(EF10>=60,30,IF(EF10>=48,20,IF(EF10>=36,10,0)))))) -> 0 | EO10: 2 | EP10: =IF(DR10="","",(EH10+DR10)) | EQ10: =IF(DS10="","",(EI10+DS10)) | ER10: =IF(DT10="","",(EJ10+DT10)) | ES10: =IF(DU10="","",(EK10+DU10)) -> 40 | ET10: =IF(DV10="","",(EL10+DV10)) | EU10: =IF(DW10="","",(EM10+DW10)) | EV10: =IF(DX10="","",(EN10+DX10)) | EW10: =MAX(EP10:EV10) -> 40 | EX10: =IF($EW10=EP10,EP$8,IF($EW10=EQ10,EQ$8,IF($EW10=ER10,ER$8,IF($EW10=ES10,ES$8,IF($EW10=ET10,ET$8,IF($EW10=EU10,EU$8,IF($EW10=EV10,EV$8,""))))))) -> 4. CASA HERMES LTDA NIT: 890.204.286-5 | EY10: =IF($EW10=#REF!,#REF!,IF($EW10=#REF!,#REF!,IF($EW10=#REF!,#REF!,IF($EW10=#REF!,#REF!,IF($EW10=#REF!,#REF!,IF($EW10=#REF!,#REF!,IF($EW10=#REF!,#REF!,""))))))) -> #REF! | EZ10: =IF($EW10=#REF!,#REF!,IF($EW10=#REF!,#REF!,IF($EW10=#REF!,#REF!,IF($EW10=#REF!,#REF!,IF($EW10=#REF!,#REF!,IF($EW10=#REF!,#REF!,IF($EW10=#REF!,#REF!,""))))))) -> #REF! | FA10: =IF($EW10=#REF!,#REF!,IF($EW10=#REF!,#REF!,IF($EW10=#REF!,#REF!,IF($EW10=#REF!,#REF!,IF($EW10=#REF!,#REF!,IF($EW10=#REF!,#REF!,IF($EW10=#REF!,#REF!,""))))))) -> #REF! | FB10: =IFERROR(INDEX($EP$8:$EV$8,MATCH(EW10,EP10:EV10,0)), "DESIERTO") -> 4. CASA HERMES LTDA NIT: 890.204.286-5 | FC10: =IF($EW10=EP10,EP$8,IF($EW10=EQ10,EQ$8,IF($EW10=ER10,ER$8,IF($EW10=ES10,ES$8,IF($EW10=ET10,ET$8,IF($EW10=EU10,EU$8,IF($EW10=EV10,EV$8,IF($EW10=#REF!,#REF!,IF($EW10=#REF!,#REF!,IF($EW10=#REF!,#REF!,IF($EW10=#REF!,#REF!,IF($EW10=#REF!,#REF!,IF($EW10=#REF!,#REF!,IF($EW10=#REF!,#REF!,IF($EW10=#REF!,#REF!,IF($EW10=#REF!,#REF!,IF($EW10=#REF!,#REF!,IF($EW10=#REF!,#REF!,IF($EW10=#REF!,#REF!,IF($EW10=#REF!,#REF!,IF($EW10=#REF!,#REF!,IF($EW10=#REF!,#REF!,IF($EW10=#REF!,#REF!,IF($EW10=#REF!,#REF!,IF($EW10=#REF!,#REF!,IF($EW10=#REF!,#REF!,IF($EW10=#REF!,#REF!,IF($EW10=#REF!,#REF!,"")))))))))))))))))))))))))))) -> 4. CASA HERMES LTDA NIT: 890.204.286-5 | FD10: =IF($FC10=$I$8,$I10,IF($FC10=$J$8,$J10,IF($FC10=$K$8,$K10,IF($FC10=$L$8,$L10,IF($FC10=$M$8,$M10,IF($FC10=$N$8,$N10,IF($FC10=$O$8,$O10,""))))))) -> 34422892 | FE10: =IF($FC10=#REF!,#REF!,IF($FC10=#REF!,#REF!,IF($FC10=#REF!,#REF!,IF($FC10=#REF!,#REF!,IF($FC10=#REF!,#REF!,IF($FC10=#REF!,#REF!,IF($FC10=#REF!,#REF!,""))))))) -> #REF! | FF10: =IF($FC10=#REF!,#REF!,IF($FC10=#REF!,#REF!,IF($FC10=#REF!,#REF!,IF($FC10=#REF!,#REF!,IF($FC10=#REF!,#REF!,IF($FC10=#REF!,#REF!,IF($FC10=#REF!,#REF!,""))))))) -> #REF! | FG10: =IF($FC10=#REF!,#REF!,IF($FC10=#REF!,#REF!,IF($FC10=#REF!,#REF!,IF($FC10=#REF!,#REF!,IF($FC10=#REF!,#REF!,IF($FC10=#REF!,#REF!,IF($FC10=#REF!,#REF!,""))))))) -> #REF! | FH10: =IFERROR(INDEX(I10:O10,MATCH(FB10,$I$8:$O$8,0)),"DESIERTO") -> 34422892 | FI10: =MAX(FD10:FG10) -> #REF! | FJ10: 2 | FK10: =IFERROR(IF(FH10>0,(G10-FH10),"F"),"D") -> 742401 | FL10: =IF(FB10="DESIERTO",G10,"ADJUDICADO") -> ADJUDICADO
B11: TECNOLÓGICA | C11: LABORATORIO GESTIÓN DE LA PRODUCCIÓN INDUSTRIAL | D11: EDIFICIO TECHNE 3ER PISO, Diseño de Producto | E11: IMPRESORA 3D FILAMENTO | F11: 2 | G11: 12448678 | H11: 3 | O11: 12131236 | P11: 3 | Q11: =IF(I11="NC","NC",IF(I11<=$G11,I11,"")) -> 0 | R11: =IF(J11="NC","NC",IF(J11<=$G11,J11,"")) -> 0 | S11: =IF(K11="NC","NC",IF(K11<=$G11,K11,"")) -> 0 | T11: =IF(L11="NC","NC",IF(L11<=$G11,L11,"")) -> 0 | U11: =IF(M11="NC","NC",IF(M11<=$G11,M11,"")) -> 0 | V11: =IF(N11="NC","NC",IF(N11<=$G11,N11,"")) -> 0 | W11: =IF(O11="NC","NC",IF(O11<=$G11,O11,"")) -> 12131236 | X11: 3 | Y11: NO CUMPLE | Z11: NO CUMPLE | AA11: NO CUMPLE | AB11: NO CUMPLE | AC11: NO CUMPLE | AD11: NO CUMPLE | AE11: CUMPLE | AF11: 3 | AG11: CUMPLE | AH11: CUMPLE | AI11: CUMPLE | AJ11: CUMPLE | AK11: CUMPLE | AL11: CUMPLE | AM11: CUMPLE | AN11: 3 | AO11: CUMPLE | AP11: CUMPLE | AQ11: CUMPLE | AR11: CUMPLE | AS11: CUMPLE | AT11: CUMPLE | AU11: CUMPLE | AV11: 3 | AW11: =IF(Y11="NO CUMPLE","NO CUMPLE",IF(AG11="NO CUMPLE","NO CUMPLE",IF(AO11="NO CUMPLE","NO CUMPLE",IF(AO11="CUMPLE","CUMPLE")))) -> NO CUMPLE | AX11: =IF(Z11="NO CUMPLE","NO CUMPLE",IF(AH11="NO CUMPLE","NO CUMPLE",IF(AP11="NO CUMPLE","NO CUMPLE",IF(AP11="CUMPLE","CUMPLE")))) -> NO CUMPLE | AY11: =IF(AA11="NO CUMPLE","NO CUMPLE",IF(AI11="NO CUMPLE","NO CUMPLE",IF(AQ11="NO CUMPLE","NO CUMPLE",IF(AQ11="CUMPLE","CUMPLE")))) -> NO CUMPLE | AZ11: =IF(AB11="NO CUMPLE","NO CUMPLE",IF(AJ11="NO CUMPLE","NO CUMPLE",IF(AR11="NO CUMPLE","NO CUMPLE",IF(AR11="CUMPLE","CUMPLE")))) -> NO CUMPLE | BA11: =IF(AC11="NO CUMPLE","NO CUMPLE",IF(AK11="NO CUMPLE","NO CUMPLE",IF(AS11="NO CUMPLE","NO CUMPLE",IF(AS11="CUMPLE","CUMPLE")))) -> NO CUMPLE | BB11: =IF(AD11="NO CUMPLE","NO CUMPLE",IF(AL11="NO CUMPLE","NO CUMPLE",IF(AT11="NO CUMPLE","NO CUMPLE",IF(AT11="CUMPLE","CUMPLE")))) -> NO CUMPLE | BC11: =IF(AE11="NO CUMPLE","NO CUMPLE",IF(AM11="NO CUMPLE","NO CUMPLE",IF(AU11="NO CUMPLE","NO CUMPLE",IF(AU11="CUMPLE","CUMPLE")))) -> CUMPLE | BD11: 3 | BE11: NC | BF11: NC | BG11: NC | BH11: NC | BI11: NC | BJ11: NC | BK11: CUMPLE | BM11: NC | BN11: NC | BO11: NC | BP11: NC | BQ11: NC | BR11: NC | BS11: CUMPLE | BT11: 3 | BU11: =IF(AW11="NO CUMPLE","",IF(BE11="NO CUMPLE","",IF(BM11="NO CUMPLE","",IF(BE11="NC","",IF(BM11="CUMPLE",I11))))) | BV11: =IF(AX11="NO CUMPLE","",IF(BF11="NO CUMPLE","",IF(BN11="NO CUMPLE","",IF(BF11="NC","",IF(BN11="CUMPLE",J11))))) | BW11: =IF(AY11="NO CUMPLE","",IF(BG11="NO CUMPLE","",IF(BO11="NO CUMPLE","",IF(BG11="NC","",IF(BO11="CUMPLE",K11))))) | BX11: =IF(AZ11="NO CUMPLE","",IF(BH11="NO CUMPLE","",IF(BP11="NO CUMPLE","",IF(BH11="NC","",IF(BP11="CUMPLE",L11))))) | BY11: =IF(BA11="NO CUMPLE","",IF(BI11="NO CUMPLE","",IF(BQ11="NO CUMPLE","",IF(BI11="NC","",IF(BQ11="CUMPLE",M11))))) | BZ11: =IF(BB11="NO CUMPLE","",IF(BJ11="NO CUMPLE","",IF(BR11="NO CUMPLE","",IF(BJ11="NC","",IF(BR11="CUMPLE",N11))))) | CA11: =IF(BC11="NO CUMPLE","",IF(BK11="NO CUMPLE","",IF(BS11="NO CUMPLE","",IF(BK11="NC","",IF(BS11="CUMPLE",O11))))) -> 12131236 | CB11: 12448678 | CC11: 12448678 | CD11: =COUNT(BU11:CA11) -> 1 | CE11: =IF(CD11=2,1,IF(CD11=3,2,IF(CD11=4,3,IF(CD11>5,5,)))) -> 0 | CF11: =IFERROR(MEDIAN(BU11:CA11),"") -> 12131236 | CG11: =IF(COUNT(BU11:CA11)=0,"",MOD(COUNT(BU11:CA11),2)) -> 1 | CH11: =IF(COUNT(BU11:CA11)<2,"", IF(MOD(COUNT(BU11:CA11),2)=1,"", SMALL(BU11:CA11, COUNT(BU11:CA11)/2 ) )) | CI11: =IF(CG11=1, CF11, CH11) -> 12131236 | CJ11: 3 | CK11: =IF(BU11="","", (1 - ABS((BU11 - $CI11)/$CI11)) * 40) | CL11: =IF(BV11="","", (1 - ABS((BV11 - $CI11)/$CI11)) * 40) | CM11: =IF(BW11="","", (1 - ABS((BW11 - $CI11)/$CI11)) * 40) | CN11: =IF(BX11="","", (1 - ABS((BX11 - $CI11)/$CI11)) * 40) | CO11: =IF(BY11="","", (1 - ABS((BY11 - $CI11)/$CI11)) * 40) | CP11: =IF(BZ11="","", (1 - ABS((BZ11 - $CI11)/$CI11)) * 40) | CQ11: =IF(CA11="","", (1 - ABS((CA11 - $CI11)/$CI11)) * 40) -> 40 | CR11: 3 | CS11: =IF(BU11="","",ABS((BU11 - $CI11)/$CI11)) | CT11: =IF(BV11="","",ABS((BV11 - $CI11)/$CI11)) | CU11: =IF(BW11="","",ABS((BW11 - $CI11)/$CI11)) | CV11: =IF(BX11="","",ABS((BX11 - $CI11)/$CI11)) | CW11: =IF(BY11="","",ABS((BY11 - $CI11)/$CI11)) | CX11: =IF(BZ11="","",ABS((BZ11 - $CI11)/$CI11)) | CY11: =IF(CA11="","",ABS((CA11 - $CI11)/$CI11)) -> 0 | CZ11: 3 | DA11: =IF(CK11="","",ABS(BU11-$CF11)) | DB11: =IF(CL11="","",ABS(BV11-$CF11)) | DC11: =IF(CM11="","",ABS(BW11-$CF11)) | DD11: =IF(CN11="","",ABS(BX11-$CF11)) | DE11: =IF(CO11="","",ABS(BY11-$CF11)) | DF11: =IF(CP11="","",ABS(BZ11-$CF11)) | DG11: =IF(CQ11="","",ABS(CA11-$CF11)) -> 0 | DH11: 3 | DI11: =IF(BU11="","",(BU11-$CI11)^2) | DJ11: =IF(BV11="","",(BV11-$CI11)^2) | DK11: =IF(BW11="","",(BW11-$CI11)^2) | DL11: =IF(BX11="","",(BX11-$CI11)^2) | DM11: =IF(BY11="","",(BY11-$CI11)^2) | DN11: =IF(BZ11="","",(BZ11-$CI11)^2) | DO11: =IF(CA11="","",(CA11-$CI11)^2) -> 0 | DP11: =MIN(DI11:DO11) -> 0 | DQ11: 3 | DR11: =IF(BU11="","", (1 - ABS((BU11-$CI11)/$CI11))*40) | DS11: =IF(BV11="","", (1 - ABS((BV11-$CI11)/$CI11))*40) | DT11: =IF(BW11="","", (1 - ABS((BW11-$CI11)/$CI11))*40) | DU11: =IF(BX11="","", (1 - ABS((BX11-$CI11)/$CI11))*40) | DV11: =IF(BY11="","", (1 - ABS((BY11-$CI11)/$CI11))*40) | DW11: =IF(BZ11="","", (1 - ABS((BZ11-$CI11)/$CI11))*40) | DX11: =IF(CA11="","", (1 - ABS((CA11-$CI11)/$CI11))*40) -> 40 | DY11: 3 | EF11: =2*12 -> 24 | EG11: 3 | EH11: =IF(DZ11<36,0,IF(DZ11>=72,60,IF(DZ11>=66,40,IF(DZ11>=60,30,IF(DZ11>=48,20,IF(DZ11>=36,10,0)))))) -> 0 | EI11: =IF(EA11<36,0,IF(EA11>=72,60,IF(EA11>=66,40,IF(EA11>=60,30,IF(EA11>=48,20,IF(EA11>=36,10,0)))))) -> 0 | EJ11: =IF(EB11<36,0,IF(EB11>=72,60,IF(EB11>=66,40,IF(EB11>=60,30,IF(EB11>=48,20,IF(EB11>=36,10,0)))))) -> 0 | EK11: =IF(EC11<36,0,IF(EC11>=72,60,IF(EC11>=66,40,IF(EC11>=60,30,IF(EC11>=48,20,IF(EC11>=36,10,0)))))) -> 0 | EL11: =IF(ED11<36,0,IF(ED11>=72,60,IF(ED11>=66,40,IF(ED11>=60,30,IF(ED11>=48,20,IF(ED11>=36,10,0)))))) -> 0 | EM11: =IF(EE11<36,0,IF(EE11>=72,60,IF(EE11>=66,40,IF(EE11>=60,30,IF(EE11>=48,20,IF(EE11>=36,10,0)))))) -> 0 | EN11: =IF(EF11<36,0,IF(EF11>=72,60,IF(EF11>=66,40,IF(EF11>=60,30,IF(EF11>=48,20,IF(EF11>=36,10,0)))))) -> 0 | EO11: 3 | EP11: =IF(DR11="","",(EH11+DR11)) | EQ11: =IF(DS11="","",(EI11+DS11)) | ER11: =IF(DT11="","",(EJ11+DT11)) | ES11: =IF(DU11="","",(EK11+DU11)) | ET11: =IF(DV11="","",(EL11+DV11)) | EU11: =IF(DW11="","",(EM11+DW11)) | EV11: =IF(DX11="","",(EN11+DX11)) -> 40 | EW11: =MAX(EP11:EV11) -> 40 | EX11: =IF($EW11=EP11,EP$8,IF($EW11=EQ11,EQ$8,IF($EW11=ER11,ER$8,IF($EW11=ES11,ES$8,IF($EW11=ET11,ET$8,IF($EW11=EU11,EU$8,IF($EW11=EV11,EV$8,""))))))) -> 7. INSTRUMENTACIÓN Y SERVICIOS S.A.S. - NIT.: 830505910-7 | EY11: =IF($EW11=#REF!,#REF!,IF($EW11=#REF!,#REF!,IF($EW11=#REF!,#REF!,IF($EW11=#REF!,#REF!,IF($EW11=#REF!,#REF!,IF($EW11=#REF!,#REF!,IF($EW11=#REF!,#REF!,""))))))) -> #REF! | EZ11: =IF($EW11=#REF!,#REF!,IF($EW11=#REF!,#REF!,IF($EW11=#REF!,#REF!,IF($EW11=#REF!,#REF!,IF($EW11=#REF!,#REF!,IF($EW11=#REF!,#REF!,IF($EW11=#REF!,#REF!,""))))))) -> #REF! | FA11: =IF($EW11=#REF!,#REF!,IF($EW11=#REF!,#REF!,IF($EW11=#REF!,#REF!,IF($EW11=#REF!,#REF!,IF($EW11=#REF!,#REF!,IF($EW11=#REF!,#REF!,IF($EW11=#REF!,#REF!,""))))))) -> #REF! | FB11: =IFERROR(INDEX($EP$8:$EV$8,MATCH(EW11,EP11:EV11,0)), "DESIERTO") -> 7. INSTRUMENTACIÓN Y SERVICIOS S.A.S. - NIT.: 830505910-7 | FC11: =IF($EW11=EP11,EP$8,IF($EW11=EQ11,EQ$8,IF($EW11=ER11,ER$8,IF($EW11=ES11,ES$8,IF($EW11=ET11,ET$8,IF($EW11=EU11,EU$8,IF($EW11=EV11,EV$8,IF($EW11=#REF!,#REF!,IF($EW11=#REF!,#REF!,IF($EW11=#REF!,#REF!,IF($EW11=#REF!,#REF!,IF($EW11=#REF!,#REF!,IF($EW11=#REF!,#REF!,IF($EW11=#REF!,#REF!,IF($EW11=#REF!,#REF!,IF($EW11=#REF!,#REF!,IF($EW11=#REF!,#REF!,IF($EW11=#REF!,#REF!,IF($EW11=#REF!,#REF!,IF($EW11=#REF!,#REF!,IF($EW11=#REF!,#REF!,IF($EW11=#REF!,#REF!,IF($EW11=#REF!,#REF!,IF($EW11=#REF!,#REF!,IF($EW11=#REF!,#REF!,IF($EW11=#REF!,#REF!,IF($EW11=#REF!,#REF!,IF($EW11=#REF!,#REF!,"")))))))))))))))))))))))))))) -> 7. INSTRUMENTACIÓN Y SERVICIOS S.A.S. - NIT.: 830505910-7 | FD11: =IF($FC11=$I$8,$I11,IF($FC11=$J$8,$J11,IF($FC11=$K$8,$K11,IF($FC11=$L$8,$L11,IF($FC11=$M$8,$M11,IF($FC11=$N$8,$N11,IF($FC11=$O$8,$O11,""))))))) -> 12131236 | FE11: =IF($FC11=#REF!,#REF!,IF($FC11=#REF!,#REF!,IF($FC11=#REF!,#REF!,IF($FC11=#REF!,#REF!,IF($FC11=#REF!,#REF!,IF($FC11=#REF!,#REF!,IF($FC11=#REF!,#REF!,""))))))) -> #REF! | FF11: =IF($FC11=#REF!,#REF!,IF($FC11=#REF!,#REF!,IF($FC11=#REF!,#REF!,IF($FC11=#REF!,#REF!,IF($FC11=#REF!,#REF!,IF($FC11=#REF!,#REF!,IF($FC11=#REF!,#REF!,""))))))) -> #REF! | FG11: =IF($FC11=#REF!,#REF!,IF($FC11=#REF!,#REF!,IF($FC11=#REF!,#REF!,IF($FC11=#REF!,#REF!,IF($FC11=#REF!,#REF!,IF($FC11=#REF!,#REF!,IF($FC11=#REF!,#REF!,""))))))) -> #REF! | FH11: =IFERROR(INDEX(I11:O11,MATCH(FB11,$I$8:$O$8,0)),"DESIERTO") -> 12131236 | FI11: =MAX(FD11:FG11) -> #REF! | FJ11: 3 | FK11: =IFERROR(IF(FH11>0,(G11-FH11),"F"),"D") -> 317442 | FL11: =IF(FB11="DESIERTO",G11,"ADJUDICADO") -> ADJUDICADO
B12: TECNOLÓGICA | C12: LABORATORIOS DE ELÉCTRICA - LABORATORIO APLICADO DE MÁQUINAS ELÉCTRICAS LABORATORIOS DE ELÉCTRICA - LABORATORIO APLICADO DE CIRCUITOS, ELECTRÓNICA Y CONTROL LABORATORIOS DE ELÉCTRICA - LABORATORIO ESPECIALIZADO DE SISTEMAS ELÉCTRICOS | D12: EDIFICIO TECHNÉ, PISO 3 | E12: SONDAS DE OSCILOSCOPIO | F12: 12 | G12: 5352790 | H12: 4 | P12: 4 | Q12: =IF(I12="NC","NC",IF(I12<=$G12,I12,"")) -> 0 | R12: =IF(J12="NC","NC",IF(J12<=$G12,J12,"")) -> 0 | S12: =IF(K12="NC","NC",IF(K12<=$G12,K12,"")) -> 0 | T12: =IF(L12="NC","NC",IF(L12<=$G12,L12,"")) -> 0 | U12: =IF(M12="NC","NC",IF(M12<=$G12,M12,"")) -> 0 | V12: =IF(N12="NC","NC",IF(N12<=$G12,N12,"")) -> 0 | W12: =IF(O12="NC","NC",IF(O12<=$G12,O12,"")) -> 0 | X12: 4 | Y12: NO CUMPLE | Z12: NO CUMPLE | AA12: NO CUMPLE | AB12: NO CUMPLE | AC12: NO CUMPLE | AD12: NO CUMPLE | AE12: NO CUMPLE | AF12: 4 | AG12: CUMPLE | AH12: CUMPLE | AI12: CUMPLE | AJ12: CUMPLE | AK12: CUMPLE | AL12: CUMPLE | AM12: CUMPLE | AN12: 4 | AO12: CUMPLE | AP12: CUMPLE | AQ12: CUMPLE | AR12: CUMPLE | AS12: CUMPLE | AT12: CUMPLE | AU12: CUMPLE | AV12: 4 | AW12: =IF(Y12="NO CUMPLE","NO CUMPLE",IF(AG12="NO CUMPLE","NO CUMPLE",IF(AO12="NO CUMPLE","NO CUMPLE",IF(AO12="CUMPLE","CUMPLE")))) -> NO CUMPLE | AX12: =IF(Z12="NO CUMPLE","NO CUMPLE",IF(AH12="NO CUMPLE","NO CUMPLE",IF(AP12="NO CUMPLE","NO CUMPLE",IF(AP12="CUMPLE","CUMPLE")))) -> NO CUMPLE | AY12: =IF(AA12="NO CUMPLE","NO CUMPLE",IF(AI12="NO CUMPLE","NO CUMPLE",IF(AQ12="NO CUMPLE","NO CUMPLE",IF(AQ12="CUMPLE","CUMPLE")))) -> NO CUMPLE | AZ12: =IF(AB12="NO CUMPLE","NO CUMPLE",IF(AJ12="NO CUMPLE","NO CUMPLE",IF(AR12="NO CUMPLE","NO CUMPLE",IF(AR12="CUMPLE","CUMPLE")))) -> NO CUMPLE | BA12: =IF(AC12="NO CUMPLE","NO CUMPLE",IF(AK12="NO CUMPLE","NO CUMPLE",IF(AS12="NO CUMPLE","NO CUMPLE",IF(AS12="CUMPLE","CUMPLE")))) -> NO CUMPLE | BB12: =IF(AD12="NO CUMPLE","NO CUMPLE",IF(AL12="NO CUMPLE","NO CUMPLE",IF(AT12="NO CUMPLE","NO CUMPLE",IF(AT12="CUMPLE","CUMPLE")))) -> NO CUMPLE | BC12: =IF(AE12="NO CUMPLE","NO CUMPLE",IF(AM12="NO CUMPLE","NO CUMPLE",IF(AU12="NO CUMPLE","NO CUMPLE",IF(AU12="CUMPLE","CUMPLE")))) -> NO CUMPLE | BD12: 4 | BE12: NC | BF12: NC | BG12: NC | BH12: NC | BI12: NC | BJ12: NC | BK12: NC | BM12: NC | BN12: NC | BO12: NC | BP12: NC | BQ12: NC | BR12: NC | BS12: NC | BT12: 4 | BU12: =IF(AW12="NO CUMPLE","",IF(BE12="NO CUMPLE","",IF(BM12="NO CUMPLE","",IF(BE12="NC","",IF(BM12="CUMPLE",I12))))) | BV12: =IF(AX12="NO CUMPLE","",IF(BF12="NO CUMPLE","",IF(BN12="NO CUMPLE","",IF(BF12="NC","",IF(BN12="CUMPLE",J12))))) | BW12: =IF(AY12="NO CUMPLE","",IF(BG12="NO CUMPLE","",IF(BO12="NO CUMPLE","",IF(BG12="NC","",IF(BO12="CUMPLE",K12))))) | BX12: =IF(AZ12="NO CUMPLE","",IF(BH12="NO CUMPLE","",IF(BP12="NO CUMPLE","",IF(BH12="NC","",IF(BP12="CUMPLE",L12))))) | BY12: =IF(BA12="NO CUMPLE","",IF(BI12="NO CUMPLE","",IF(BQ12="NO CUMPLE","",IF(BI12="NC","",IF(BQ12="CUMPLE",M12))))) | BZ12: =IF(BB12="NO CUMPLE","",IF(BJ12="NO CUMPLE","",IF(BR12="NO CUMPLE","",IF(BJ12="NC","",IF(BR12="CUMPLE",N12))))) | CA12: =IF(BC12="NO CUMPLE","",IF(BK12="NO CUMPLE","",IF(BS12="NO CUMPLE","",IF(BK12="NC","",IF(BS12="CUMPLE",O12))))) | CB12: 5352790 | CC12: 5352790 | CD12: =COUNT(BU12:CA12) -> 0 | CE12: =IF(CD12=2,1,IF(CD12=3,2,IF(CD12=4,3,IF(CD12>5,5,)))) -> 0 | CF12: =IFERROR(MEDIAN(BU12:CA12),"") | CG12: =IF(COUNT(BU12:CA12)=0,"",MOD(COUNT(BU12:CA12),2)) | CH12: =IF(COUNT(BU12:CA12)<2,"", IF(MOD(COUNT(BU12:CA12),2)=1,"", SMALL(BU12:CA12, COUNT(BU12:CA12)/2 ) )) | CI12: =IF(CG12=1, CF12, CH12) | CJ12: 4 | CK12: =IF(BU12="","", (1 - ABS((BU12 - $CI12)/$CI12)) * 40) | CL12: =IF(BV12="","", (1 - ABS((BV12 - $CI12)/$CI12)) * 40) | CM12: =IF(BW12="","", (1 - ABS((BW12 - $CI12)/$CI12)) * 40) | CN12: =IF(BX12="","", (1 - ABS((BX12 - $CI12)/$CI12)) * 40) | CO12: =IF(BY12="","", (1 - ABS((BY12 - $CI12)/$CI12)) * 40) | CP12: =IF(BZ12="","", (1 - ABS((BZ12 - $CI12)/$CI12)) * 40) | CQ12: =IF(CA12="","", (1 - ABS((CA12 - $CI12)/$CI12)) * 40) | CR12: 4 | CS12: =IF(BU12="","",ABS((BU12 - $CI12)/$CI12)) | CT12: =IF(BV12="","",ABS((BV12 - $CI12)/$CI12)) | CU12: =IF(BW12="","",ABS((BW12 - $CI12)/$CI12)) | CV12: =IF(BX12="","",ABS((BX12 - $CI12)/$CI12)) | CW12: =IF(BY12="","",ABS((BY12 - $CI12)/$CI12)) | CX12: =IF(BZ12="","",ABS((BZ12 - $CI12)/$CI12)) | CY12: =IF(CA12="","",ABS((CA12 - $CI12)/$CI12)) | CZ12: 4 | DA12: =IF(CK12="","",ABS(BU12-$CF12)) | DB12: =IF(CL12="","",ABS(BV12-$CF12)) | DC12: =IF(CM12="","",ABS(BW12-$CF12)) | DD12: =IF(CN12="","",ABS(BX12-$CF12)) | DE12: =IF(CO12="","",ABS(BY12-$CF12)) | DF12: =IF(CP12="","",ABS(BZ12-$CF12)) | DG12: =IF(CQ12="","",ABS(CA12-$CF12)) | DH12: 4 | DI12: =IF(BU12="","",(BU12-$CI12)^2) | DJ12: =IF(BV12="","",(BV12-$CI12)^2) | DK12: =IF(BW12="","",(BW12-$CI12)^2) | DL12: =IF(BX12="","",(BX12-$CI12)^2) | DM12: =IF(BY12="","",(BY12-$CI12)^2) | DN12: =IF(BZ12="","",(BZ12-$CI12)^2) | DO12: =IF(CA12="","",(CA12-$CI12)^2) | DP12: =MIN(DI12:DO12) -> 0 | DQ12: 4 | DR12: =IF(BU12="","", (1 - ABS((BU12-$CI12)/$CI12))*40) | DS12: =IF(BV12="","", (1 - ABS((BV12-$CI12)/$CI12))*40) | DT12: =IF(BW12="","", (1 - ABS((BW12-$CI12)/$CI12))*40) | DU12: =IF(BX12="","", (1 - ABS((BX12-$CI12)/$CI12))*40) | DV12: =IF(BY12="","", (1 - ABS((BY12-$CI12)/$CI12))*40) | DW12: =IF(BZ12="","", (1 - ABS((BZ12-$CI12)/$CI12))*40) | DX12: =IF(CA12="","", (1 - ABS((CA12-$CI12)/$CI12))*40) | DY12: 4 | EG12: 4 | EH12: =IF(DZ12<36,0,IF(DZ12>=72,60,IF(DZ12>=66,40,IF(DZ12>=60,30,IF(DZ12>=48,20,IF(DZ12>=36,10,0)))))) -> 0 | EI12: =IF(EA12<36,0,IF(EA12>=72,60,IF(EA12>=66,40,IF(EA12>=60,30,IF(EA12>=48,20,IF(EA12>=36,10,0)))))) -> 0 | EJ12: =IF(EB12<36,0,IF(EB12>=72,60,IF(EB12>=66,40,IF(EB12>=60,30,IF(EB12>=48,20,IF(EB12>=36,10,0)))))) -> 0 | EK12: =IF(EC12<36,0,IF(EC12>=72,60,IF(EC12>=66,40,IF(EC12>=60,30,IF(EC12>=48,20,IF(EC12>=36,10,0)))))) -> 0 | EL12: =IF(ED12<36,0,IF(ED12>=72,60,IF(ED12>=66,40,IF(ED12>=60,30,IF(ED12>=48,20,IF(ED12>=36,10,0)))))) -> 0 | EM12: =IF(EE12<36,0,IF(EE12>=72,60,IF(EE12>=66,40,IF(EE12>=60,30,IF(EE12>=48,20,IF(EE12>=36,10,0)))))) -> 0 | EN12: =IF(EF12<36,0,IF(EF12>=72,60,IF(EF12>=66,40,IF(EF12>=60,30,IF(EF12>=48,20,IF(EF12>=36,10,0)))))) -> 0 | EO12: 4 | EP12: =IF(DR12="","",(EH12+DR12)) | EQ12: =IF(DS12="","",(EI12+DS12)) | ER12: =IF(DT12="","",(EJ12+DT12)) | ES12: =IF(DU12="","",(EK12+DU12)) | ET12: =IF(DV12="","",(EL12+DV12)) | EU12: =IF(DW12="","",(EM12+DW12)) | EV12: =IF(DX12="","",(EN12+DX12)) | EW12: =MAX(EP12:EV12) -> 0 | EX12: =IF($EW12=EP12,EP$8,IF($EW12=EQ12,EQ$8,IF($EW12=ER12,ER$8,IF($EW12=ES12,ES$8,IF($EW12=ET12,ET$8,IF($EW12=EU12,EU$8,IF($EW12=EV12,EV$8,""))))))) | EY12: =IF($EW12=#REF!,#REF!,IF($EW12=#REF!,#REF!,IF($EW12=#REF!,#REF!,IF($EW12=#REF!,#REF!,IF($EW12=#REF!,#REF!,IF($EW12=#REF!,#REF!,IF($EW12=#REF!,#REF!,""))))))) -> #REF! | EZ12: =IF($EW12=#REF!,#REF!,IF($EW12=#REF!,#REF!,IF($EW12=#REF!,#REF!,IF($EW12=#REF!,#REF!,IF($EW12=#REF!,#REF!,IF($EW12=#REF!,#REF!,IF($EW12=#REF!,#REF!,""))))))) -> #REF! | FA12: =IF($EW12=#REF!,#REF!,IF($EW12=#REF!,#REF!,IF($EW12=#REF!,#REF!,IF($EW12=#REF!,#REF!,IF($EW12=#REF!,#REF!,IF($EW12=#REF!,#REF!,IF($EW12=#REF!,#REF!,""))))))) -> #REF! | FB12: =IFERROR(INDEX($EP$8:$EV$8,MATCH(EW12,EP12:EV12,0)), "DESIERTO") -> DESIERTO | FC12: =IF($EW12=EP12,EP$8,IF($EW12=EQ12,EQ$8,IF($EW12=ER12,ER$8,IF($EW12=ES12,ES$8,IF($EW12=ET12,ET$8,IF($EW12=EU12,EU$8,IF($EW12=EV12,EV$8,IF($EW12=#REF!,#REF!,IF($EW12=#REF!,#REF!,IF($EW12=#REF!,#REF!,IF($EW12=#REF!,#REF!,IF($EW12=#REF!,#REF!,IF($EW12=#REF!,#REF!,IF($EW12=#REF!,#REF!,IF($EW12=#REF!,#REF!,IF($EW12=#REF!,#REF!,IF($EW12=#REF!,#REF!,IF($EW12=#REF!,#REF!,IF($EW12=#REF!,#REF!,IF($EW12=#REF!,#REF!,IF($EW12=#REF!,#REF!,IF($EW12=#REF!,#REF!,IF($EW12=#REF!,#REF!,IF($EW12=#REF!,#REF!,IF($EW12=#REF!,#REF!,IF($EW12=#REF!,#REF!,IF($EW12=#REF!,#REF!,IF($EW12=#REF!,#REF!,"")))))))))))))))))))))))))))) -> #REF! | FD12: =IF($FC12=$I$8,$I12,IF($FC12=$J$8,$J12,IF($FC12=$K$8,$K12,IF($FC12=$L$8,$L12,IF($FC12=$M$8,$M12,IF($FC12=$N$8,$N12,IF($FC12=$O$8,$O12,""))))))) -> #REF! | FE12: =IF($FC12=#REF!,#REF!,IF($FC12=#REF!,#REF!,IF($FC12=#REF!,#REF!,IF($FC12=#REF!,#REF!,IF($FC12=#REF!,#REF!,IF($FC12=#REF!,#REF!,IF($FC12=#REF!,#REF!,""))))))) -> #REF! | FF12: =IF($FC12=#REF!,#REF!,IF($FC12=#REF!,#REF!,IF($FC12=#REF!,#REF!,IF($FC12=#REF!,#REF!,IF($FC12=#REF!,#REF!,IF($FC12=#REF!,#REF!,IF($FC12=#REF!,#REF!,""))))))) -> #REF! | FG12: =IF($FC12=#REF!,#REF!,IF($FC12=#REF!,#REF!,IF($FC12=#REF!,#REF!,IF($FC12=#REF!,#REF!,IF($FC12=#REF!,#REF!,IF($FC12=#REF!,#REF!,IF($FC12=#REF!,#REF!,""))))))) -> #REF! | FH12: =IFERROR(INDEX(I12:O12,MATCH(FB12,$I$8:$O$8,0)),"DESIERTO") -> DESIERTO | FI12: =MAX(FD12:FG12) -> #REF! | FJ12: 4 | FK12: =IFERROR(IF(FH12>0,(G12-FH12),"F"),"D") -> D | FL12: =IF(FB12="DESIERTO",G12,"ADJUDICADO") -> 5352790
B13: TECNOLÓGICA | C13: LABORATORIOS DE ELÉCTRICA - LABORATORIO ESPECIALIZADO DE SISTEMAS ELÉCTRICOS LABORATORIOS DE ELÉCTRICA - LABORATORIO ESPECIALIZADO DE SISTEMAS DE POTENCIA Y SMART GRID | D13: EDIFICIO TECHNÉ, PISO 3 | E13: MULTÍMETRO DIGITAL TRUE RMS | F13: 10 | G13: 40227871 | H13: 5 | I13: 32115720 | L13: 33377120 | O13: 39584220 | P13: 5 | Q13: =IF(I13="NC","NC",IF(I13<=$G13,I13,"")) -> 32115720 | R13: =IF(J13="NC","NC",IF(J13<=$G13,J13,"")) -> 0 | S13: =IF(K13="NC","NC",IF(K13<=$G13,K13,"")) -> 0 | T13: =IF(L13="NC","NC",IF(L13<=$G13,L13,"")) -> 33377120 | U13: =IF(M13="NC","NC",IF(M13<=$G13,M13,"")) -> 0 | V13: =IF(N13="NC","NC",IF(N13<=$G13,N13,"")) -> 0 | W13: =IF(O13="NC","NC",IF(O13<=$G13,O13,"")) -> 39584220 | X13: 5 | Y13: CUMPLE | Z13: NO CUMPLE | AA13: NO CUMPLE | AB13: CUMPLE | AC13: NO CUMPLE | AD13: NO CUMPLE | AE13: CUMPLE | AF13: 5 | AG13: CUMPLE | AH13: CUMPLE | AI13: CUMPLE | AJ13: CUMPLE | AK13: CUMPLE | AL13: CUMPLE | AM13: CUMPLE | AN13: 5 | AO13: CUMPLE | AP13: CUMPLE | AQ13: CUMPLE | AR13: CUMPLE | AS13: CUMPLE | AT13: CUMPLE | AU13: CUMPLE | AV13: 5 | AW13: =IF(Y13="NO CUMPLE","NO CUMPLE",IF(AG13="NO CUMPLE","NO CUMPLE",IF(AO13="NO CUMPLE","NO CUMPLE",IF(AO13="CUMPLE","CUMPLE")))) -> CUMPLE | AX13: =IF(Z13="NO CUMPLE","NO CUMPLE",IF(AH13="NO CUMPLE","NO CUMPLE",IF(AP13="NO CUMPLE","NO CUMPLE",IF(AP13="CUMPLE","CUMPLE")))) -> NO CUMPLE | AY13: =IF(AA13="NO CUMPLE","NO CUMPLE",IF(AI13="NO CUMPLE","NO CUMPLE",IF(AQ13="NO CUMPLE","NO CUMPLE",IF(AQ13="CUMPLE","CUMPLE")))) -> NO CUMPLE | AZ13: =IF(AB13="NO CUMPLE","NO CUMPLE",IF(AJ13="NO CUMPLE","NO CUMPLE",IF(AR13="NO CUMPLE","NO CUMPLE",IF(AR13="CUMPLE","CUMPLE")))) -> CUMPLE | BA13: =IF(AC13="NO CUMPLE","NO CUMPLE",IF(AK13="NO CUMPLE","NO CUMPLE",IF(AS13="NO CUMPLE","NO CUMPLE",IF(AS13="CUMPLE","CUMPLE")))) -> NO CUMPLE | BB13: =IF(AD13="NO CUMPLE","NO CUMPLE",IF(AL13="NO CUMPLE","NO CUMPLE",IF(AT13="NO CUMPLE","NO CUMPLE",IF(AT13="CUMPLE","CUMPLE")))) -> NO CUMPLE | BC13: =IF(AE13="NO CUMPLE","NO CUMPLE",IF(AM13="NO CUMPLE","NO CUMPLE",IF(AU13="NO CUMPLE","NO CUMPLE",IF(AU13="CUMPLE","CUMPLE")))) -> CUMPLE | BD13: 5 | BE13: CUMPLE | BF13: NC | BG13: NC | BH13: CUMPLE | BI13: NC | BJ13: NC | BK13: CUMPLE | BL13: 5 | BM13: CUMPLE | BN13: NC | BO13: NC | BP13: CUMPLE | BQ13: NC | BR13: NC | BS13: CUMPLE | BT13: 5 | BU13: =IF(AW13="NO CUMPLE","",IF(BE13="NO CUMPLE","",IF(BM13="NO CUMPLE","",IF(BE13="NC","",IF(BM13="CUMPLE",I13))))) -> 32115720 | BV13: =IF(AX13="NO CUMPLE","",IF(BF13="NO CUMPLE","",IF(BN13="NO CUMPLE","",IF(BF13="NC","",IF(BN13="CUMPLE",J13))))) | BW13: =IF(AY13="NO CUMPLE","",IF(BG13="NO CUMPLE","",IF(BO13="NO CUMPLE","",IF(BG13="NC","",IF(BO13="CUMPLE",K13))))) | BX13: =IF(AZ13="NO CUMPLE","",IF(BH13="NO CUMPLE","",IF(BP13="NO CUMPLE","",IF(BH13="NC","",IF(BP13="CUMPLE",L13))))) -> 33377120 | BY13: =IF(BA13="NO CUMPLE","",IF(BI13="NO CUMPLE","",IF(BQ13="NO CUMPLE","",IF(BI13="NC","",IF(BQ13="CUMPLE",M13))))) | BZ13: =IF(BB13="NO CUMPLE","",IF(BJ13="NO CUMPLE","",IF(BR13="NO CUMPLE","",IF(BJ13="NC","",IF(BR13="CUMPLE",N13))))) | CA13: =IF(BC13="NO CUMPLE","",IF(BK13="NO CUMPLE","",IF(BS13="NO CUMPLE","",IF(BK13="NC","",IF(BS13="CUMPLE",O13))))) -> 39584220 | CB13: 40227871 | CC13: 40227871 | CD13: =COUNT(BU13:CA13) -> 3 | CE13: =IF(CD13=2,1,IF(CD13=3,2,IF(CD13=4,3,IF(CD13>5,5,)))) -> 2 | CF13: =IFERROR(MEDIAN(BU13:CA13),"") -> 33377120 | CG13: =IF(COUNT(BU13:CA13)=0,"",MOD(COUNT(BU13:CA13),2)) -> 1 | CH13: =IF(COUNT(BU13:CA13)<2,"", IF(MOD(COUNT(BU13:CA13),2)=1,"", SMALL(BU13:CA13, COUNT(BU13:CA13)/2 ) )) | CI13: =IF(CG13=1, CF13, CH13) -> 33377120 | CJ13: 5 | CK13: =IF(BU13="","", (1 - ABS((BU13 - $CI13)/$CI13)) * 40) -> 38.488306 | CL13: =IF(BV13="","", (1 - ABS((BV13 - $CI13)/$CI13)) * 40) | CM13: =IF(BW13="","", (1 - ABS((BW13 - $CI13)/$CI13)) * 40) | CN13: =IF(BX13="","", (1 - ABS((BX13 - $CI13)/$CI13)) * 40) -> 40 | CO13: =IF(BY13="","", (1 - ABS((BY13 - $CI13)/$CI13)) * 40) | CP13: =IF(BZ13="","", (1 - ABS((BZ13 - $CI13)/$CI13)) * 40) | CQ13: =IF(CA13="","", (1 - ABS((CA13 - $CI13)/$CI13)) * 40) -> 32.561252 | CR13: 5 | CS13: =IF(BU13="","",ABS((BU13 - $CI13)/$CI13)) -> 0.037792356 | CT13: =IF(BV13="","",ABS((BV13 - $CI13)/$CI13)) | CU13: =IF(BW13="","",ABS((BW13 - $CI13)/$CI13)) | CV13: =IF(BX13="","",ABS((BX13 - $CI13)/$CI13)) -> 0 | CW13: =IF(BY13="","",ABS((BY13 - $CI13)/$CI13)) | CX13: =IF(BZ13="","",ABS((BZ13 - $CI13)/$CI13)) | CY13: =IF(CA13="","",ABS((CA13 - $CI13)/$CI13)) -> 0.18596871 | CZ13: 5 | DA13: =IF(CK13="","",ABS(BU13-$CF13)) -> 1261400 | DB13: =IF(CL13="","",ABS(BV13-$CF13)) | DC13: =IF(CM13="","",ABS(BW13-$CF13)) | DD13: =IF(CN13="","",ABS(BX13-$CF13)) -> 0 | DE13: =IF(CO13="","",ABS(BY13-$CF13)) | DF13: =IF(CP13="","",ABS(BZ13-$CF13)) | DG13: =IF(CQ13="","",ABS(CA13-$CF13)) -> 6207100 | DH13: 5 | DI13: =IF(BU13="","",(BU13-$CI13)^2) -> 1591129960000 | DJ13: =IF(BV13="","",(BV13-$CI13)^2) | DK13: =IF(BW13="","",(BW13-$CI13)^2) | DL13: =IF(BX13="","",(BX13-$CI13)^2) -> 0 | DM13: =IF(BY13="","",(BY13-$CI13)^2) | DN13: =IF(BZ13="","",(BZ13-$CI13)^2) | DO13: =IF(CA13="","",(CA13-$CI13)^2) -> 38528090410000 | DP13: =MIN(DI13:DO13) -> 0 | DQ13: 5 | DR13: =IF(BU13="","", (1 - ABS((BU13-$CI13)/$CI13))*40) -> 38.488306 | DS13: =IF(BV13="","", (1 - ABS((BV13-$CI13)/$CI13))*40) | DT13: =IF(BW13="","", (1 - ABS((BW13-$CI13)/$CI13))*40) | DU13: =IF(BX13="","", (1 - ABS((BX13-$CI13)/$CI13))*40) -> 40 | DV13: =IF(BY13="","", (1 - ABS((BY13-$CI13)/$CI13))*40) | DW13: =IF(BZ13="","", (1 - ABS((BZ13-$CI13)/$CI13))*40) | DX13: =IF(CA13="","", (1 - ABS((CA13-$CI13)/$CI13))*40) -> 32.561252 | DY13: 5 | DZ13: =4*12 -> 48 | EC13: =4*12 -> 48 | EF13: =4*12 -> 48 | EG13: 5 | EH13: =IF(DZ13<36,0,IF(DZ13>=72,60,IF(DZ13>=66,40,IF(DZ13>=60,30,IF(DZ13>=48,20,IF(DZ13>=36,10,0)))))) -> 20 | EI13: =IF(EA13<36,0,IF(EA13>=72,60,IF(EA13>=66,40,IF(EA13>=60,30,IF(EA13>=48,20,IF(EA13>=36,10,0)))))) -> 0 | EJ13: =IF(EB13<36,0,IF(EB13>=72,60,IF(EB13>=66,40,IF(EB13>=60,30,IF(EB13>=48,20,IF(EB13>=36,10,0)))))) -> 0 | EK13: =IF(EC13<36,0,IF(EC13>=72,60,IF(EC13>=66,40,IF(EC13>=60,30,IF(EC13>=48,20,IF(EC13>=36,10,0)))))) -> 20 | EL13: =IF(ED13<36,0,IF(ED13>=72,60,IF(ED13>=66,40,IF(ED13>=60,30,IF(ED13>=48,20,IF(ED13>=36,10,0)))))) -> 0 | EM13: =IF(EE13<36,0,IF(EE13>=72,60,IF(EE13>=66,40,IF(EE13>=60,30,IF(EE13>=48,20,IF(EE13>=36,10,0)))))) -> 0 | EN13: =IF(EF13<36,0,IF(EF13>=72,60,IF(EF13>=66,40,IF(EF13>=60,30,IF(EF13>=48,20,IF(EF13>=36,10,0)))))) -> 20 | EO13: 5 | EP13: =IF(DR13="","",(EH13+DR13)) -> 58.488306 | EQ13: =IF(DS13="","",(EI13+DS13)) | ER13: =IF(DT13="","",(EJ13+DT13)) | ES13: =IF(DU13="","",(EK13+DU13)) -> 60 | ET13: =IF(DV13="","",(EL13+DV13)) | EU13: =IF(DW13="","",(EM13+DW13)) | EV13: =IF(DX13="","",(EN13+DX13)) -> 52.561252 | EW13: =MAX(EP13:EV13) -> 60 | EX13: =IF($EW13=EP13,EP$8,IF($EW13=EQ13,EQ$8,IF($EW13=ER13,ER$8,IF($EW13=ES13,ES$8,IF($EW13=ET13,ET$8,IF($EW13=EU13,EU$8,IF($EW13=EV13,EV$8,""))))))) -> 4. CASA HERMES LTDA NIT: 890.204.286-5 | EY13: =IF($EW13=#REF!,#REF!,IF($EW13=#REF!,#REF!,IF($EW13=#REF!,#REF!,IF($EW13=#REF!,#REF!,IF($EW13=#REF!,#REF!,IF($EW13=#REF!,#REF!,IF($EW13=#REF!,#REF!,""))))))) -> #REF! | EZ13: =IF($EW13=#REF!,#REF!,IF($EW13=#REF!,#REF!,IF($EW13=#REF!,#REF!,IF($EW13=#REF!,#REF!,IF($EW13=#REF!,#REF!,IF($EW13=#REF!,#REF!,IF($EW13=#REF!,#REF!,""))))))) -> #REF! | FA13: =IF($EW13=#REF!,#REF!,IF($EW13=#REF!,#REF!,IF($EW13=#REF!,#REF!,IF($EW13=#REF!,#REF!,IF($EW13=#REF!,#REF!,IF($EW13=#REF!,#REF!,IF($EW13=#REF!,#REF!,""))))))) -> #REF! | FB13: =IFERROR(INDEX($EP$8:$EV$8,MATCH(EW13,EP13:EV13,0)), "DESIERTO") -> 4. CASA HERMES LTDA NIT: 890.204.286-5 | FC13: =IF($EW13=EP13,EP$8,IF($EW13=EQ13,EQ$8,IF($EW13=ER13,ER$8,IF($EW13=ES13,ES$8,IF($EW13=ET13,ET$8,IF($EW13=EU13,EU$8,IF($EW13=EV13,EV$8,IF($EW13=#REF!,#REF!,IF($EW13=#REF!,#REF!,IF($EW13=#REF!,#REF!,IF($EW13=#REF!,#REF!,IF($EW13=#REF!,#REF!,IF($EW13=#REF!,#REF!,IF($EW13=#REF!,#REF!,IF($EW13=#REF!,#REF!,IF($EW13=#REF!,#REF!,IF($EW13=#REF!,#REF!,IF($EW13=#REF!,#REF!,IF($EW13=#REF!,#REF!,IF($EW13=#REF!,#REF!,IF($EW13=#REF!,#REF!,IF($EW13=#REF!,#REF!,IF($EW13=#REF!,#REF!,IF($EW13=#REF!,#REF!,IF($EW13=#REF!,#REF!,IF($EW13=#REF!,#REF!,IF($EW13=#REF!,#REF!,IF($EW13=#REF!,#REF!,"")))))))))))))))))))))))))))) -> 4. CASA HERMES LTDA NIT: 890.204.286-5 | FD13: =IF($FC13=$I$8,$I13,IF($FC13=$J$8,$J13,IF($FC13=$K$8,$K13,IF($FC13=$L$8,$L13,IF($FC13=$M$8,$M13,IF($FC13=$N$8,$N13,IF($FC13=$O$8,$O13,""))))))) -> 33377120 | FE13: =IF($FC13=#REF!,#REF!,IF($FC13=#REF!,#REF!,IF($FC13=#REF!,#REF!,IF($FC13=#REF!,#REF!,IF($FC13=#REF!,#REF!,IF($FC13=#REF!,#REF!,IF($FC13=#REF!,#REF!,""))))))) -> #REF! | FF13: =IF($FC13=#REF!,#REF!,IF($FC13=#REF!,#REF!,IF($FC13=#REF!,#REF!,IF($FC13=#REF!,#REF!,IF($FC13=#REF!,#REF!,IF($FC13=#REF!,#REF!,IF($FC13=#REF!,#REF!,""))))))) -> #REF! | FG13: =IF($FC13=#REF!,#REF!,IF($FC13=#REF!,#REF!,IF($FC13=#REF!,#REF!,IF($FC13=#REF!,#REF!,IF($FC13=#REF!,#REF!,IF($FC13=#REF!,#REF!,IF($FC13=#REF!,#REF!,""))))))) -> #REF! | FH13: =IFERROR(INDEX(I13:O13,MATCH(FB13,$I$8:$O$8,0)),"DESIERTO") -> 33377120 | FI13: =MAX(FD13:FG13) -> #REF! | FJ13: 5 | FK13: =IFERROR(IF(FH13>0,(G13-FH13),"F"),"D") -> 6850751 | FL13: =IF(FB13="DESIERTO",G13,"ADJUDICADO") -> ADJUDICADO
